BEGIN:VCALENDAR
VERSION:2.0
PRODID:-//ARC - ECPv6.15.20//NONSGML v1.0//EN
CALSCALE:GREGORIAN
METHOD:PUBLISH
X-ORIGINAL-URL:https://arc-hss.ca
X-WR-CALDESC:Events for ARC
REFRESH-INTERVAL;VALUE=DURATION:PT1H
X-Robots-Tag:noindex
X-PUBLISHED-TTL:PT1H
BEGIN:VTIMEZONE
TZID:America/New_York
BEGIN:DAYLIGHT
TZOFFSETFROM:-0500
TZOFFSETTO:-0400
TZNAME:EDT
DTSTART:20230312T070000
END:DAYLIGHT
BEGIN:STANDARD
TZOFFSETFROM:-0400
TZOFFSETTO:-0500
TZNAME:EST
DTSTART:20231105T060000
END:STANDARD
BEGIN:DAYLIGHT
TZOFFSETFROM:-0500
TZOFFSETTO:-0400
TZNAME:EDT
DTSTART:20240310T070000
END:DAYLIGHT
BEGIN:STANDARD
TZOFFSETFROM:-0400
TZOFFSETTO:-0500
TZNAME:EST
DTSTART:20241103T060000
END:STANDARD
BEGIN:DAYLIGHT
TZOFFSETFROM:-0500
TZOFFSETTO:-0400
TZNAME:EDT
DTSTART:20250309T070000
END:DAYLIGHT
BEGIN:STANDARD
TZOFFSETFROM:-0400
TZOFFSETTO:-0500
TZNAME:EST
DTSTART:20251102T060000
END:STANDARD
BEGIN:DAYLIGHT
TZOFFSETFROM:-0500
TZOFFSETTO:-0400
TZNAME:EDT
DTSTART:20260308T070000
END:DAYLIGHT
BEGIN:STANDARD
TZOFFSETFROM:-0400
TZOFFSETTO:-0500
TZNAME:EST
DTSTART:20261101T060000
END:STANDARD
BEGIN:DAYLIGHT
TZOFFSETFROM:-0500
TZOFFSETTO:-0400
TZNAME:EDT
DTSTART:20270314T070000
END:DAYLIGHT
BEGIN:STANDARD
TZOFFSETFROM:-0400
TZOFFSETTO:-0500
TZNAME:EST
DTSTART:20271107T060000
END:STANDARD
END:VTIMEZONE
BEGIN:VEVENT
DTSTART;TZID=America/New_York:20260420T140000
DTEND;TZID=America/New_York:20260420T153000
DTSTAMP:20260423T111133
CREATED:20260223T210011Z
LAST-MODIFIED:20260327T193052Z
UID:10021429-1776693600-1776699000@arc-hss.ca
SUMMARY:Ilana’s Virtual Drawing Class ~ ZOOM
DESCRIPTION:Discover your creative side with our welcoming art group! Come draw and paint alongside fellow artists in a relaxed\, supportive environment. All skill levels are encouraged to join\, whether you are just starting out or have years of experience. Create\, connect\, and get inspired together. Everyone is welcome! To register for the Zoom class\, email info@arc-hss.ca
URL:https://arc-hss.ca/event/ilanas-virtual-drawing-class-zoom-2-2-2/2026-04-20/
LOCATION:Zoom
ATTACH;FMTTYPE=image/png:https://arc-hss.ca/wp-content/uploads/2026/02/Ilanas-Drawing-In-person-April.png
ORGANIZER;CN="Assistance & Referral Centre (ARC)":MAILTO:info@arc-hss.ca
END:VEVENT
BEGIN:VEVENT
DTSTART;TZID=America/New_York:20260416T140000
DTEND;TZID=America/New_York:20260416T150000
DTSTAMP:20260423T111133
CREATED:20260106T030740Z
LAST-MODIFIED:20260327T160023Z
UID:10021436-1776348000-1776351600@arc-hss.ca
SUMMARY:Linda's Gentle Yoga ~ ZOOM
DESCRIPTION:Take a break and unwind with Gentle Yoga on Zoom. This calming session is suitable for all levels and focuses on stretching\, breathing\, and relaxation. For more information or to register\, please email info@arc-hss.ca
URL:https://arc-hss.ca/event/lindas-gentle-yoga-zoom-2-2/2026-04-16/
LOCATION:Zoom
ATTACH;FMTTYPE=image/png:https://arc-hss.ca/wp-content/uploads/2025/01/Gentle-Yoga-on-Zoom-Feb-2025.png
ORGANIZER;CN="Assistance & Referral Centre (ARC)":MAILTO:info@arc-hss.ca
END:VEVENT
BEGIN:VEVENT
DTSTART;TZID=America/New_York:20260415T100000
DTEND;TZID=America/New_York:20260415T113000
DTSTAMP:20260423T111133
CREATED:20250501T154423Z
LAST-MODIFIED:20260331T161730Z
UID:10020156-1776247200-1776252600@arc-hss.ca
SUMMARY:SHARP - Moving Into Care: What to Expect and How to Prepare ~ ZOOM
DESCRIPTION:A virtual presentation\, Service for Aging in the Right Place (SHARP)\, will take place on April 15 from 10:00 to 11:30 a.m. via Zoom. The April topic will be Moving Into Care: What to Expect and How to Prepare. This presentation is offered by the CHSSN. To register\, click here. \n 
URL:https://arc-hss.ca/event/sharp-driving-safely-zoom/
LOCATION:Zoom
ATTACH;FMTTYPE=image/png:https://arc-hss.ca/wp-content/uploads/2025/05/SHARP-April.png
END:VEVENT
BEGIN:VEVENT
DTSTART;TZID=America/New_York:20260413T140000
DTEND;TZID=America/New_York:20260413T153000
DTSTAMP:20260423T111133
CREATED:20260223T210011Z
LAST-MODIFIED:20260327T193052Z
UID:10021428-1776088800-1776094200@arc-hss.ca
SUMMARY:Ilana’s Virtual Drawing Class ~ ZOOM
DESCRIPTION:Discover your creative side with our welcoming art group! Come draw and paint alongside fellow artists in a relaxed\, supportive environment. All skill levels are encouraged to join\, whether you are just starting out or have years of experience. Create\, connect\, and get inspired together. Everyone is welcome! To register for the Zoom class\, email info@arc-hss.ca
URL:https://arc-hss.ca/event/ilanas-virtual-drawing-class-zoom-2-2-2/2026-04-13/
LOCATION:Zoom
ATTACH;FMTTYPE=image/png:https://arc-hss.ca/wp-content/uploads/2026/02/Ilanas-Drawing-In-person-April.png
ORGANIZER;CN="Assistance & Referral Centre (ARC)":MAILTO:info@arc-hss.ca
END:VEVENT
BEGIN:VEVENT
DTSTART;TZID=America/New_York:20260409T140000
DTEND;TZID=America/New_York:20260409T150000
DTSTAMP:20260423T111133
CREATED:20260106T030740Z
LAST-MODIFIED:20260327T160023Z
UID:10021435-1775743200-1775746800@arc-hss.ca
SUMMARY:Linda's Gentle Yoga ~ ZOOM
DESCRIPTION:Take a break and unwind with Gentle Yoga on Zoom. This calming session is suitable for all levels and focuses on stretching\, breathing\, and relaxation. For more information or to register\, please email info@arc-hss.ca
URL:https://arc-hss.ca/event/lindas-gentle-yoga-zoom-2-2/2026-04-09/
LOCATION:Zoom
ATTACH;FMTTYPE=image/png:https://arc-hss.ca/wp-content/uploads/2025/01/Gentle-Yoga-on-Zoom-Feb-2025.png
ORGANIZER;CN="Assistance & Referral Centre (ARC)":MAILTO:info@arc-hss.ca
END:VEVENT
BEGIN:VEVENT
DTSTART;TZID=America/New_York:20260402T140000
DTEND;TZID=America/New_York:20260402T150000
DTSTAMP:20260423T111133
CREATED:20260106T030740Z
LAST-MODIFIED:20260327T160023Z
UID:10021434-1775138400-1775142000@arc-hss.ca
SUMMARY:Linda's Gentle Yoga ~ ZOOM
DESCRIPTION:Take a break and unwind with Gentle Yoga on Zoom. This calming session is suitable for all levels and focuses on stretching\, breathing\, and relaxation. For more information or to register\, please email info@arc-hss.ca
URL:https://arc-hss.ca/event/lindas-gentle-yoga-zoom-2-2/2026-04-02/
LOCATION:Zoom
ATTACH;FMTTYPE=image/png:https://arc-hss.ca/wp-content/uploads/2025/01/Gentle-Yoga-on-Zoom-Feb-2025.png
ORGANIZER;CN="Assistance & Referral Centre (ARC)":MAILTO:info@arc-hss.ca
END:VEVENT
BEGIN:VEVENT
DTSTART;TZID=America/New_York:20260330T140000
DTEND;TZID=America/New_York:20260330T153000
DTSTAMP:20260423T111133
CREATED:20260223T210011Z
LAST-MODIFIED:20260327T193052Z
UID:10021427-1774879200-1774884600@arc-hss.ca
SUMMARY:Ilana’s Virtual Drawing Class ~ ZOOM
DESCRIPTION:Discover your creative side with our welcoming art group! Come draw and paint alongside fellow artists in a relaxed\, supportive environment. All skill levels are encouraged to join\, whether you are just starting out or have years of experience. Create\, connect\, and get inspired together. Everyone is welcome! To register for the Zoom class\, email info@arc-hss.ca
URL:https://arc-hss.ca/event/ilanas-virtual-drawing-class-zoom-2-2-2/2026-03-30/
LOCATION:Zoom
ATTACH;FMTTYPE=image/png:https://arc-hss.ca/wp-content/uploads/2026/02/Ilanas-Drawing-In-person-April.png
ORGANIZER;CN="Assistance & Referral Centre (ARC)":MAILTO:info@arc-hss.ca
END:VEVENT
BEGIN:VEVENT
DTSTART;TZID=America/New_York:20241112T190000
DTEND;TZID=America/New_York:20241112T203000
DTSTAMP:20260423T111133
CREATED:20231129T193047Z
LAST-MODIFIED:20241101T125906Z
UID:10003555-1731438000-1731443400@arc-hss.ca
SUMMARY:Caregivers Support Group ~ ZOOM
DESCRIPTION:Come join our discussions about caregiving\, anticipatory grief\, and navigating challenges. Everyone is welcome.
URL:https://arc-hss.ca/event/caregivers-support-group-via-zoom/
LOCATION:Zoom
ATTACH;FMTTYPE=image/png:https://arc-hss.ca/wp-content/uploads/2023/11/Caregivers-Online-Support-Group-November-2024.png
ORGANIZER;CN="Assistance & Referral Centre (ARC)":MAILTO:info@arc-hss.ca
END:VEVENT
BEGIN:VEVENT
DTSTART;TZID=America/New_York:20241106T190000
DTEND;TZID=America/New_York:20241106T203000
DTSTAMP:20260423T111133
CREATED:20241101T134855Z
LAST-MODIFIED:20241101T134855Z
UID:10012859-1730919600-1730925000@arc-hss.ca
SUMMARY:Caregiving Community Workshop ~ Zoom
DESCRIPTION:Come and join us on Zoom with host Penny Fleming for an informative workshop titled: An Introduction To Neurocognitive Disorders. November 6 from 7:00 to 8:30 p.m. To get the link\, call (514) 608-9600 or send us an email: caregivers@arc-hss.ca
URL:https://arc-hss.ca/event/caregiving-community-workshop-zoom/
LOCATION:Zoom
ATTACH;FMTTYPE=image/png:https://arc-hss.ca/wp-content/uploads/2024/11/Caregivers-Community-Virtual-Workshop-November-2024.png
ORGANIZER;CN="Assistance & Referral Centre (ARC)":MAILTO:info@arc-hss.ca
END:VEVENT
END:VCALENDAR