BEGIN:VCALENDAR
VERSION:2.0
PRODID:-//ARC - ECPv6.15.20//NONSGML v1.0//EN
CALSCALE:GREGORIAN
METHOD:PUBLISH
X-ORIGINAL-URL:https://arc-hss.ca
X-WR-CALDESC:Events for ARC
REFRESH-INTERVAL;VALUE=DURATION:PT1H
X-Robots-Tag:noindex
X-PUBLISHED-TTL:PT1H
BEGIN:VTIMEZONE
TZID:America/New_York
BEGIN:DAYLIGHT
TZOFFSETFROM:-0500
TZOFFSETTO:-0400
TZNAME:EDT
DTSTART:20250309T070000
END:DAYLIGHT
BEGIN:STANDARD
TZOFFSETFROM:-0400
TZOFFSETTO:-0500
TZNAME:EST
DTSTART:20251102T060000
END:STANDARD
BEGIN:DAYLIGHT
TZOFFSETFROM:-0500
TZOFFSETTO:-0400
TZNAME:EDT
DTSTART:20260308T070000
END:DAYLIGHT
BEGIN:STANDARD
TZOFFSETFROM:-0400
TZOFFSETTO:-0500
TZNAME:EST
DTSTART:20261101T060000
END:STANDARD
BEGIN:DAYLIGHT
TZOFFSETFROM:-0500
TZOFFSETTO:-0400
TZNAME:EDT
DTSTART:20270314T070000
END:DAYLIGHT
BEGIN:STANDARD
TZOFFSETFROM:-0400
TZOFFSETTO:-0500
TZNAME:EST
DTSTART:20271107T060000
END:STANDARD
END:VTIMEZONE
BEGIN:VEVENT
DTSTART;TZID=America/New_York:20260124T100000
DTEND;TZID=America/New_York:20260124T160000
DTSTAMP:20260421T213216
CREATED:20260107T181611Z
LAST-MODIFIED:20260107T181834Z
UID:10021267-1769248800-1769270400@arc-hss.ca
SUMMARY:PSP Winter Carnival ~ St. Jean
DESCRIPTION:Through ARC’s exclusive partnership with the St-Jean Garrison’s sports centre (PSP)\, ARC participants are invited to attend PSP’s two-day winter carnival! Join us in Saint-Jean-sur-Richelieu on Saturday\, January 24 from 10:00 a.m. to 4:00 p.m. for snow games\, cross-country skiing and a nighttime concert. Priority registration is extended to the ARC community from January 5 to 15 and tickets are limited\, so act quickly! \nTo register\, or for more information\, contact Céline at hrr@arc-hss.ca or (514) 980-8900.
URL:https://arc-hss.ca/event/psp-winter-carnival-st-jean/
LOCATION:St-Jean Garrison – Sports Centre\, 25 du Grand Bernier St.\, St-Jean-sur-Richelieu\, QC\, J0J 1R0\, Canada
ATTACH;FMTTYPE=image/png:https://arc-hss.ca/wp-content/uploads/2025/05/Graphic-PSP-Winter-Carnival-Jan-2026.png
ORGANIZER;CN="Assistance & Referral Centre (ARC)":MAILTO:info@arc-hss.ca
END:VEVENT
END:VCALENDAR