BEGIN:VCALENDAR
VERSION:2.0
PRODID:-//ARC - ECPv6.15.20//NONSGML v1.0//EN
CALSCALE:GREGORIAN
METHOD:PUBLISH
X-WR-CALNAME:ARC
X-ORIGINAL-URL:https://arc-hss.ca
X-WR-CALDESC:Events for ARC
REFRESH-INTERVAL;VALUE=DURATION:PT1H
X-Robots-Tag:noindex
X-PUBLISHED-TTL:PT1H
BEGIN:VTIMEZONE
TZID:America/New_York
BEGIN:DAYLIGHT
TZOFFSETFROM:-0500
TZOFFSETTO:-0400
TZNAME:EDT
DTSTART:20240310T070000
END:DAYLIGHT
BEGIN:STANDARD
TZOFFSETFROM:-0400
TZOFFSETTO:-0500
TZNAME:EST
DTSTART:20241103T060000
END:STANDARD
BEGIN:DAYLIGHT
TZOFFSETFROM:-0500
TZOFFSETTO:-0400
TZNAME:EDT
DTSTART:20250309T070000
END:DAYLIGHT
BEGIN:STANDARD
TZOFFSETFROM:-0400
TZOFFSETTO:-0500
TZNAME:EST
DTSTART:20251102T060000
END:STANDARD
BEGIN:DAYLIGHT
TZOFFSETFROM:-0500
TZOFFSETTO:-0400
TZNAME:EDT
DTSTART:20260308T070000
END:DAYLIGHT
BEGIN:STANDARD
TZOFFSETFROM:-0400
TZOFFSETTO:-0500
TZNAME:EST
DTSTART:20261101T060000
END:STANDARD
END:VTIMEZONE
BEGIN:VEVENT
DTSTART;TZID=America/New_York:20251120T180000
DTEND;TZID=America/New_York:20251120T200000
DTSTAMP:20260423T103257
CREATED:20251029T191847Z
LAST-MODIFIED:20251030T183707Z
UID:10021007-1763661600-1763668800@arc-hss.ca
SUMMARY:Women's Workshop - Intro to Canning ~ St-Jean
DESCRIPTION:Want to learn how to safely preserve your favourite seasonal fruits and veggies at home? Join us for a relaxed\, hands-on Introduction to Can-ning workshop just for women! We’ll meet in the Collectivement Elles kitchen (390 Georges-Phaneuf St. in St-Jean sur Richelieu) at 6:00 p.m. No previous experience required. All food and materials will be supplied. To register\, contact Céline or call (514) 980-8900.
URL:https://arc-hss.ca/event/womens-workshop-intro-to-canning-st-jean/
LOCATION:Collectivement Elles\, 290Georges-Phaneuf St.\, St-Jean-sur-Richelieu\, QC\, J3B 0L1\, Canada
ATTACH;FMTTYPE=application/pdf:https://arc-hss.ca/wp-content/uploads/2025/10/Graphic-Intro-to-canning-NOV-2025.pdf
ORGANIZER;CN="Assistance & Referral Centre (ARC)":MAILTO:info@arc-hss.ca
END:VEVENT
END:VCALENDAR