BEGIN:VCALENDAR
VERSION:2.0
PRODID:-//ARC - ECPv6.15.20//NONSGML v1.0//EN
CALSCALE:GREGORIAN
METHOD:PUBLISH
X-WR-CALNAME:ARC
X-ORIGINAL-URL:https://arc-hss.ca/fr/
X-WR-CALDESC:Évènements pour ARC
REFRESH-INTERVAL;VALUE=DURATION:PT1H
X-Robots-Tag:noindex
X-PUBLISHED-TTL:PT1H
BEGIN:VTIMEZONE
TZID:America/New_York
BEGIN:DAYLIGHT
TZOFFSETFROM:-0500
TZOFFSETTO:-0400
TZNAME:EDT
DTSTART:20250309T070000
END:DAYLIGHT
BEGIN:STANDARD
TZOFFSETFROM:-0400
TZOFFSETTO:-0500
TZNAME:EST
DTSTART:20251102T060000
END:STANDARD
BEGIN:DAYLIGHT
TZOFFSETFROM:-0500
TZOFFSETTO:-0400
TZNAME:EDT
DTSTART:20260308T070000
END:DAYLIGHT
BEGIN:STANDARD
TZOFFSETFROM:-0400
TZOFFSETTO:-0500
TZNAME:EST
DTSTART:20261101T060000
END:STANDARD
BEGIN:DAYLIGHT
TZOFFSETFROM:-0500
TZOFFSETTO:-0400
TZNAME:EDT
DTSTART:20270314T070000
END:DAYLIGHT
BEGIN:STANDARD
TZOFFSETFROM:-0400
TZOFFSETTO:-0500
TZNAME:EST
DTSTART:20271107T060000
END:STANDARD
END:VTIMEZONE
BEGIN:VEVENT
DTSTART;TZID=America/New_York:20260202T140000
DTEND;TZID=America/New_York:20260202T153000
DTSTAMP:20260421T144716
CREATED:20260126T204715Z
LAST-MODIFIED:20260223T204428Z
UID:10021289-1770040800-1770046200@arc-hss.ca
SUMMARY:Ilana’s Virtual Drawing Class ~ ZOOM
DESCRIPTION:Discover your creative side with our welcoming art group! Come draw and paint alongside fellow artists in a relaxed\, supportive environment. All skill levels are encouraged to join\, whether you are just starting out or have years of experience. Create\, connect\, and get inspired together. Everyone is welcome! To register for the Zoom class\, email info@arc-hss.ca
URL:https://arc-hss.ca/fr/event/ilanas-virtual-drawing-class-zoom-2-2/2026-02-02/
LOCATION:Zoom
ATTACH;FMTTYPE=image/png:https://arc-hss.ca/wp-content/uploads/2024/10/Ilanas-Virtual-Drawing-Class-Feb-2025.png
ORGANIZER;CN="Assistance & Referral Centre (ARC)":MAILTO:info@arc-hss.ca
END:VEVENT
BEGIN:VEVENT
DTSTART;TZID=America/New_York:20260203T103000
DTEND;TZID=America/New_York:20260203T111500
DTSTAMP:20260421T144716
CREATED:20260107T171738Z
LAST-MODIFIED:20260127T191835Z
UID:10021198-1770114600-1770117300@arc-hss.ca
SUMMARY:Kindaroo Preliteracy Activity ~ St-Jean
DESCRIPTION:Kindaroo is back! Our popular 10-week pre-literacy program for children aged 0–4 and their parent or caregiver is a wonderful opportunity to do something special with your little ones over the winter months! Each week\, we’ll explore songs\, rhymes and stories designed to support language development and bonding — all in a warm\, welcoming environment. Join us every Tuesday from January 20 to March 30 at the Adélard-Berger Library\, 180 Laurier Street in Saint-Jean-sur-Richelieu from 10:30 to 11:15 a.m. To register or learn more\, contact Thérèse at stjean@arc-hss.ca  or by calling (514) 605-9500.
URL:https://arc-hss.ca/fr/event/kinderoo-preliteracy-activity-st-jean-new-2-2/2026-02-03/
LOCATION:Adélard-Berger Library – St-Jean\, 180 Laurier St.\, St-Jean-sur-Richelieu\, QC\, J3B 7J9\, Canada
ATTACH;FMTTYPE=image/jpeg:https://arc-hss.ca/wp-content/uploads/2025/08/KINDAROO.jpg
ORGANIZER;CN="Assistance & Referral Centre (ARC)":MAILTO:info@arc-hss.ca
END:VEVENT
BEGIN:VEVENT
DTSTART;TZID=America/New_York:20260203T133000
DTEND;TZID=America/New_York:20260203T150000
DTSTAMP:20260421T144716
CREATED:20250828T195223Z
LAST-MODIFIED:20260107T142630Z
UID:10020548-1770125400-1770130800@arc-hss.ca
SUMMARY:Digital Skills Workshop ~ GPK
DESCRIPTION:Unlock your digital confidence when it comes to ZOOM!  From getting started\, to troubleshooting with ease\, learn how to navigate virtual meetings and presentations comfortably\, so you can fully enjoy online activities and connect virtually with confidence. Join us on January 27 at 1:30 p.m. To register\, contact Tania at (514) 213-3744 or gpk@arc-hss.ca
URL:https://arc-hss.ca/fr/event/computers-tablets-workshop-gpk-2/
LOCATION:ARC Activity Center\, 91 Churchill Blvd\, Greenfield Park\, Quebec\, Canada
ATTACH;FMTTYPE=image/png:https://arc-hss.ca/wp-content/uploads/2025/08/February-DSW-1.png
ORGANIZER;CN="Assistance & Referral Centre (ARC)":MAILTO:info@arc-hss.ca
END:VEVENT
BEGIN:VEVENT
DTSTART;TZID=America/New_York:20260205T090000
DTEND;TZID=America/New_York:20260205T100000
DTSTAMP:20260421T144716
CREATED:20260106T212802Z
LAST-MODIFIED:20260223T211236Z
UID:10021299-1770282000-1770285600@arc-hss.ca
SUMMARY:Qigong ~ GPK **MUST REGISTER **
DESCRIPTION:Come and join this mind-body exercise that combines movements\, meditation\, and deep breathing located at our Activity Centre in GPK. Registration required — waitlist available. For more inforamtion or to join the waitlist\, email to taichirivesud@gmail.com
URL:https://arc-hss.ca/fr/event/qigong-gpk-must-register-2/2026-02-05/
LOCATION:ARC Activity Center\, 91 Churchill Blvd\, Greenfield Park\, Quebec\, Canada
ATTACH;FMTTYPE=image/png:https://arc-hss.ca/wp-content/uploads/2025/10/Qigong_fall.png
ORGANIZER;CN="Assistance & Referral Centre (ARC)":MAILTO:info@arc-hss.ca
END:VEVENT
BEGIN:VEVENT
DTSTART;TZID=America/New_York:20260205T103000
DTEND;TZID=America/New_York:20260205T233000
DTSTAMP:20260421T144716
CREATED:20260106T213109Z
LAST-MODIFIED:20260223T211506Z
UID:10021319-1770287400-1770334200@arc-hss.ca
SUMMARY:Walk & Talk ~ GPK
DESCRIPTION:Join us for Walk & Talk — a guided\, leisurely stroll through Greenfield Park. Get some fresh air\, enjoy good company\, and connect along the way! Did you know walking boosts heart health\, strengthens muscles and joints\, improves mood\, reduces stress and is a great way to make new friends and connect with others? Come walk with us and enjoy good company and fresh air! For more information\, email info@arc-hss.ca or  call (514) 604-9455.
URL:https://arc-hss.ca/fr/event/walk-talk-gpk-2-2-2/2026-02-05/
LOCATION:ARC Activity Center\, 91 Churchill Blvd\, Greenfield Park\, Quebec\, Canada
ATTACH;FMTTYPE=image/png:https://arc-hss.ca/wp-content/uploads/2025/09/Walk-and-Talk-1.png
ORGANIZER;CN="Assistance & Referral Centre (ARC)":MAILTO:info@arc-hss.ca
END:VEVENT
BEGIN:VEVENT
DTSTART;TZID=America/New_York:20260209T140000
DTEND;TZID=America/New_York:20260209T153000
DTSTAMP:20260421T144716
CREATED:20260126T204715Z
LAST-MODIFIED:20260223T204428Z
UID:10021358-1770645600-1770651000@arc-hss.ca
SUMMARY:Ilana’s Virtual Drawing Class ~ ZOOM
DESCRIPTION:Discover your creative side with our welcoming art group! Come draw and paint alongside fellow artists in a relaxed\, supportive environment. All skill levels are encouraged to join\, whether you are just starting out or have years of experience. Create\, connect\, and get inspired together. Everyone is welcome! To register for the Zoom class\, email info@arc-hss.ca
URL:https://arc-hss.ca/fr/event/ilanas-virtual-drawing-class-zoom-2-2/2026-02-09/
LOCATION:Zoom
ATTACH;FMTTYPE=image/png:https://arc-hss.ca/wp-content/uploads/2024/10/Ilanas-Virtual-Drawing-Class-Feb-2025.png
ORGANIZER;CN="Assistance & Referral Centre (ARC)":MAILTO:info@arc-hss.ca
END:VEVENT
BEGIN:VEVENT
DTSTART;TZID=America/New_York:20260210T103000
DTEND;TZID=America/New_York:20260210T111500
DTSTAMP:20260421T144716
CREATED:20260107T171738Z
LAST-MODIFIED:20260127T191835Z
UID:10021199-1770719400-1770722100@arc-hss.ca
SUMMARY:Kindaroo Preliteracy Activity ~ St-Jean
DESCRIPTION:Kindaroo is back! Our popular 10-week pre-literacy program for children aged 0–4 and their parent or caregiver is a wonderful opportunity to do something special with your little ones over the winter months! Each week\, we’ll explore songs\, rhymes and stories designed to support language development and bonding — all in a warm\, welcoming environment. Join us every Tuesday from January 20 to March 30 at the Adélard-Berger Library\, 180 Laurier Street in Saint-Jean-sur-Richelieu from 10:30 to 11:15 a.m. To register or learn more\, contact Thérèse at stjean@arc-hss.ca  or by calling (514) 605-9500.
URL:https://arc-hss.ca/fr/event/kinderoo-preliteracy-activity-st-jean-new-2-2/2026-02-10/
LOCATION:Adélard-Berger Library – St-Jean\, 180 Laurier St.\, St-Jean-sur-Richelieu\, QC\, J3B 7J9\, Canada
ATTACH;FMTTYPE=image/jpeg:https://arc-hss.ca/wp-content/uploads/2025/08/KINDAROO.jpg
ORGANIZER;CN="Assistance & Referral Centre (ARC)":MAILTO:info@arc-hss.ca
END:VEVENT
BEGIN:VEVENT
DTSTART;TZID=America/New_York:20260212T090000
DTEND;TZID=America/New_York:20260212T100000
DTSTAMP:20260421T144716
CREATED:20260106T212802Z
LAST-MODIFIED:20260223T211236Z
UID:10021300-1770886800-1770890400@arc-hss.ca
SUMMARY:Qigong ~ GPK **MUST REGISTER **
DESCRIPTION:Come and join this mind-body exercise that combines movements\, meditation\, and deep breathing located at our Activity Centre in GPK. Registration required — waitlist available. For more inforamtion or to join the waitlist\, email to taichirivesud@gmail.com
URL:https://arc-hss.ca/fr/event/qigong-gpk-must-register-2/2026-02-12/
LOCATION:ARC Activity Center\, 91 Churchill Blvd\, Greenfield Park\, Quebec\, Canada
ATTACH;FMTTYPE=image/png:https://arc-hss.ca/wp-content/uploads/2025/10/Qigong_fall.png
ORGANIZER;CN="Assistance & Referral Centre (ARC)":MAILTO:info@arc-hss.ca
END:VEVENT
BEGIN:VEVENT
DTSTART;TZID=America/New_York:20260212T103000
DTEND;TZID=America/New_York:20260212T233000
DTSTAMP:20260421T144716
CREATED:20260106T213109Z
LAST-MODIFIED:20260223T211506Z
UID:10021320-1770892200-1770939000@arc-hss.ca
SUMMARY:Walk & Talk ~ GPK
DESCRIPTION:Join us for Walk & Talk — a guided\, leisurely stroll through Greenfield Park. Get some fresh air\, enjoy good company\, and connect along the way! Did you know walking boosts heart health\, strengthens muscles and joints\, improves mood\, reduces stress and is a great way to make new friends and connect with others? Come walk with us and enjoy good company and fresh air! For more information\, email info@arc-hss.ca or  call (514) 604-9455.
URL:https://arc-hss.ca/fr/event/walk-talk-gpk-2-2-2/2026-02-12/
LOCATION:ARC Activity Center\, 91 Churchill Blvd\, Greenfield Park\, Quebec\, Canada
ATTACH;FMTTYPE=image/png:https://arc-hss.ca/wp-content/uploads/2025/09/Walk-and-Talk-1.png
ORGANIZER;CN="Assistance & Referral Centre (ARC)":MAILTO:info@arc-hss.ca
END:VEVENT
BEGIN:VEVENT
DTSTART;TZID=America/New_York:20260212T133000
DTEND;TZID=America/New_York:20260212T150000
DTSTAMP:20260421T144716
CREATED:20260107T163157Z
LAST-MODIFIED:20260128T174543Z
UID:10021131-1770903000-1770908400@arc-hss.ca
SUMMARY:ARC 55+ Community ~ GPK *New Day / Location*
DESCRIPTION:Our Senior Wellness Greenfield Park activity is relocating to St. Mary’s\, located at 125 Grove St.\, Greenfield Park. Join us every Thursday for engaging weekly activities designed to stimulate your mind\, body and creativity! \nFebruary 12: Artificial Intelligence (AI) — Join us for an introductory workshop on Artificial Intelligence led by certified instructor Ruth Montas. This workshop is designed to make AI easy\, practical\, and approachable. \nRegistration required. Contact Tania at (514) 213-3744 or gpk@arc-hss.ca for more information or to register.
URL:https://arc-hss.ca/fr/event/arc-55-community-gpk-new-day-location/
LOCATION:St. Mary’s\, 125 Grove St.\, Greenfield Park\, Quebec\, J4V 2X2\, Canada
ATTACH;FMTTYPE=image/png:https://arc-hss.ca/wp-content/uploads/2025/09/GPK-SWI.png
ORGANIZER;CN="Assistance & Referral Centre (ARC)":MAILTO:info@arc-hss.ca
END:VEVENT
BEGIN:VEVENT
DTSTART;TZID=America/New_York:20260216T140000
DTEND;TZID=America/New_York:20260216T153000
DTSTAMP:20260421T144716
CREATED:20260126T204715Z
LAST-MODIFIED:20260223T204428Z
UID:10021359-1771250400-1771255800@arc-hss.ca
SUMMARY:Ilana’s Virtual Drawing Class ~ ZOOM
DESCRIPTION:Discover your creative side with our welcoming art group! Come draw and paint alongside fellow artists in a relaxed\, supportive environment. All skill levels are encouraged to join\, whether you are just starting out or have years of experience. Create\, connect\, and get inspired together. Everyone is welcome! To register for the Zoom class\, email info@arc-hss.ca
URL:https://arc-hss.ca/fr/event/ilanas-virtual-drawing-class-zoom-2-2/2026-02-16/
LOCATION:Zoom
ATTACH;FMTTYPE=image/png:https://arc-hss.ca/wp-content/uploads/2024/10/Ilanas-Virtual-Drawing-Class-Feb-2025.png
ORGANIZER;CN="Assistance & Referral Centre (ARC)":MAILTO:info@arc-hss.ca
END:VEVENT
BEGIN:VEVENT
DTSTART;TZID=America/New_York:20260217T103000
DTEND;TZID=America/New_York:20260217T111500
DTSTAMP:20260421T144716
CREATED:20260107T171738Z
LAST-MODIFIED:20260127T191835Z
UID:10021200-1771324200-1771326900@arc-hss.ca
SUMMARY:Kindaroo Preliteracy Activity ~ St-Jean
DESCRIPTION:Kindaroo is back! Our popular 10-week pre-literacy program for children aged 0–4 and their parent or caregiver is a wonderful opportunity to do something special with your little ones over the winter months! Each week\, we’ll explore songs\, rhymes and stories designed to support language development and bonding — all in a warm\, welcoming environment. Join us every Tuesday from January 20 to March 30 at the Adélard-Berger Library\, 180 Laurier Street in Saint-Jean-sur-Richelieu from 10:30 to 11:15 a.m. To register or learn more\, contact Thérèse at stjean@arc-hss.ca  or by calling (514) 605-9500.
URL:https://arc-hss.ca/fr/event/kinderoo-preliteracy-activity-st-jean-new-2-2/2026-02-17/
LOCATION:Adélard-Berger Library – St-Jean\, 180 Laurier St.\, St-Jean-sur-Richelieu\, QC\, J3B 7J9\, Canada
ATTACH;FMTTYPE=image/jpeg:https://arc-hss.ca/wp-content/uploads/2025/08/KINDAROO.jpg
ORGANIZER;CN="Assistance & Referral Centre (ARC)":MAILTO:info@arc-hss.ca
END:VEVENT
BEGIN:VEVENT
DTSTART;TZID=America/New_York:20260218T133000
DTEND;TZID=America/New_York:20260218T150000
DTSTAMP:20260421T144716
CREATED:20260128T173929Z
LAST-MODIFIED:20260128T173929Z
UID:10021345-1771421400-1771426800@arc-hss.ca
SUMMARY:ARC 55+ Community ~ Clarenceville
DESCRIPTION:Join us every Wednesday for engaging activities designed to support the physical\, cognitive and emotional well-being of English-speaking seniors aged 55 and over. \nFebruary 25: Health JEOPARDY! With Nurse Penny Come test your knowledge on important health topics relevant to the 55+ community\, led by our favourite R.N. Penny Fleming. The game show format makes learning about health simple\, engaging\, and stress-free. \nNote: Due to ongoing construction at the community centre\, this month’s sessions will take place at the Free Methodist Church (1076 Front Street North\, Clarenceville). For more information or to register\, please contact Céline at hrr@arc-hss.ca or (514) 980-8900.
URL:https://arc-hss.ca/fr/event/arc-55-community-clarenceville-5/
LOCATION:Free Methodist Church – Clarenceville\, 1076 Front St. North\, Saint-Georges-de-Clarenceville\, QC\, J0J 1B0\, Canada
ATTACH;FMTTYPE=image/png:https://arc-hss.ca/wp-content/uploads/2026/01/Bilingual-CLARENCEVILLE-SWI-FEB-2026.png
ORGANIZER;CN="Assistance & Referral Centre (ARC)":MAILTO:info@arc-hss.ca
END:VEVENT
BEGIN:VEVENT
DTSTART;TZID=America/New_York:20260219T090000
DTEND;TZID=America/New_York:20260219T100000
DTSTAMP:20260421T144716
CREATED:20260106T212802Z
LAST-MODIFIED:20260223T211236Z
UID:10021301-1771491600-1771495200@arc-hss.ca
SUMMARY:Qigong ~ GPK **MUST REGISTER **
DESCRIPTION:Come and join this mind-body exercise that combines movements\, meditation\, and deep breathing located at our Activity Centre in GPK. Registration required — waitlist available. For more inforamtion or to join the waitlist\, email to taichirivesud@gmail.com
URL:https://arc-hss.ca/fr/event/qigong-gpk-must-register-2/2026-02-19/
LOCATION:ARC Activity Center\, 91 Churchill Blvd\, Greenfield Park\, Quebec\, Canada
ATTACH;FMTTYPE=image/png:https://arc-hss.ca/wp-content/uploads/2025/10/Qigong_fall.png
ORGANIZER;CN="Assistance & Referral Centre (ARC)":MAILTO:info@arc-hss.ca
END:VEVENT
BEGIN:VEVENT
DTSTART;TZID=America/New_York:20260219T103000
DTEND;TZID=America/New_York:20260219T233000
DTSTAMP:20260421T144716
CREATED:20260106T213109Z
LAST-MODIFIED:20260223T211506Z
UID:10021321-1771497000-1771543800@arc-hss.ca
SUMMARY:Walk & Talk ~ GPK
DESCRIPTION:Join us for Walk & Talk — a guided\, leisurely stroll through Greenfield Park. Get some fresh air\, enjoy good company\, and connect along the way! Did you know walking boosts heart health\, strengthens muscles and joints\, improves mood\, reduces stress and is a great way to make new friends and connect with others? Come walk with us and enjoy good company and fresh air! For more information\, email info@arc-hss.ca or  call (514) 604-9455.
URL:https://arc-hss.ca/fr/event/walk-talk-gpk-2-2-2/2026-02-19/
LOCATION:ARC Activity Center\, 91 Churchill Blvd\, Greenfield Park\, Quebec\, Canada
ATTACH;FMTTYPE=image/png:https://arc-hss.ca/wp-content/uploads/2025/09/Walk-and-Talk-1.png
ORGANIZER;CN="Assistance & Referral Centre (ARC)":MAILTO:info@arc-hss.ca
END:VEVENT
BEGIN:VEVENT
DTSTART;TZID=America/New_York:20260223T140000
DTEND;TZID=America/New_York:20260223T153000
DTSTAMP:20260421T144716
CREATED:20260126T204715Z
LAST-MODIFIED:20260223T204428Z
UID:10021360-1771855200-1771860600@arc-hss.ca
SUMMARY:Ilana’s Virtual Drawing Class ~ ZOOM
DESCRIPTION:Discover your creative side with our welcoming art group! Come draw and paint alongside fellow artists in a relaxed\, supportive environment. All skill levels are encouraged to join\, whether you are just starting out or have years of experience. Create\, connect\, and get inspired together. Everyone is welcome! To register for the Zoom class\, email info@arc-hss.ca
URL:https://arc-hss.ca/fr/event/ilanas-virtual-drawing-class-zoom-2-2/2026-02-23/
LOCATION:Zoom
ATTACH;FMTTYPE=image/png:https://arc-hss.ca/wp-content/uploads/2024/10/Ilanas-Virtual-Drawing-Class-Feb-2025.png
ORGANIZER;CN="Assistance & Referral Centre (ARC)":MAILTO:info@arc-hss.ca
END:VEVENT
BEGIN:VEVENT
DTSTART;TZID=America/New_York:20260224T103000
DTEND;TZID=America/New_York:20260224T111500
DTSTAMP:20260421T144716
CREATED:20260107T171738Z
LAST-MODIFIED:20260127T191835Z
UID:10021201-1771929000-1771931700@arc-hss.ca
SUMMARY:Kindaroo Preliteracy Activity ~ St-Jean
DESCRIPTION:Kindaroo is back! Our popular 10-week pre-literacy program for children aged 0–4 and their parent or caregiver is a wonderful opportunity to do something special with your little ones over the winter months! Each week\, we’ll explore songs\, rhymes and stories designed to support language development and bonding — all in a warm\, welcoming environment. Join us every Tuesday from January 20 to March 30 at the Adélard-Berger Library\, 180 Laurier Street in Saint-Jean-sur-Richelieu from 10:30 to 11:15 a.m. To register or learn more\, contact Thérèse at stjean@arc-hss.ca  or by calling (514) 605-9500.
URL:https://arc-hss.ca/fr/event/kinderoo-preliteracy-activity-st-jean-new-2-2/2026-02-24/
LOCATION:Adélard-Berger Library – St-Jean\, 180 Laurier St.\, St-Jean-sur-Richelieu\, QC\, J3B 7J9\, Canada
ATTACH;FMTTYPE=image/jpeg:https://arc-hss.ca/wp-content/uploads/2025/08/KINDAROO.jpg
ORGANIZER;CN="Assistance & Referral Centre (ARC)":MAILTO:info@arc-hss.ca
END:VEVENT
BEGIN:VEVENT
DTSTART;TZID=America/New_York:20260226T090000
DTEND;TZID=America/New_York:20260226T100000
DTSTAMP:20260421T144716
CREATED:20260106T212802Z
LAST-MODIFIED:20260223T211236Z
UID:10021302-1772096400-1772100000@arc-hss.ca
SUMMARY:Qigong ~ GPK **MUST REGISTER **
DESCRIPTION:Come and join this mind-body exercise that combines movements\, meditation\, and deep breathing located at our Activity Centre in GPK. Registration required — waitlist available. For more inforamtion or to join the waitlist\, email to taichirivesud@gmail.com
URL:https://arc-hss.ca/fr/event/qigong-gpk-must-register-2/2026-02-26/
LOCATION:ARC Activity Center\, 91 Churchill Blvd\, Greenfield Park\, Quebec\, Canada
ATTACH;FMTTYPE=image/png:https://arc-hss.ca/wp-content/uploads/2025/10/Qigong_fall.png
ORGANIZER;CN="Assistance & Referral Centre (ARC)":MAILTO:info@arc-hss.ca
END:VEVENT
BEGIN:VEVENT
DTSTART;TZID=America/New_York:20260226T103000
DTEND;TZID=America/New_York:20260226T233000
DTSTAMP:20260421T144716
CREATED:20260106T213109Z
LAST-MODIFIED:20260223T211506Z
UID:10021322-1772101800-1772148600@arc-hss.ca
SUMMARY:Walk & Talk ~ GPK
DESCRIPTION:Join us for Walk & Talk — a guided\, leisurely stroll through Greenfield Park. Get some fresh air\, enjoy good company\, and connect along the way! Did you know walking boosts heart health\, strengthens muscles and joints\, improves mood\, reduces stress and is a great way to make new friends and connect with others? Come walk with us and enjoy good company and fresh air! For more information\, email info@arc-hss.ca or  call (514) 604-9455.
URL:https://arc-hss.ca/fr/event/walk-talk-gpk-2-2-2/2026-02-26/
LOCATION:ARC Activity Center\, 91 Churchill Blvd\, Greenfield Park\, Quebec\, Canada
ATTACH;FMTTYPE=image/png:https://arc-hss.ca/wp-content/uploads/2025/09/Walk-and-Talk-1.png
ORGANIZER;CN="Assistance & Referral Centre (ARC)":MAILTO:info@arc-hss.ca
END:VEVENT
END:VCALENDAR