BEGIN:VCALENDAR
VERSION:2.0
PRODID:-//ARC - ECPv6.15.20//NONSGML v1.0//EN
CALSCALE:GREGORIAN
METHOD:PUBLISH
X-ORIGINAL-URL:https://arc-hss.ca/fr/
X-WR-CALDESC:Évènements pour ARC
REFRESH-INTERVAL;VALUE=DURATION:PT1H
X-Robots-Tag:noindex
X-PUBLISHED-TTL:PT1H
BEGIN:VTIMEZONE
TZID:America/New_York
BEGIN:DAYLIGHT
TZOFFSETFROM:-0500
TZOFFSETTO:-0400
TZNAME:EDT
DTSTART:20240310T070000
END:DAYLIGHT
BEGIN:STANDARD
TZOFFSETFROM:-0400
TZOFFSETTO:-0500
TZNAME:EST
DTSTART:20241103T060000
END:STANDARD
BEGIN:DAYLIGHT
TZOFFSETFROM:-0500
TZOFFSETTO:-0400
TZNAME:EDT
DTSTART:20250309T070000
END:DAYLIGHT
BEGIN:STANDARD
TZOFFSETFROM:-0400
TZOFFSETTO:-0500
TZNAME:EST
DTSTART:20251102T060000
END:STANDARD
BEGIN:DAYLIGHT
TZOFFSETFROM:-0500
TZOFFSETTO:-0400
TZNAME:EDT
DTSTART:20260308T070000
END:DAYLIGHT
BEGIN:STANDARD
TZOFFSETFROM:-0400
TZOFFSETTO:-0500
TZNAME:EST
DTSTART:20261101T060000
END:STANDARD
END:VTIMEZONE
BEGIN:VEVENT
DTSTART;TZID=America/New_York:20250908T140000
DTEND;TZID=America/New_York:20250908T153000
DTSTAMP:20260421T214233
CREATED:20250109T135446Z
LAST-MODIFIED:20250930T162014Z
UID:10020432-1757340000-1757345400@arc-hss.ca
SUMMARY:Ilana's Virtual Drawing Class ~ ZOOM
DESCRIPTION:Looking to explore your creative side? Join our friendly group of artists who enjoy drawing and painting together. Whether you’re a beginner or experienced\, you’ll find a fun\, supportive space to create\, share\, and be inspired. Everyone is welcome! Call Courtney at 514-604-9455 or send an email to info@arc-hss.ca to register.
URL:https://arc-hss.ca/fr/event/ilanas-virtual-drawing-class-zoom-2-2-2-2/2025-09-08/
LOCATION:Zoom
ATTACH;FMTTYPE=image/png:https://arc-hss.ca/wp-content/uploads/2025/01/Ilanas-Virtual-Drawing-Class-Jan-2025.png
ORGANIZER;CN="Assistance & Referral Centre (ARC)":MAILTO:info@arc-hss.ca
END:VEVENT
BEGIN:VEVENT
DTSTART;TZID=America/New_York:20250909T100000
DTEND;TZID=America/New_York:20250909T120000
DTSTAMP:20260421T214233
CREATED:20250828T190851Z
LAST-MODIFIED:20250828T200521Z
UID:10020490-1757412000-1757419200@arc-hss.ca
SUMMARY:Social Cooking ~ GPK
DESCRIPTION:Love to cook and connect? Join our social cooking group for fun recipes and great company! Registration required — waitlist available. Contact Courtney at 514-604-9455 or send an email to info@arc-hss.ca for more information.
URL:https://arc-hss.ca/fr/event/social-cooking-gpk/2025-09-09/
LOCATION:ARC Activity Center\, 91 Churchill Blvd\, Greenfield Park\, Quebec\, Canada
ATTACH;FMTTYPE=image/png:https://arc-hss.ca/wp-content/uploads/2025/08/SOCIAL-COOKING.png
END:VEVENT
BEGIN:VEVENT
DTSTART;TZID=America/New_York:20250910T133000
DTEND;TZID=America/New_York:20250910T150000
DTSTAMP:20260421T214233
CREATED:20250109T164107Z
LAST-MODIFIED:20250829T183703Z
UID:10016048-1757511000-1757516400@arc-hss.ca
SUMMARY:ARC 55+ Community ~ GPK
DESCRIPTION:Join us every Wednesday for engaging weekly activities designed to stimulate your mind\, body and creativity! Everyone welcome. \nSeptember 10: Virtual Travel to New Zealand – Explore the stunning landscapes and culture from the comfort of your seat. \nTo register\, contact Tania at (514) 213-3744 or gpk@arc-hss.ca.
URL:https://arc-hss.ca/fr/event/senior-wellness-centre-gpk-3-2-2-2/
LOCATION:ARC Activity Center\, 91 Churchill Blvd\, Greenfield Park\, Quebec\, Canada
ATTACH;FMTTYPE=image/png:https://arc-hss.ca/wp-content/uploads/2024/01/Insta-GPK-SWC-NEW-APRIL-2024.png
ORGANIZER;CN="Assistance & Referral Centre (ARC)":MAILTO:info@arc-hss.ca
END:VEVENT
BEGIN:VEVENT
DTSTART;TZID=America/New_York:20250911T140000
DTEND;TZID=America/New_York:20250911T150000
DTSTAMP:20260421T214233
CREATED:20250829T144739Z
LAST-MODIFIED:20250829T144739Z
UID:10020796-1757599200-1757602800@arc-hss.ca
SUMMARY:Linda's Gentle Yoga ~ ZOOM
DESCRIPTION:Take a break and unwind with Gentle Yoga on Zoom. This relaxing session is perfect for all levels — stretch\, breathe\, and find your calm. For more information\, or to register\, contact Courtney at 514-604-9455 or info@arc-hss.ca
URL:https://arc-hss.ca/fr/event/lindas-gentle-yoga-zoom/2025-09-11/
LOCATION:Zoom
ATTACH;FMTTYPE=image/png:https://arc-hss.ca/wp-content/uploads/2025/01/Gentle-Yoga-on-Zoom-Feb-2025.png
ORGANIZER;CN="Assistance & Referral Centre (ARC)":MAILTO:info@arc-hss.ca
END:VEVENT
BEGIN:VEVENT
DTSTART;TZID=America/New_York:20250916T100000
DTEND;TZID=America/New_York:20250916T120000
DTSTAMP:20260421T214233
CREATED:20250828T190851Z
LAST-MODIFIED:20250828T200521Z
UID:10020491-1758016800-1758024000@arc-hss.ca
SUMMARY:Social Cooking ~ GPK
DESCRIPTION:Love to cook and connect? Join our social cooking group for fun recipes and great company! Registration required — waitlist available. Contact Courtney at 514-604-9455 or send an email to info@arc-hss.ca for more information.
URL:https://arc-hss.ca/fr/event/social-cooking-gpk/2025-09-16/
LOCATION:ARC Activity Center\, 91 Churchill Blvd\, Greenfield Park\, Quebec\, Canada
ATTACH;FMTTYPE=image/png:https://arc-hss.ca/wp-content/uploads/2025/08/SOCIAL-COOKING.png
END:VEVENT
BEGIN:VEVENT
DTSTART;TZID=America/New_York:20250917T133000
DTEND;TZID=America/New_York:20250917T150000
DTSTAMP:20260421T214233
CREATED:20250829T183622Z
LAST-MODIFIED:20250829T184035Z
UID:10020833-1758115800-1758121200@arc-hss.ca
SUMMARY:ARC 55+ Community ~ GPK
DESCRIPTION:Join us every Wednesday for engaging weekly activities designed to stimulate your mind\, body and creativity! Everyone welcome. \nSeptember 17: Stories Behind the Songs with musician Rob Lutes – Discover the inspiration and history behind beloved tunes. \nTo register\, contact Tania at (514) 213-3744 or gpk@arc-hss.ca.
URL:https://arc-hss.ca/fr/event/arc-55-community-gpk/
LOCATION:ARC Activity Center\, 91 Churchill Blvd\, Greenfield Park\, Quebec\, Canada
ATTACH;FMTTYPE=image/png:https://arc-hss.ca/wp-content/uploads/2024/01/Insta-GPK-SWC-NEW-APRIL-2024.png
ORGANIZER;CN="Assistance & Referral Centre (ARC)":MAILTO:info@arc-hss.ca
END:VEVENT
BEGIN:VEVENT
DTSTART;TZID=America/New_York:20250918T140000
DTEND;TZID=America/New_York:20250918T150000
DTSTAMP:20260421T214233
CREATED:20250829T144739Z
LAST-MODIFIED:20250829T144739Z
UID:10020797-1758204000-1758207600@arc-hss.ca
SUMMARY:Linda's Gentle Yoga ~ ZOOM
DESCRIPTION:Take a break and unwind with Gentle Yoga on Zoom. This relaxing session is perfect for all levels — stretch\, breathe\, and find your calm. For more information\, or to register\, contact Courtney at 514-604-9455 or info@arc-hss.ca
URL:https://arc-hss.ca/fr/event/lindas-gentle-yoga-zoom/2025-09-18/
LOCATION:Zoom
ATTACH;FMTTYPE=image/png:https://arc-hss.ca/wp-content/uploads/2025/01/Gentle-Yoga-on-Zoom-Feb-2025.png
ORGANIZER;CN="Assistance & Referral Centre (ARC)":MAILTO:info@arc-hss.ca
END:VEVENT
BEGIN:VEVENT
DTSTART;TZID=America/New_York:20250922T103000
DTEND;TZID=America/New_York:20250922T113000
DTSTAMP:20260421T214233
CREATED:20250109T134823Z
LAST-MODIFIED:20250930T155728Z
UID:10020421-1758537000-1758540600@arc-hss.ca
SUMMARY:French Conversation Group ~ GPK
DESCRIPTION:Want to improve your French? Come and join our friendly group.\nLearning is a treasure that will follow you everywhere.\nTo register call Therese at (514) 605-9500 or send an email to: outreachgpk@arc-hss.ca
URL:https://arc-hss.ca/fr/event/french-conversation-group-2-2-2/2025-09-22/
LOCATION:ARC Activity Center\, 91 Churchill Blvd\, Greenfield Park\, Quebec\, Canada
ATTACH;FMTTYPE=image/png:https://arc-hss.ca/wp-content/uploads/2023/09/French-Conversation-Reboot-2023.png
ORGANIZER;CN="Assistance & Referral Centre (ARC)":MAILTO:info@arc-hss.ca
END:VEVENT
BEGIN:VEVENT
DTSTART;TZID=America/New_York:20250923T100000
DTEND;TZID=America/New_York:20250923T120000
DTSTAMP:20260421T214233
CREATED:20250828T190851Z
LAST-MODIFIED:20250828T200521Z
UID:10020492-1758621600-1758628800@arc-hss.ca
SUMMARY:Social Cooking ~ GPK
DESCRIPTION:Love to cook and connect? Join our social cooking group for fun recipes and great company! Registration required — waitlist available. Contact Courtney at 514-604-9455 or send an email to info@arc-hss.ca for more information.
URL:https://arc-hss.ca/fr/event/social-cooking-gpk/2025-09-23/
LOCATION:ARC Activity Center\, 91 Churchill Blvd\, Greenfield Park\, Quebec\, Canada
ATTACH;FMTTYPE=image/png:https://arc-hss.ca/wp-content/uploads/2025/08/SOCIAL-COOKING.png
END:VEVENT
BEGIN:VEVENT
DTSTART;TZID=America/New_York:20250923T103000
DTEND;TZID=America/New_York:20250923T111500
DTSTAMP:20260421T214233
CREATED:20250829T163416Z
LAST-MODIFIED:20250930T170509Z
UID:10020813-1758623400-1758626100@arc-hss.ca
SUMMARY:Kindaroo Preliteracy Activity ~ St-Jean  *NEW*
DESCRIPTION:Kinderoo is a 10-week pre-literacy program for children aged 0–4 with their parents or caregivers. Each week features songs\, rhymes\, and stories that support language development and bonding. To register or learn more\, contact Thérèse at stjean@arc-hss.ca
URL:https://arc-hss.ca/fr/event/kinderoo-preliteracy-activity-st-jean-new/2025-09-23/
LOCATION:Adélard-Berger Library – St-Jean\, 180 Laurier St.\, St-Jean-sur-Richelieu\, QC\, J3B 7J9\, Canada
ATTACH;FMTTYPE=image/png:https://arc-hss.ca/wp-content/uploads/2025/08/Graphic-KINDAROO-1.png
ORGANIZER;CN="Assistance & Referral Centre (ARC)":MAILTO:info@arc-hss.ca
END:VEVENT
BEGIN:VEVENT
DTSTART;TZID=America/New_York:20250925T140000
DTEND;TZID=America/New_York:20250925T150000
DTSTAMP:20260421T214233
CREATED:20250829T144739Z
LAST-MODIFIED:20250829T144739Z
UID:10020798-1758808800-1758812400@arc-hss.ca
SUMMARY:Linda's Gentle Yoga ~ ZOOM
DESCRIPTION:Take a break and unwind with Gentle Yoga on Zoom. This relaxing session is perfect for all levels — stretch\, breathe\, and find your calm. For more information\, or to register\, contact Courtney at 514-604-9455 or info@arc-hss.ca
URL:https://arc-hss.ca/fr/event/lindas-gentle-yoga-zoom/2025-09-25/
LOCATION:Zoom
ATTACH;FMTTYPE=image/png:https://arc-hss.ca/wp-content/uploads/2025/01/Gentle-Yoga-on-Zoom-Feb-2025.png
ORGANIZER;CN="Assistance & Referral Centre (ARC)":MAILTO:info@arc-hss.ca
END:VEVENT
BEGIN:VEVENT
DTSTART;TZID=America/New_York:20250929T103000
DTEND;TZID=America/New_York:20250929T113000
DTSTAMP:20260421T214233
CREATED:20250109T134823Z
LAST-MODIFIED:20250930T155728Z
UID:10020422-1759141800-1759145400@arc-hss.ca
SUMMARY:French Conversation Group ~ GPK
DESCRIPTION:Want to improve your French? Come and join our friendly group.\nLearning is a treasure that will follow you everywhere.\nTo register call Therese at (514) 605-9500 or send an email to: outreachgpk@arc-hss.ca
URL:https://arc-hss.ca/fr/event/french-conversation-group-2-2-2/2025-09-29/
LOCATION:ARC Activity Center\, 91 Churchill Blvd\, Greenfield Park\, Quebec\, Canada
ATTACH;FMTTYPE=image/png:https://arc-hss.ca/wp-content/uploads/2023/09/French-Conversation-Reboot-2023.png
ORGANIZER;CN="Assistance & Referral Centre (ARC)":MAILTO:info@arc-hss.ca
END:VEVENT
END:VCALENDAR