BEGIN:VCALENDAR
VERSION:2.0
PRODID:-//ARC - ECPv6.15.20//NONSGML v1.0//EN
CALSCALE:GREGORIAN
METHOD:PUBLISH
X-ORIGINAL-URL:https://arc-hss.ca/fr/
X-WR-CALDESC:Évènements pour ARC
REFRESH-INTERVAL;VALUE=DURATION:PT1H
X-Robots-Tag:noindex
X-PUBLISHED-TTL:PT1H
BEGIN:VTIMEZONE
TZID:America/New_York
BEGIN:DAYLIGHT
TZOFFSETFROM:-0500
TZOFFSETTO:-0400
TZNAME:EDT
DTSTART:20240310T070000
END:DAYLIGHT
BEGIN:STANDARD
TZOFFSETFROM:-0400
TZOFFSETTO:-0500
TZNAME:EST
DTSTART:20241103T060000
END:STANDARD
BEGIN:DAYLIGHT
TZOFFSETFROM:-0500
TZOFFSETTO:-0400
TZNAME:EDT
DTSTART:20250309T070000
END:DAYLIGHT
BEGIN:STANDARD
TZOFFSETFROM:-0400
TZOFFSETTO:-0500
TZNAME:EST
DTSTART:20251102T060000
END:STANDARD
BEGIN:DAYLIGHT
TZOFFSETFROM:-0500
TZOFFSETTO:-0400
TZNAME:EDT
DTSTART:20260308T070000
END:DAYLIGHT
BEGIN:STANDARD
TZOFFSETFROM:-0400
TZOFFSETTO:-0500
TZNAME:EST
DTSTART:20261101T060000
END:STANDARD
END:VTIMEZONE
BEGIN:VEVENT
DTSTART;TZID=America/New_York:20250602T081936
DTEND;TZID=America/New_York:20250602T081936
DTSTAMP:20260424T041044
CREATED:20250203T004518Z
LAST-MODIFIED:20250602T121937Z
UID:10018702-1748852376-1748852376@arc-hss.ca
SUMMARY:Book Club ~ GPK
DESCRIPTION:Come and join our NEW community driven and volunteer led book club at our activity center. REGISTRATION OBLIGATORY by sending an email to:  sgrievesleduc@gmail.com
URL:https://arc-hss.ca/fr/event/book-club-gpk/
LOCATION:ARC Activity Center\, 91 Churchill Blvd\, Greenfield Park\, Quebec\, Canada
ATTACH;FMTTYPE=image/png:https://arc-hss.ca/wp-content/uploads/2025/02/Book-Club-GPK-Launch.png
END:VEVENT
BEGIN:VEVENT
DTSTART;TZID=America/New_York:20250603T133000
DTEND;TZID=America/New_York:20250603T150000
DTSTAMP:20260424T041044
CREATED:20250530T214451Z
LAST-MODIFIED:20250530T214451Z
UID:10020180-1748957400-1748962800@arc-hss.ca
SUMMARY:Employment Workshop ~ ACCESS
DESCRIPTION:The Assistance and Referral Centre continues it 6-part employment workshop series in collaboration with Espace Pivot for the ARC community. We still have 2 exciting workshops left. If interested we encourage you to sign up as spots still remain\, this is a great opportunity to meet and learn from employment professionals in the community! These workshops are open to individuals of all ages. \n\nJune 3 – Preparing for an Interview\nJune 17 – Using Social Networking to Find Employment Opportunities\n\nThese workshops will take place from 1:30-3:00 p.m. at the ACCESS Professional Training Centre located at 7900 Taschereau\, Blvd.\, Building C. For further information please see the details in the graphic or contact Andre at employment@arc-hss.ca or (514) 712-6575 to register.
URL:https://arc-hss.ca/fr/event/employment-clinic-gpk-2/2025-06-03/
LOCATION:ACCESS\, 7900 Taschereau Blvd\, Building C\, Brossard\, Quebec\, J4X 1C2\, Canada
ATTACH;FMTTYPE=image/png:https://arc-hss.ca/wp-content/uploads/2025/02/Graphic-6-workshopswith-ACCESSEspacePivot-DONE.png
ORGANIZER;CN="Assistance & Referral Centre (ARC)":MAILTO:info@arc-hss.ca
END:VEVENT
BEGIN:VEVENT
DTSTART;TZID=America/New_York:20250604T100000
DTEND;TZID=America/New_York:20250604T120000
DTSTAMP:20260424T041044
CREATED:20250603T185550Z
LAST-MODIFIED:20250603T185847Z
UID:10020306-1749031200-1749038400@arc-hss.ca
SUMMARY:Parent & Child Playtime ~ Lacolle ** NEW DAY **
DESCRIPTION:Join us every Wednesday from 10:00 a.m.-12:00 p.m. for a fun-filled morning of games\, crafts and activities. Each week features a new theme designed to spark creativity\, encourage bonding and create lasting memories for both parents and children. It’s a fantastic chance to connect with other families and share in the joy of play. Don’t miss out – we can’t wait to see you there! Contact Céline to register.
URL:https://arc-hss.ca/fr/event/parent-child-playtime-lacolle-2-2-2-2-2/2025-06-04/
LOCATION:Lacolle\, 10 Ste-Marie\, Lacolle\, Quebec\, J0J 1J0\, Canada
ATTACH;FMTTYPE=image/png:https://arc-hss.ca/wp-content/uploads/2025/05/PLAYTIME-EN-LACOLLE-JUNE-DONE-1.png
END:VEVENT
BEGIN:VEVENT
DTSTART;TZID=America/New_York:20250604T100000
DTEND;TZID=America/New_York:20250604T233000
DTSTAMP:20260424T041044
CREATED:20250530T231734Z
LAST-MODIFIED:20250530T231827Z
UID:10020182-1749031200-1749079800@arc-hss.ca
SUMMARY:Caregivers Cafe ~ GPK
DESCRIPTION:Come to our safe\, cozy and comfortable space at 91 Churchill\, to share\, listen or just relax with other caregivers. We are here for you every Wednesday from 10:00 – 11:30 a.m.
URL:https://arc-hss.ca/fr/event/caregivers-cafe-2-2-2-2-2-2-2-2-2-2/2025-06-04/
LOCATION:ARC Activity Center\, 91 Churchill Blvd\, Greenfield Park\, Quebec\, Canada
ATTACH;FMTTYPE=image/png:https://arc-hss.ca/wp-content/uploads/2025/05/Caregivers-Cafe-2025-3.png
ORGANIZER;CN="Assistance & Referral Centre (ARC)":MAILTO:info@arc-hss.ca
END:VEVENT
BEGIN:VEVENT
DTSTART;TZID=America/New_York:20250605T183000
DTEND;TZID=America/New_York:20250605T210000
DTSTAMP:20260424T041044
CREATED:20250531T001159Z
LAST-MODIFIED:20250531T001311Z
UID:10020249-1749148200-1749157200@arc-hss.ca
SUMMARY:French Conversation Club "Parlez Vous? Let's Chat!" ~ Saint Jean
DESCRIPTION:« Parlez-Vous? Let’s Chat! is a weekly French conversation club designed for English speakers who want to improve their French in everyday situations. Whether you are a beginner or looking to refine your skills\, this informal group offers a relaxed and friendly setting to practice speaking and build confidence. Join us for our last meeting of this session on Thursday\, June 5. To mark the occasion\, we will meet at Buvette Laganière\, 167 Richelieu St. in Saint-Jean-sur-Richelieu at 6:30 p.m. For more information or to RSVP\, contact Céline by email or call (514) 980-8900.
URL:https://arc-hss.ca/fr/event/new-french-conversation-club-saint-jean-2/
LOCATION:Restaurant Buvette Laganiere\, 167 Richelieu St.\, Saint-Jean-sur-Richelieu\, Quebec\, J3B 6X7\, Canada
ATTACH;FMTTYPE=image/png:https://arc-hss.ca/wp-content/uploads/2025/04/Graphic-PARLEZ-VOUS-LETS-CHAT-1.png
ORGANIZER;CN="Assistance & Referral Centre (ARC)":MAILTO:info@arc-hss.ca
END:VEVENT
BEGIN:VEVENT
DTSTART;TZID=America/New_York:20250607T163000
DTEND;TZID=America/New_York:20250607T220000
DTSTAMP:20260424T041044
CREATED:20241031T193845Z
LAST-MODIFIED:20250526T183051Z
UID:10012854-1749313800-1749333600@arc-hss.ca
SUMMARY:Community Dinner Dance ~ Legion GPK
DESCRIPTION:Our Community Dinner Dance promises to be a delightful blend of fun\, friendship and fabulousness! Secure your tickets by completing the registration form on our website or clicking the REGISTER button below. You may also contact us at (514) 604-9455 or info@arc-hss.ca. Don’t let the sun set on this chance to make lasting summer memories! \nPayable by e-transfer to etransfer@arc-hss.ca\, (password: archss2025)\, cash or cheque payable to Assistance and Referral Centre. You may also drop off this form and payment at one of our locations. Registration deadline is May 28. \nhttps://www.arc-hss.ca/community-dinner-dance-june-7-2025/
URL:https://arc-hss.ca/fr/event/community-dinner-dance-legion-gpk/
LOCATION:Greenfield Park Legion\, 205 Empire St.\, Greenfield Park\, Quebec\, J4V 1T9\, Canada
ATTACH;FMTTYPE=image/png:https://arc-hss.ca/wp-content/uploads/2025/05/Orange-And-Yellow-Vibrant-Tropical-Summer-Party-Poster.png
ORGANIZER;CN="Assistance & Referral Centre (ARC)":MAILTO:info@arc-hss.ca
END:VEVENT
BEGIN:VEVENT
DTSTART;TZID=America/New_York:20250611T100000
DTEND;TZID=America/New_York:20250611T120000
DTSTAMP:20260424T041044
CREATED:20250603T185550Z
LAST-MODIFIED:20250603T185847Z
UID:10020307-1749636000-1749643200@arc-hss.ca
SUMMARY:Parent & Child Playtime ~ Lacolle ** NEW DAY **
DESCRIPTION:Join us every Wednesday from 10:00 a.m.-12:00 p.m. for a fun-filled morning of games\, crafts and activities. Each week features a new theme designed to spark creativity\, encourage bonding and create lasting memories for both parents and children. It’s a fantastic chance to connect with other families and share in the joy of play. Don’t miss out – we can’t wait to see you there! Contact Céline to register.
URL:https://arc-hss.ca/fr/event/parent-child-playtime-lacolle-2-2-2-2-2/2025-06-11/
LOCATION:Lacolle\, 10 Ste-Marie\, Lacolle\, Quebec\, J0J 1J0\, Canada
ATTACH;FMTTYPE=image/png:https://arc-hss.ca/wp-content/uploads/2025/05/PLAYTIME-EN-LACOLLE-JUNE-DONE-1.png
END:VEVENT
BEGIN:VEVENT
DTSTART;TZID=America/New_York:20250611T100000
DTEND;TZID=America/New_York:20250611T233000
DTSTAMP:20260424T041044
CREATED:20250530T231734Z
LAST-MODIFIED:20250530T231827Z
UID:10020184-1749636000-1749684600@arc-hss.ca
SUMMARY:Caregivers Cafe ~ GPK
DESCRIPTION:Come to our safe\, cozy and comfortable space at 91 Churchill\, to share\, listen or just relax with other caregivers. We are here for you every Wednesday from 10:00 – 11:30 a.m.
URL:https://arc-hss.ca/fr/event/caregivers-cafe-2-2-2-2-2-2-2-2-2-2/2025-06-11/
LOCATION:ARC Activity Center\, 91 Churchill Blvd\, Greenfield Park\, Quebec\, Canada
ATTACH;FMTTYPE=image/png:https://arc-hss.ca/wp-content/uploads/2025/05/Caregivers-Cafe-2025-3.png
ORGANIZER;CN="Assistance & Referral Centre (ARC)":MAILTO:info@arc-hss.ca
END:VEVENT
BEGIN:VEVENT
DTSTART;TZID=America/New_York:20250617T133000
DTEND;TZID=America/New_York:20250617T150000
DTSTAMP:20260424T041044
CREATED:20250530T214451Z
LAST-MODIFIED:20250530T214451Z
UID:10020181-1750167000-1750172400@arc-hss.ca
SUMMARY:Employment Workshop ~ ACCESS
DESCRIPTION:The Assistance and Referral Centre continues it 6-part employment workshop series in collaboration with Espace Pivot for the ARC community. We still have 2 exciting workshops left. If interested we encourage you to sign up as spots still remain\, this is a great opportunity to meet and learn from employment professionals in the community! These workshops are open to individuals of all ages. \n\nJune 3 – Preparing for an Interview\nJune 17 – Using Social Networking to Find Employment Opportunities\n\nThese workshops will take place from 1:30-3:00 p.m. at the ACCESS Professional Training Centre located at 7900 Taschereau\, Blvd.\, Building C. For further information please see the details in the graphic or contact Andre at employment@arc-hss.ca or (514) 712-6575 to register.
URL:https://arc-hss.ca/fr/event/employment-clinic-gpk-2/2025-06-17/
LOCATION:ACCESS\, 7900 Taschereau Blvd\, Building C\, Brossard\, Quebec\, J4X 1C2\, Canada
ATTACH;FMTTYPE=image/png:https://arc-hss.ca/wp-content/uploads/2025/02/Graphic-6-workshopswith-ACCESSEspacePivot-DONE.png
ORGANIZER;CN="Assistance & Referral Centre (ARC)":MAILTO:info@arc-hss.ca
END:VEVENT
BEGIN:VEVENT
DTSTART;TZID=America/New_York:20250618T100000
DTEND;TZID=America/New_York:20250618T120000
DTSTAMP:20260424T041044
CREATED:20250603T185550Z
LAST-MODIFIED:20250603T185847Z
UID:10020308-1750240800-1750248000@arc-hss.ca
SUMMARY:Parent & Child Playtime ~ Lacolle ** NEW DAY **
DESCRIPTION:Join us every Wednesday from 10:00 a.m.-12:00 p.m. for a fun-filled morning of games\, crafts and activities. Each week features a new theme designed to spark creativity\, encourage bonding and create lasting memories for both parents and children. It’s a fantastic chance to connect with other families and share in the joy of play. Don’t miss out – we can’t wait to see you there! Contact Céline to register.
URL:https://arc-hss.ca/fr/event/parent-child-playtime-lacolle-2-2-2-2-2/2025-06-18/
LOCATION:Lacolle\, 10 Ste-Marie\, Lacolle\, Quebec\, J0J 1J0\, Canada
ATTACH;FMTTYPE=image/png:https://arc-hss.ca/wp-content/uploads/2025/05/PLAYTIME-EN-LACOLLE-JUNE-DONE-1.png
END:VEVENT
BEGIN:VEVENT
DTSTART;TZID=America/New_York:20250619T093000
DTEND;TZID=America/New_York:20250619T110000
DTSTAMP:20260424T041044
CREATED:20250531T001606Z
LAST-MODIFIED:20250531T002035Z
UID:10020251-1750325400-1750330800@arc-hss.ca
SUMMARY:Therapeutic Doodling Workshop ~ Saint Jean
DESCRIPTION:Therapeutic Doodling Workshop Life brings constant change—whether it’s a new job\, a big move\, or shifting routines. This creative workshop offers a chance to slow down and explore resilience through therapeutic doodling\, using simple art therapy techniques to support emotional well-being during times of transition. Join us on Thursday\, June 19 from 9:30-11:00 a.m. in the lower level of the Centre Culturel Fernand-Charest (190 Laurier St.\, Saint-Jean-sur-Richelieu) For parking and easy access\, use the Mercier Street entrance. For more information or to register\, contact Céline. Space is limited\, so reserve your spot today!
URL:https://arc-hss.ca/fr/event/therapeutic-doodling-workshop-saint-jean/
LOCATION:Centre Culturel Fernand-Charest\, 190 Laurier St\, Saint-Jean-sur-Richelieu\, Quebec\, J3B 7J9\, Canada
ATTACH;FMTTYPE=image/png:https://arc-hss.ca/wp-content/uploads/2025/05/Therapeutic-Doodling-JUNE.png
ORGANIZER;CN="Assistance & Referral Centre (ARC)":MAILTO:info@arc-hss.ca
END:VEVENT
END:VCALENDAR