BEGIN:VCALENDAR
VERSION:2.0
PRODID:-//ARC - ECPv6.15.20//NONSGML v1.0//EN
CALSCALE:GREGORIAN
METHOD:PUBLISH
X-WR-CALNAME:ARC
X-ORIGINAL-URL:https://arc-hss.ca/fr/
X-WR-CALDESC:Évènements pour ARC
REFRESH-INTERVAL;VALUE=DURATION:PT1H
X-Robots-Tag:noindex
X-PUBLISHED-TTL:PT1H
BEGIN:VTIMEZONE
TZID:America/New_York
BEGIN:DAYLIGHT
TZOFFSETFROM:-0500
TZOFFSETTO:-0400
TZNAME:EDT
DTSTART:20230312T070000
END:DAYLIGHT
BEGIN:STANDARD
TZOFFSETFROM:-0400
TZOFFSETTO:-0500
TZNAME:EST
DTSTART:20231105T060000
END:STANDARD
BEGIN:DAYLIGHT
TZOFFSETFROM:-0500
TZOFFSETTO:-0400
TZNAME:EDT
DTSTART:20240310T070000
END:DAYLIGHT
BEGIN:STANDARD
TZOFFSETFROM:-0400
TZOFFSETTO:-0500
TZNAME:EST
DTSTART:20241103T060000
END:STANDARD
BEGIN:DAYLIGHT
TZOFFSETFROM:-0500
TZOFFSETTO:-0400
TZNAME:EDT
DTSTART:20250309T070000
END:DAYLIGHT
BEGIN:STANDARD
TZOFFSETFROM:-0400
TZOFFSETTO:-0500
TZNAME:EST
DTSTART:20251102T060000
END:STANDARD
END:VTIMEZONE
BEGIN:VEVENT
DTSTART;TZID=America/New_York:20241202T103000
DTEND;TZID=America/New_York:20241202T113000
DTSTAMP:20260424T133415
CREATED:20240715T164943Z
LAST-MODIFIED:20240930T171423Z
UID:10012613-1733135400-1733139000@arc-hss.ca
SUMMARY:French Conversation Group ~ GPK
DESCRIPTION:Want to improve your French? Come and join our friendly group.\nLearning is a treasure that will follow you everywhere.\nTo register call (514) 213-3744.
URL:https://arc-hss.ca/fr/event/french-conversation-group-2-2/2024-12-02/
LOCATION:ARC Activity Center\, 91 Churchill Blvd\, Greenfield Park\, Quebec\, Canada
ATTACH;FMTTYPE=image/png:https://arc-hss.ca/wp-content/uploads/2023/09/French-Conversation-Reboot-2023.png
ORGANIZER;CN="Assistance & Referral Centre (ARC)":MAILTO:info@arc-hss.ca
END:VEVENT
BEGIN:VEVENT
DTSTART;TZID=America/New_York:20241202T130000
DTEND;TZID=America/New_York:20241202T143000
DTSTAMP:20260424T133415
CREATED:20240715T164513Z
LAST-MODIFIED:20240930T171325Z
UID:10012584-1733144400-1733149800@arc-hss.ca
SUMMARY:Rock Painting Workshop ~ GPK
DESCRIPTION:Come and join us for a creative activity\, to relax\, rejuvenate\, and de-stress.\nEveryone is welcome! To register call (514) 213-3744
URL:https://arc-hss.ca/fr/event/rock-painting-workshop-3-2-2/2024-12-02/
LOCATION:ARC Activity Center\, 91 Churchill Blvd\, Greenfield Park\, Quebec\, Canada
ATTACH;FMTTYPE=image/png:https://arc-hss.ca/wp-content/uploads/2023/09/Rock-painting.png
ORGANIZER;CN="Assistance & Referral Centre (ARC)":MAILTO:info@arc-hss.ca
END:VEVENT
BEGIN:VEVENT
DTSTART;TZID=America/New_York:20241203T100000
DTEND;TZID=America/New_York:20241203T113000
DTSTAMP:20260424T133415
CREATED:20240930T160451Z
LAST-MODIFIED:20240930T160451Z
UID:10012821-1733220000-1733225400@arc-hss.ca
SUMMARY:Zumbini Tuesdays ~ CGPKC
DESCRIPTION:Come and join the zumbini-fun every Tuesday morning from 10:00 – 11:30 a.m. for singing\, dancing\, playing instruments and snacks. Registration required by calling (514) 608-9600.
URL:https://arc-hss.ca/fr/event/zumbini-tuesdays-cgpkc/2024-12-03/
LOCATION:GPK Centre\, 330 Gladstone\, Greenfield Park\, Quebec\, J4V 2P7\, Canada
ATTACH;FMTTYPE=image/png:https://arc-hss.ca/wp-content/uploads/2024/09/Zumbini-Launch-Sept-2024.png
ORGANIZER;CN="Assistance & Referral Centre (ARC)":MAILTO:info@arc-hss.ca
END:VEVENT
BEGIN:VEVENT
DTSTART;TZID=America/New_York:20241204T100000
DTEND;TZID=America/New_York:20241204T120000
DTSTAMP:20260424T133415
CREATED:20240930T154440Z
LAST-MODIFIED:20241031T190137Z
UID:10012799-1733306400-1733313600@arc-hss.ca
SUMMARY:Coffee Talks ~ Parents & Child ~ Lacolle
DESCRIPTION:Come and join us every Wednesday from 10:00 am -12:00 pm at 10 Ste Marie Street in Lacolle\, to chit chat about parenting\, with or without your children. From Oct 2 – Dec 4\, 2024. No registration required\, and transportation is available upon request.  For more info. call Celine at (514) 980-8900
URL:https://arc-hss.ca/fr/event/coffee-talks-parents-child-lacolle/2024-12-04/
LOCATION:Lacolle\, 10 Ste-Marie\, Lacolle\, Quebec\, J0J 1J0\, Canada
ATTACH;FMTTYPE=image/png:https://arc-hss.ca/wp-content/uploads/2024/09/Coffee-talks-parent-child-lacolle-oct-dec.png
ORGANIZER;CN="Assistance & Referral Centre (ARC)":MAILTO:info@arc-hss.ca
END:VEVENT
BEGIN:VEVENT
DTSTART;TZID=America/New_York:20241204T133000
DTEND;TZID=America/New_York:20241204T150000
DTSTAMP:20260424T133415
CREATED:20240826T182429Z
LAST-MODIFIED:20240930T171149Z
UID:10012706-1733319000-1733324400@arc-hss.ca
SUMMARY:ARC 55+ Community ~ GPK
DESCRIPTION:Join us for fun activities and refreshments every week.\nEveryone is welcome!
URL:https://arc-hss.ca/fr/event/senior-wellness-centre-gpk-3-2-2/2024-12-04/
LOCATION:ARC Activity Center\, 91 Churchill Blvd\, Greenfield Park\, Quebec\, Canada
ATTACH;FMTTYPE=image/png:https://arc-hss.ca/wp-content/uploads/2024/01/Insta-GPK-SWC-NEW-APRIL-2024.png
ORGANIZER;CN="Assistance & Referral Centre (ARC)":MAILTO:info@arc-hss.ca
END:VEVENT
BEGIN:VEVENT
DTSTART;TZID=America/New_York:20241205T090000
DTEND;TZID=America/New_York:20241205T100000
DTSTAMP:20260424T133415
CREATED:20240911T185716Z
LAST-MODIFIED:20240930T170206Z
UID:10012770-1733389200-1733392800@arc-hss.ca
SUMMARY:Tai Chi/Qi Gong ~ CGPKC
DESCRIPTION:Come and join this mind-body exercise that combines movements\, meditation\, and deep breathing.\nEveryone is welcome ! Must register by sending an email to: taichirivesud@gmail.com
URL:https://arc-hss.ca/fr/event/tai-chi-qi-gong-2-2/2024-12-05/
LOCATION:GPK Centre\, 330 Gladstone\, Greenfield Park\, Quebec\, J4V 2P7\, Canada
ATTACH;FMTTYPE=image/jpeg:https://arc-hss.ca/wp-content/uploads/2024/01/Tai-Chi.jpg
ORGANIZER;CN="Assistance & Referral Centre (ARC)":MAILTO:info@arc-hss.ca
END:VEVENT
BEGIN:VEVENT
DTSTART;TZID=America/New_York:20241209T103000
DTEND;TZID=America/New_York:20241209T113000
DTSTAMP:20260424T133415
CREATED:20240715T164943Z
LAST-MODIFIED:20240930T171423Z
UID:10012614-1733740200-1733743800@arc-hss.ca
SUMMARY:French Conversation Group ~ GPK
DESCRIPTION:Want to improve your French? Come and join our friendly group.\nLearning is a treasure that will follow you everywhere.\nTo register call (514) 213-3744.
URL:https://arc-hss.ca/fr/event/french-conversation-group-2-2/2024-12-09/
LOCATION:ARC Activity Center\, 91 Churchill Blvd\, Greenfield Park\, Quebec\, Canada
ATTACH;FMTTYPE=image/png:https://arc-hss.ca/wp-content/uploads/2023/09/French-Conversation-Reboot-2023.png
ORGANIZER;CN="Assistance & Referral Centre (ARC)":MAILTO:info@arc-hss.ca
END:VEVENT
BEGIN:VEVENT
DTSTART;TZID=America/New_York:20241209T130000
DTEND;TZID=America/New_York:20241209T143000
DTSTAMP:20260424T133415
CREATED:20240715T164513Z
LAST-MODIFIED:20240930T171325Z
UID:10012585-1733749200-1733754600@arc-hss.ca
SUMMARY:Rock Painting Workshop ~ GPK
DESCRIPTION:Come and join us for a creative activity\, to relax\, rejuvenate\, and de-stress.\nEveryone is welcome! To register call (514) 213-3744
URL:https://arc-hss.ca/fr/event/rock-painting-workshop-3-2-2/2024-12-09/
LOCATION:ARC Activity Center\, 91 Churchill Blvd\, Greenfield Park\, Quebec\, Canada
ATTACH;FMTTYPE=image/png:https://arc-hss.ca/wp-content/uploads/2023/09/Rock-painting.png
ORGANIZER;CN="Assistance & Referral Centre (ARC)":MAILTO:info@arc-hss.ca
END:VEVENT
BEGIN:VEVENT
DTSTART;TZID=America/New_York:20241210T100000
DTEND;TZID=America/New_York:20241210T113000
DTSTAMP:20260424T133415
CREATED:20240930T160451Z
LAST-MODIFIED:20240930T160451Z
UID:10012822-1733824800-1733830200@arc-hss.ca
SUMMARY:Zumbini Tuesdays ~ CGPKC
DESCRIPTION:Come and join the zumbini-fun every Tuesday morning from 10:00 – 11:30 a.m. for singing\, dancing\, playing instruments and snacks. Registration required by calling (514) 608-9600.
URL:https://arc-hss.ca/fr/event/zumbini-tuesdays-cgpkc/2024-12-10/
LOCATION:GPK Centre\, 330 Gladstone\, Greenfield Park\, Quebec\, J4V 2P7\, Canada
ATTACH;FMTTYPE=image/png:https://arc-hss.ca/wp-content/uploads/2024/09/Zumbini-Launch-Sept-2024.png
ORGANIZER;CN="Assistance & Referral Centre (ARC)":MAILTO:info@arc-hss.ca
END:VEVENT
BEGIN:VEVENT
DTSTART;TZID=America/New_York:20241211T133000
DTEND;TZID=America/New_York:20241211T150000
DTSTAMP:20260424T133415
CREATED:20240826T182429Z
LAST-MODIFIED:20240930T171149Z
UID:10012707-1733923800-1733929200@arc-hss.ca
SUMMARY:ARC 55+ Community ~ GPK
DESCRIPTION:Join us for fun activities and refreshments every week.\nEveryone is welcome!
URL:https://arc-hss.ca/fr/event/senior-wellness-centre-gpk-3-2-2/2024-12-11/
LOCATION:ARC Activity Center\, 91 Churchill Blvd\, Greenfield Park\, Quebec\, Canada
ATTACH;FMTTYPE=image/png:https://arc-hss.ca/wp-content/uploads/2024/01/Insta-GPK-SWC-NEW-APRIL-2024.png
ORGANIZER;CN="Assistance & Referral Centre (ARC)":MAILTO:info@arc-hss.ca
END:VEVENT
BEGIN:VEVENT
DTSTART;TZID=America/New_York:20241212T090000
DTEND;TZID=America/New_York:20241212T100000
DTSTAMP:20260424T133415
CREATED:20240911T185716Z
LAST-MODIFIED:20240930T170206Z
UID:10012771-1733994000-1733997600@arc-hss.ca
SUMMARY:Tai Chi/Qi Gong ~ CGPKC
DESCRIPTION:Come and join this mind-body exercise that combines movements\, meditation\, and deep breathing.\nEveryone is welcome ! Must register by sending an email to: taichirivesud@gmail.com
URL:https://arc-hss.ca/fr/event/tai-chi-qi-gong-2-2/2024-12-12/
LOCATION:GPK Centre\, 330 Gladstone\, Greenfield Park\, Quebec\, J4V 2P7\, Canada
ATTACH;FMTTYPE=image/jpeg:https://arc-hss.ca/wp-content/uploads/2024/01/Tai-Chi.jpg
ORGANIZER;CN="Assistance & Referral Centre (ARC)":MAILTO:info@arc-hss.ca
END:VEVENT
BEGIN:VEVENT
DTSTART;TZID=America/New_York:20241216T103000
DTEND;TZID=America/New_York:20241216T113000
DTSTAMP:20260424T133415
CREATED:20240715T164943Z
LAST-MODIFIED:20240930T171423Z
UID:10012615-1734345000-1734348600@arc-hss.ca
SUMMARY:French Conversation Group ~ GPK
DESCRIPTION:Want to improve your French? Come and join our friendly group.\nLearning is a treasure that will follow you everywhere.\nTo register call (514) 213-3744.
URL:https://arc-hss.ca/fr/event/french-conversation-group-2-2/2024-12-16/
LOCATION:ARC Activity Center\, 91 Churchill Blvd\, Greenfield Park\, Quebec\, Canada
ATTACH;FMTTYPE=image/png:https://arc-hss.ca/wp-content/uploads/2023/09/French-Conversation-Reboot-2023.png
ORGANIZER;CN="Assistance & Referral Centre (ARC)":MAILTO:info@arc-hss.ca
END:VEVENT
BEGIN:VEVENT
DTSTART;TZID=America/New_York:20241216T130000
DTEND;TZID=America/New_York:20241216T143000
DTSTAMP:20260424T133415
CREATED:20240715T164513Z
LAST-MODIFIED:20240930T171325Z
UID:10012586-1734354000-1734359400@arc-hss.ca
SUMMARY:Rock Painting Workshop ~ GPK
DESCRIPTION:Come and join us for a creative activity\, to relax\, rejuvenate\, and de-stress.\nEveryone is welcome! To register call (514) 213-3744
URL:https://arc-hss.ca/fr/event/rock-painting-workshop-3-2-2/2024-12-16/
LOCATION:ARC Activity Center\, 91 Churchill Blvd\, Greenfield Park\, Quebec\, Canada
ATTACH;FMTTYPE=image/png:https://arc-hss.ca/wp-content/uploads/2023/09/Rock-painting.png
ORGANIZER;CN="Assistance & Referral Centre (ARC)":MAILTO:info@arc-hss.ca
END:VEVENT
BEGIN:VEVENT
DTSTART;TZID=America/New_York:20241217T100000
DTEND;TZID=America/New_York:20241217T113000
DTSTAMP:20260424T133415
CREATED:20240930T160451Z
LAST-MODIFIED:20240930T160451Z
UID:10012823-1734429600-1734435000@arc-hss.ca
SUMMARY:Zumbini Tuesdays ~ CGPKC
DESCRIPTION:Come and join the zumbini-fun every Tuesday morning from 10:00 – 11:30 a.m. for singing\, dancing\, playing instruments and snacks. Registration required by calling (514) 608-9600.
URL:https://arc-hss.ca/fr/event/zumbini-tuesdays-cgpkc/2024-12-17/
LOCATION:GPK Centre\, 330 Gladstone\, Greenfield Park\, Quebec\, J4V 2P7\, Canada
ATTACH;FMTTYPE=image/png:https://arc-hss.ca/wp-content/uploads/2024/09/Zumbini-Launch-Sept-2024.png
ORGANIZER;CN="Assistance & Referral Centre (ARC)":MAILTO:info@arc-hss.ca
END:VEVENT
BEGIN:VEVENT
DTSTART;TZID=America/New_York:20241218T133000
DTEND;TZID=America/New_York:20241218T150000
DTSTAMP:20260424T133415
CREATED:20240826T182429Z
LAST-MODIFIED:20240930T171149Z
UID:10012708-1734528600-1734534000@arc-hss.ca
SUMMARY:ARC 55+ Community ~ GPK
DESCRIPTION:Join us for fun activities and refreshments every week.\nEveryone is welcome!
URL:https://arc-hss.ca/fr/event/senior-wellness-centre-gpk-3-2-2/2024-12-18/
LOCATION:ARC Activity Center\, 91 Churchill Blvd\, Greenfield Park\, Quebec\, Canada
ATTACH;FMTTYPE=image/png:https://arc-hss.ca/wp-content/uploads/2024/01/Insta-GPK-SWC-NEW-APRIL-2024.png
ORGANIZER;CN="Assistance & Referral Centre (ARC)":MAILTO:info@arc-hss.ca
END:VEVENT
BEGIN:VEVENT
DTSTART;TZID=America/New_York:20241219T090000
DTEND;TZID=America/New_York:20241219T100000
DTSTAMP:20260424T133415
CREATED:20240911T185716Z
LAST-MODIFIED:20240930T170206Z
UID:10012772-1734598800-1734602400@arc-hss.ca
SUMMARY:Tai Chi/Qi Gong ~ CGPKC
DESCRIPTION:Come and join this mind-body exercise that combines movements\, meditation\, and deep breathing.\nEveryone is welcome ! Must register by sending an email to: taichirivesud@gmail.com
URL:https://arc-hss.ca/fr/event/tai-chi-qi-gong-2-2/2024-12-19/
LOCATION:GPK Centre\, 330 Gladstone\, Greenfield Park\, Quebec\, J4V 2P7\, Canada
ATTACH;FMTTYPE=image/jpeg:https://arc-hss.ca/wp-content/uploads/2024/01/Tai-Chi.jpg
ORGANIZER;CN="Assistance & Referral Centre (ARC)":MAILTO:info@arc-hss.ca
END:VEVENT
END:VCALENDAR