BEGIN:VCALENDAR
VERSION:2.0
PRODID:-//ARC - ECPv6.15.20//NONSGML v1.0//EN
CALSCALE:GREGORIAN
METHOD:PUBLISH
X-ORIGINAL-URL:https://arc-hss.ca/fr/
X-WR-CALDESC:Évènements pour ARC
REFRESH-INTERVAL;VALUE=DURATION:PT1H
X-Robots-Tag:noindex
X-PUBLISHED-TTL:PT1H
BEGIN:VTIMEZONE
TZID:America/New_York
BEGIN:DAYLIGHT
TZOFFSETFROM:-0500
TZOFFSETTO:-0400
TZNAME:EDT
DTSTART:20230312T070000
END:DAYLIGHT
BEGIN:STANDARD
TZOFFSETFROM:-0400
TZOFFSETTO:-0500
TZNAME:EST
DTSTART:20231105T060000
END:STANDARD
BEGIN:DAYLIGHT
TZOFFSETFROM:-0500
TZOFFSETTO:-0400
TZNAME:EDT
DTSTART:20240310T070000
END:DAYLIGHT
BEGIN:STANDARD
TZOFFSETFROM:-0400
TZOFFSETTO:-0500
TZNAME:EST
DTSTART:20241103T060000
END:STANDARD
BEGIN:DAYLIGHT
TZOFFSETFROM:-0500
TZOFFSETTO:-0400
TZNAME:EDT
DTSTART:20250309T070000
END:DAYLIGHT
BEGIN:STANDARD
TZOFFSETFROM:-0400
TZOFFSETTO:-0500
TZNAME:EST
DTSTART:20251102T060000
END:STANDARD
END:VTIMEZONE
BEGIN:VEVENT
DTSTART;TZID=America/New_York:20240501T100000
DTEND;TZID=America/New_York:20240501T110000
DTSTAMP:20260425T001127
CREATED:20240104T204324Z
LAST-MODIFIED:20240612T152327Z
UID:10006973-1714557600-1714561200@arc-hss.ca
SUMMARY:Mommy & Me Club - St Jean
DESCRIPTION:Come and join us for a lovely walk\, talk and baby time !
URL:https://arc-hss.ca/fr/event/mommy-and-me-walking-club-st-jean-2/2024-05-01/
LOCATION:QC
ATTACH;FMTTYPE=image/png:https://arc-hss.ca/wp-content/uploads/2024/01/Mommy-Me-St-Jean.png
ORGANIZER;CN="Assistance & Referral Centre (ARC)":MAILTO:info@arc-hss.ca
END:VEVENT
BEGIN:VEVENT
DTSTART;TZID=America/New_York:20240501T133000
DTEND;TZID=America/New_York:20240501T150000
DTSTAMP:20260425T001127
CREATED:20240104T205033Z
LAST-MODIFIED:20240612T145934Z
UID:10008015-1714570200-1714575600@arc-hss.ca
SUMMARY:ARC 55+ Community - GPK
DESCRIPTION:Join us for fun activities and refreshments every week.\nEveryone is welcome!
URL:https://arc-hss.ca/fr/event/senior-wellness-centre-gpk-3-2/2024-05-01/
LOCATION:ARC Activity Center\, 91 Churchill Blvd\, Greenfield Park\, Quebec\, Canada
ATTACH;FMTTYPE=image/png:https://arc-hss.ca/wp-content/uploads/2024/01/Insta-GPK-SWC-NEW-APRIL-2024.png
ORGANIZER;CN="Assistance & Referral Centre (ARC)":MAILTO:info@arc-hss.ca
END:VEVENT
BEGIN:VEVENT
DTSTART;TZID=America/New_York:20240502T090000
DTEND;TZID=America/New_York:20240502T100000
DTSTAMP:20260425T001127
CREATED:20240104T211015Z
LAST-MODIFIED:20240612T144941Z
UID:10010366-1714640400-1714644000@arc-hss.ca
SUMMARY:Tai Chi/Qi Gong @ CPGKC
DESCRIPTION:Come and join this mind-body exercise that combines movements\, meditation\, and deep breathing.\nEveryone is welcome ! Registration obligatory at: taichirivesud@gmail.com
URL:https://arc-hss.ca/fr/event/tai-chi-qi-gong-2/2024-05-02/
LOCATION:GPK Centre\, 330 Gladstone\, Greenfield Park\, Quebec\, J4V 2P7\, Canada
ATTACH;FMTTYPE=image/jpeg:https://arc-hss.ca/wp-content/uploads/2024/01/Tai-Chi.jpg
ORGANIZER;CN="Assistance & Referral Centre (ARC)":MAILTO:info@arc-hss.ca
END:VEVENT
BEGIN:VEVENT
DTSTART;TZID=America/New_York:20240502T140000
DTEND;TZID=America/New_York:20240502T150000
DTSTAMP:20260425T001127
CREATED:20240104T211811Z
LAST-MODIFIED:20240529T190848Z
UID:10009838-1714658400-1714662000@arc-hss.ca
SUMMARY:Linda's Gentle Yoga - ZOOM
DESCRIPTION:Join us on zoom for a non-strenuous\, simple\, gentle yoga.\nEveryone is welcome !
URL:https://arc-hss.ca/fr/event/lindas-gentle-yoga-zoom-2/2024-05-02/
LOCATION:Zoom
ATTACH;FMTTYPE=image/png:https://arc-hss.ca/wp-content/uploads/2024/01/Gentle-Yoga.png
ORGANIZER;CN="Assistance & Referral Centre (ARC)":MAILTO:info@arc-hss.ca
END:VEVENT
BEGIN:VEVENT
DTSTART;TZID=America/New_York:20240506T103000
DTEND;TZID=America/New_York:20240506T113000
DTSTAMP:20260425T001127
CREATED:20240104T141323Z
LAST-MODIFIED:20240529T195437Z
UID:10004363-1714991400-1714995000@arc-hss.ca
SUMMARY:French Conversation Group (GPK)
DESCRIPTION:Want to improve your French? Come and join our friendly group.\nLearning is a treasure that will follow you everywhere.
URL:https://arc-hss.ca/fr/event/french-conversation-group-2/2024-05-06/
LOCATION:ARC Activity Center\, 91 Churchill Blvd\, Greenfield Park\, Quebec\, Canada
ATTACH;FMTTYPE=image/png:https://arc-hss.ca/wp-content/uploads/2023/09/French-Conversation-Reboot-2023.png
ORGANIZER;CN="Assistance & Referral Centre (ARC)":MAILTO:info@arc-hss.ca
END:VEVENT
BEGIN:VEVENT
DTSTART;TZID=America/New_York:20240508T100000
DTEND;TZID=America/New_York:20240508T110000
DTSTAMP:20260425T001127
CREATED:20240104T204324Z
LAST-MODIFIED:20240612T152327Z
UID:10006974-1715162400-1715166000@arc-hss.ca
SUMMARY:Mommy & Me Club - St Jean
DESCRIPTION:Come and join us for a lovely walk\, talk and baby time !
URL:https://arc-hss.ca/fr/event/mommy-and-me-walking-club-st-jean-2/2024-05-08/
LOCATION:QC
ATTACH;FMTTYPE=image/png:https://arc-hss.ca/wp-content/uploads/2024/01/Mommy-Me-St-Jean.png
ORGANIZER;CN="Assistance & Referral Centre (ARC)":MAILTO:info@arc-hss.ca
END:VEVENT
BEGIN:VEVENT
DTSTART;TZID=America/New_York:20240508T133000
DTEND;TZID=America/New_York:20240508T150000
DTSTAMP:20260425T001127
CREATED:20240104T205033Z
LAST-MODIFIED:20240612T145934Z
UID:10008016-1715175000-1715180400@arc-hss.ca
SUMMARY:ARC 55+ Community - GPK
DESCRIPTION:Join us for fun activities and refreshments every week.\nEveryone is welcome!
URL:https://arc-hss.ca/fr/event/senior-wellness-centre-gpk-3-2/2024-05-08/
LOCATION:ARC Activity Center\, 91 Churchill Blvd\, Greenfield Park\, Quebec\, Canada
ATTACH;FMTTYPE=image/png:https://arc-hss.ca/wp-content/uploads/2024/01/Insta-GPK-SWC-NEW-APRIL-2024.png
ORGANIZER;CN="Assistance & Referral Centre (ARC)":MAILTO:info@arc-hss.ca
END:VEVENT
BEGIN:VEVENT
DTSTART;TZID=America/New_York:20240509T090000
DTEND;TZID=America/New_York:20240509T100000
DTSTAMP:20260425T001127
CREATED:20240104T211015Z
LAST-MODIFIED:20240612T144941Z
UID:10010367-1715245200-1715248800@arc-hss.ca
SUMMARY:Tai Chi/Qi Gong @ CPGKC
DESCRIPTION:Come and join this mind-body exercise that combines movements\, meditation\, and deep breathing.\nEveryone is welcome ! Registration obligatory at: taichirivesud@gmail.com
URL:https://arc-hss.ca/fr/event/tai-chi-qi-gong-2/2024-05-09/
LOCATION:GPK Centre\, 330 Gladstone\, Greenfield Park\, Quebec\, J4V 2P7\, Canada
ATTACH;FMTTYPE=image/jpeg:https://arc-hss.ca/wp-content/uploads/2024/01/Tai-Chi.jpg
ORGANIZER;CN="Assistance & Referral Centre (ARC)":MAILTO:info@arc-hss.ca
END:VEVENT
BEGIN:VEVENT
DTSTART;TZID=America/New_York:20240509T140000
DTEND;TZID=America/New_York:20240509T150000
DTSTAMP:20260425T001127
CREATED:20240104T211811Z
LAST-MODIFIED:20240529T190848Z
UID:10009839-1715263200-1715266800@arc-hss.ca
SUMMARY:Linda's Gentle Yoga - ZOOM
DESCRIPTION:Join us on zoom for a non-strenuous\, simple\, gentle yoga.\nEveryone is welcome !
URL:https://arc-hss.ca/fr/event/lindas-gentle-yoga-zoom-2/2024-05-09/
LOCATION:Zoom
ATTACH;FMTTYPE=image/png:https://arc-hss.ca/wp-content/uploads/2024/01/Gentle-Yoga.png
ORGANIZER;CN="Assistance & Referral Centre (ARC)":MAILTO:info@arc-hss.ca
END:VEVENT
BEGIN:VEVENT
DTSTART;TZID=America/New_York:20240513T103000
DTEND;TZID=America/New_York:20240513T113000
DTSTAMP:20260425T001127
CREATED:20240104T141323Z
LAST-MODIFIED:20240529T195437Z
UID:10004364-1715596200-1715599800@arc-hss.ca
SUMMARY:French Conversation Group (GPK)
DESCRIPTION:Want to improve your French? Come and join our friendly group.\nLearning is a treasure that will follow you everywhere.
URL:https://arc-hss.ca/fr/event/french-conversation-group-2/2024-05-13/
LOCATION:ARC Activity Center\, 91 Churchill Blvd\, Greenfield Park\, Quebec\, Canada
ATTACH;FMTTYPE=image/png:https://arc-hss.ca/wp-content/uploads/2023/09/French-Conversation-Reboot-2023.png
ORGANIZER;CN="Assistance & Referral Centre (ARC)":MAILTO:info@arc-hss.ca
END:VEVENT
BEGIN:VEVENT
DTSTART;TZID=America/New_York:20240515T100000
DTEND;TZID=America/New_York:20240515T110000
DTSTAMP:20260425T001127
CREATED:20240104T204324Z
LAST-MODIFIED:20240612T152327Z
UID:10006975-1715767200-1715770800@arc-hss.ca
SUMMARY:Mommy & Me Club - St Jean
DESCRIPTION:Come and join us for a lovely walk\, talk and baby time !
URL:https://arc-hss.ca/fr/event/mommy-and-me-walking-club-st-jean-2/2024-05-15/
LOCATION:QC
ATTACH;FMTTYPE=image/png:https://arc-hss.ca/wp-content/uploads/2024/01/Mommy-Me-St-Jean.png
ORGANIZER;CN="Assistance & Referral Centre (ARC)":MAILTO:info@arc-hss.ca
END:VEVENT
BEGIN:VEVENT
DTSTART;TZID=America/New_York:20240515T133000
DTEND;TZID=America/New_York:20240515T150000
DTSTAMP:20260425T001127
CREATED:20240104T205033Z
LAST-MODIFIED:20240612T145934Z
UID:10008017-1715779800-1715785200@arc-hss.ca
SUMMARY:ARC 55+ Community - GPK
DESCRIPTION:Join us for fun activities and refreshments every week.\nEveryone is welcome!
URL:https://arc-hss.ca/fr/event/senior-wellness-centre-gpk-3-2/2024-05-15/
LOCATION:ARC Activity Center\, 91 Churchill Blvd\, Greenfield Park\, Quebec\, Canada
ATTACH;FMTTYPE=image/png:https://arc-hss.ca/wp-content/uploads/2024/01/Insta-GPK-SWC-NEW-APRIL-2024.png
ORGANIZER;CN="Assistance & Referral Centre (ARC)":MAILTO:info@arc-hss.ca
END:VEVENT
BEGIN:VEVENT
DTSTART;TZID=America/New_York:20240516T090000
DTEND;TZID=America/New_York:20240516T100000
DTSTAMP:20260425T001127
CREATED:20240104T211015Z
LAST-MODIFIED:20240612T144941Z
UID:10010368-1715850000-1715853600@arc-hss.ca
SUMMARY:Tai Chi/Qi Gong @ CPGKC
DESCRIPTION:Come and join this mind-body exercise that combines movements\, meditation\, and deep breathing.\nEveryone is welcome ! Registration obligatory at: taichirivesud@gmail.com
URL:https://arc-hss.ca/fr/event/tai-chi-qi-gong-2/2024-05-16/
LOCATION:GPK Centre\, 330 Gladstone\, Greenfield Park\, Quebec\, J4V 2P7\, Canada
ATTACH;FMTTYPE=image/jpeg:https://arc-hss.ca/wp-content/uploads/2024/01/Tai-Chi.jpg
ORGANIZER;CN="Assistance & Referral Centre (ARC)":MAILTO:info@arc-hss.ca
END:VEVENT
BEGIN:VEVENT
DTSTART;TZID=America/New_York:20240516T140000
DTEND;TZID=America/New_York:20240516T150000
DTSTAMP:20260425T001127
CREATED:20240104T211811Z
LAST-MODIFIED:20240529T190848Z
UID:10009840-1715868000-1715871600@arc-hss.ca
SUMMARY:Linda's Gentle Yoga - ZOOM
DESCRIPTION:Join us on zoom for a non-strenuous\, simple\, gentle yoga.\nEveryone is welcome !
URL:https://arc-hss.ca/fr/event/lindas-gentle-yoga-zoom-2/2024-05-16/
LOCATION:Zoom
ATTACH;FMTTYPE=image/png:https://arc-hss.ca/wp-content/uploads/2024/01/Gentle-Yoga.png
ORGANIZER;CN="Assistance & Referral Centre (ARC)":MAILTO:info@arc-hss.ca
END:VEVENT
BEGIN:VEVENT
DTSTART;TZID=America/New_York:20240518T100000
DTEND;TZID=America/New_York:20240518T140000
DTSTAMP:20260425T001127
CREATED:20240430T162656Z
LAST-MODIFIED:20240430T162656Z
UID:10011801-1716026400-1716040800@arc-hss.ca
SUMMARY:Intergenerational Gardening (Clarenceville)
DESCRIPTION:Join us in Clarenceville on May 18 from 10:00 a.m. – 2:00 p.m. for an intergenerational gardening workshop\, where we will learn about effective practices in planting and maintaining a successful garden. There will be learning opportunities and activities for children\, parents and grandparents. Exact location to be confirmed. Contact lacolle@arc-hss.ca or (514) 980-8900 for more information.
URL:https://arc-hss.ca/fr/event/intergenerational-gardening-clarenceville/
LOCATION:QC
ATTACH;FMTTYPE=image/png:https://arc-hss.ca/wp-content/uploads/2024/04/Intergenerational-Gardening-Instagram-Post-May-18.png
ORGANIZER;CN="Assistance & Referral Centre (ARC)":MAILTO:info@arc-hss.ca
END:VEVENT
BEGIN:VEVENT
DTSTART;TZID=America/New_York:20240520T103000
DTEND;TZID=America/New_York:20240520T113000
DTSTAMP:20260425T001127
CREATED:20240104T141323Z
LAST-MODIFIED:20240529T195437Z
UID:10012349-1716201000-1716204600@arc-hss.ca
SUMMARY:French Conversation Group (GPK)
DESCRIPTION:Want to improve your French? Come and join our friendly group.\nLearning is a treasure that will follow you everywhere.
URL:https://arc-hss.ca/fr/event/french-conversation-group-2/2024-05-20/
LOCATION:ARC Activity Center\, 91 Churchill Blvd\, Greenfield Park\, Quebec\, Canada
ATTACH;FMTTYPE=image/png:https://arc-hss.ca/wp-content/uploads/2023/09/French-Conversation-Reboot-2023.png
ORGANIZER;CN="Assistance & Referral Centre (ARC)":MAILTO:info@arc-hss.ca
END:VEVENT
BEGIN:VEVENT
DTSTART;TZID=America/New_York:20240522T100000
DTEND;TZID=America/New_York:20240522T110000
DTSTAMP:20260425T001127
CREATED:20240104T204324Z
LAST-MODIFIED:20240612T152327Z
UID:10006976-1716372000-1716375600@arc-hss.ca
SUMMARY:Mommy & Me Club - St Jean
DESCRIPTION:Come and join us for a lovely walk\, talk and baby time !
URL:https://arc-hss.ca/fr/event/mommy-and-me-walking-club-st-jean-2/2024-05-22/
LOCATION:QC
ATTACH;FMTTYPE=image/png:https://arc-hss.ca/wp-content/uploads/2024/01/Mommy-Me-St-Jean.png
ORGANIZER;CN="Assistance & Referral Centre (ARC)":MAILTO:info@arc-hss.ca
END:VEVENT
BEGIN:VEVENT
DTSTART;TZID=America/New_York:20240522T133000
DTEND;TZID=America/New_York:20240522T150000
DTSTAMP:20260425T001127
CREATED:20240104T205033Z
LAST-MODIFIED:20240612T145934Z
UID:10008018-1716384600-1716390000@arc-hss.ca
SUMMARY:ARC 55+ Community - GPK
DESCRIPTION:Join us for fun activities and refreshments every week.\nEveryone is welcome!
URL:https://arc-hss.ca/fr/event/senior-wellness-centre-gpk-3-2/2024-05-22/
LOCATION:ARC Activity Center\, 91 Churchill Blvd\, Greenfield Park\, Quebec\, Canada
ATTACH;FMTTYPE=image/png:https://arc-hss.ca/wp-content/uploads/2024/01/Insta-GPK-SWC-NEW-APRIL-2024.png
ORGANIZER;CN="Assistance & Referral Centre (ARC)":MAILTO:info@arc-hss.ca
END:VEVENT
BEGIN:VEVENT
DTSTART;TZID=America/New_York:20240523T090000
DTEND;TZID=America/New_York:20240523T100000
DTSTAMP:20260425T001127
CREATED:20240104T211015Z
LAST-MODIFIED:20240612T144941Z
UID:10010369-1716454800-1716458400@arc-hss.ca
SUMMARY:Tai Chi/Qi Gong @ CPGKC
DESCRIPTION:Come and join this mind-body exercise that combines movements\, meditation\, and deep breathing.\nEveryone is welcome ! Registration obligatory at: taichirivesud@gmail.com
URL:https://arc-hss.ca/fr/event/tai-chi-qi-gong-2/2024-05-23/
LOCATION:GPK Centre\, 330 Gladstone\, Greenfield Park\, Quebec\, J4V 2P7\, Canada
ATTACH;FMTTYPE=image/jpeg:https://arc-hss.ca/wp-content/uploads/2024/01/Tai-Chi.jpg
ORGANIZER;CN="Assistance & Referral Centre (ARC)":MAILTO:info@arc-hss.ca
END:VEVENT
BEGIN:VEVENT
DTSTART;TZID=America/New_York:20240523T140000
DTEND;TZID=America/New_York:20240523T150000
DTSTAMP:20260425T001127
CREATED:20240104T211811Z
LAST-MODIFIED:20240529T190848Z
UID:10009841-1716472800-1716476400@arc-hss.ca
SUMMARY:Linda's Gentle Yoga - ZOOM
DESCRIPTION:Join us on zoom for a non-strenuous\, simple\, gentle yoga.\nEveryone is welcome !
URL:https://arc-hss.ca/fr/event/lindas-gentle-yoga-zoom-2/2024-05-23/
LOCATION:Zoom
ATTACH;FMTTYPE=image/png:https://arc-hss.ca/wp-content/uploads/2024/01/Gentle-Yoga.png
ORGANIZER;CN="Assistance & Referral Centre (ARC)":MAILTO:info@arc-hss.ca
END:VEVENT
BEGIN:VEVENT
DTSTART;TZID=America/New_York:20240527T103000
DTEND;TZID=America/New_York:20240527T113000
DTSTAMP:20260425T001127
CREATED:20240104T141323Z
LAST-MODIFIED:20240529T195437Z
UID:10004366-1716805800-1716809400@arc-hss.ca
SUMMARY:French Conversation Group (GPK)
DESCRIPTION:Want to improve your French? Come and join our friendly group.\nLearning is a treasure that will follow you everywhere.
URL:https://arc-hss.ca/fr/event/french-conversation-group-2/2024-05-27/
LOCATION:ARC Activity Center\, 91 Churchill Blvd\, Greenfield Park\, Quebec\, Canada
ATTACH;FMTTYPE=image/png:https://arc-hss.ca/wp-content/uploads/2023/09/French-Conversation-Reboot-2023.png
ORGANIZER;CN="Assistance & Referral Centre (ARC)":MAILTO:info@arc-hss.ca
END:VEVENT
BEGIN:VEVENT
DTSTART;TZID=America/New_York:20240529T100000
DTEND;TZID=America/New_York:20240529T110000
DTSTAMP:20260425T001127
CREATED:20240104T204324Z
LAST-MODIFIED:20240612T152327Z
UID:10006977-1716976800-1716980400@arc-hss.ca
SUMMARY:Mommy & Me Club - St Jean
DESCRIPTION:Come and join us for a lovely walk\, talk and baby time !
URL:https://arc-hss.ca/fr/event/mommy-and-me-walking-club-st-jean-2/2024-05-29/
LOCATION:QC
ATTACH;FMTTYPE=image/png:https://arc-hss.ca/wp-content/uploads/2024/01/Mommy-Me-St-Jean.png
ORGANIZER;CN="Assistance & Referral Centre (ARC)":MAILTO:info@arc-hss.ca
END:VEVENT
BEGIN:VEVENT
DTSTART;TZID=America/New_York:20240529T133000
DTEND;TZID=America/New_York:20240529T150000
DTSTAMP:20260425T001127
CREATED:20240104T205033Z
LAST-MODIFIED:20240612T145934Z
UID:10008019-1716989400-1716994800@arc-hss.ca
SUMMARY:ARC 55+ Community - GPK
DESCRIPTION:Join us for fun activities and refreshments every week.\nEveryone is welcome!
URL:https://arc-hss.ca/fr/event/senior-wellness-centre-gpk-3-2/2024-05-29/
LOCATION:ARC Activity Center\, 91 Churchill Blvd\, Greenfield Park\, Quebec\, Canada
ATTACH;FMTTYPE=image/png:https://arc-hss.ca/wp-content/uploads/2024/01/Insta-GPK-SWC-NEW-APRIL-2024.png
ORGANIZER;CN="Assistance & Referral Centre (ARC)":MAILTO:info@arc-hss.ca
END:VEVENT
BEGIN:VEVENT
DTSTART;TZID=America/New_York:20240530T090000
DTEND;TZID=America/New_York:20240530T100000
DTSTAMP:20260425T001127
CREATED:20240104T211015Z
LAST-MODIFIED:20240612T144941Z
UID:10010370-1717059600-1717063200@arc-hss.ca
SUMMARY:Tai Chi/Qi Gong @ CPGKC
DESCRIPTION:Come and join this mind-body exercise that combines movements\, meditation\, and deep breathing.\nEveryone is welcome ! Registration obligatory at: taichirivesud@gmail.com
URL:https://arc-hss.ca/fr/event/tai-chi-qi-gong-2/2024-05-30/
LOCATION:GPK Centre\, 330 Gladstone\, Greenfield Park\, Quebec\, J4V 2P7\, Canada
ATTACH;FMTTYPE=image/jpeg:https://arc-hss.ca/wp-content/uploads/2024/01/Tai-Chi.jpg
ORGANIZER;CN="Assistance & Referral Centre (ARC)":MAILTO:info@arc-hss.ca
END:VEVENT
BEGIN:VEVENT
DTSTART;TZID=America/New_York:20240530T140000
DTEND;TZID=America/New_York:20240530T150000
DTSTAMP:20260425T001127
CREATED:20240104T211811Z
LAST-MODIFIED:20240529T190848Z
UID:10009842-1717077600-1717081200@arc-hss.ca
SUMMARY:Linda's Gentle Yoga - ZOOM
DESCRIPTION:Join us on zoom for a non-strenuous\, simple\, gentle yoga.\nEveryone is welcome !
URL:https://arc-hss.ca/fr/event/lindas-gentle-yoga-zoom-2/2024-05-30/
LOCATION:Zoom
ATTACH;FMTTYPE=image/png:https://arc-hss.ca/wp-content/uploads/2024/01/Gentle-Yoga.png
ORGANIZER;CN="Assistance & Referral Centre (ARC)":MAILTO:info@arc-hss.ca
END:VEVENT
END:VCALENDAR