BEGIN:VCALENDAR
VERSION:2.0
PRODID:-//ARC - ECPv6.15.20//NONSGML v1.0//EN
CALSCALE:GREGORIAN
METHOD:PUBLISH
X-WR-CALNAME:ARC
X-ORIGINAL-URL:https://arc-hss.ca/fr/
X-WR-CALDESC:Évènements pour ARC
REFRESH-INTERVAL;VALUE=DURATION:PT1H
X-Robots-Tag:noindex
X-PUBLISHED-TTL:PT1H
BEGIN:VTIMEZONE
TZID:America/New_York
BEGIN:DAYLIGHT
TZOFFSETFROM:-0500
TZOFFSETTO:-0400
TZNAME:EDT
DTSTART:20220313T070000
END:DAYLIGHT
BEGIN:STANDARD
TZOFFSETFROM:-0400
TZOFFSETTO:-0500
TZNAME:EST
DTSTART:20221106T060000
END:STANDARD
BEGIN:DAYLIGHT
TZOFFSETFROM:-0500
TZOFFSETTO:-0400
TZNAME:EDT
DTSTART:20230312T070000
END:DAYLIGHT
BEGIN:STANDARD
TZOFFSETFROM:-0400
TZOFFSETTO:-0500
TZNAME:EST
DTSTART:20231105T060000
END:STANDARD
BEGIN:DAYLIGHT
TZOFFSETFROM:-0500
TZOFFSETTO:-0400
TZNAME:EDT
DTSTART:20240310T070000
END:DAYLIGHT
BEGIN:STANDARD
TZOFFSETFROM:-0400
TZOFFSETTO:-0500
TZNAME:EST
DTSTART:20241103T060000
END:STANDARD
END:VTIMEZONE
BEGIN:VEVENT
DTSTART;TZID=America/New_York:20231003T133000
DTEND;TZID=America/New_York:20231003T150000
DTSTAMP:20260425T113602
CREATED:20230823T181259Z
LAST-MODIFIED:20230823T181504Z
UID:10003160-1696339800-1696345200@arc-hss.ca
SUMMARY:STAND UP! Program
DESCRIPTION:Learn how to prevent falls and feel more secure.
URL:https://arc-hss.ca/fr/event/stand-up-program/2023-10-03/
LOCATION:ARC Activity Center\, 91 Churchill Blvd\, Greenfield Park\, Quebec\, Canada
ATTACH;FMTTYPE=image/png:https://arc-hss.ca/wp-content/uploads/2023/07/STAND-UP-Fall-2023.png
ORGANIZER;CN="Assistance & Referral Centre (ARC)":MAILTO:info@arc-hss.ca
END:VEVENT
BEGIN:VEVENT
DTSTART;TZID=America/New_York:20231005T090000
DTEND;TZID=America/New_York:20231005T100000
DTSTAMP:20260425T113602
CREATED:20230929T194729Z
LAST-MODIFIED:20231129T175115Z
UID:10003426-1696496400-1696500000@arc-hss.ca
SUMMARY:Tai Chi/Qi Gong
DESCRIPTION:Come and join this mind-body exercise that combines movements\, meditation\, and deep breathing.\nEveryone is welcome !
URL:https://arc-hss.ca/fr/event/tai-chi-qi-gong/2023-10-05/
LOCATION:GPK Centre\, 330 Gladstone\, Greenfield Park\, Quebec\, J4V 2P7\, Canada
ATTACH;FMTTYPE=image/jpeg:https://arc-hss.ca/wp-content/uploads/2023/09/Tai-Chi-July-2023.jpg
ORGANIZER;CN="Assistance & Referral Centre (ARC)":MAILTO:info@arc-hss.ca
END:VEVENT
BEGIN:VEVENT
DTSTART;TZID=America/New_York:20231005T133000
DTEND;TZID=America/New_York:20231005T150000
DTSTAMP:20260425T113602
CREATED:20230823T181259Z
LAST-MODIFIED:20230823T181504Z
UID:10003161-1696512600-1696518000@arc-hss.ca
SUMMARY:STAND UP! Program
DESCRIPTION:Learn how to prevent falls and feel more secure.
URL:https://arc-hss.ca/fr/event/stand-up-program/2023-10-05/
LOCATION:ARC Activity Center\, 91 Churchill Blvd\, Greenfield Park\, Quebec\, Canada
ATTACH;FMTTYPE=image/png:https://arc-hss.ca/wp-content/uploads/2023/07/STAND-UP-Fall-2023.png
ORGANIZER;CN="Assistance & Referral Centre (ARC)":MAILTO:info@arc-hss.ca
END:VEVENT
BEGIN:VEVENT
DTSTART;TZID=America/New_York:20231010T133000
DTEND;TZID=America/New_York:20231010T150000
DTSTAMP:20260425T113602
CREATED:20230823T181259Z
LAST-MODIFIED:20230823T181504Z
UID:10003162-1696944600-1696950000@arc-hss.ca
SUMMARY:STAND UP! Program
DESCRIPTION:Learn how to prevent falls and feel more secure.
URL:https://arc-hss.ca/fr/event/stand-up-program/2023-10-10/
LOCATION:ARC Activity Center\, 91 Churchill Blvd\, Greenfield Park\, Quebec\, Canada
ATTACH;FMTTYPE=image/png:https://arc-hss.ca/wp-content/uploads/2023/07/STAND-UP-Fall-2023.png
ORGANIZER;CN="Assistance & Referral Centre (ARC)":MAILTO:info@arc-hss.ca
END:VEVENT
BEGIN:VEVENT
DTSTART;TZID=America/New_York:20231010T190000
DTEND;TZID=America/New_York:20231010T203000
DTSTAMP:20260425T113602
CREATED:20230929T200013Z
LAST-MODIFIED:20230929T200013Z
UID:10003469-1696964400-1696969800@arc-hss.ca
SUMMARY:Caregivers Support Group - ZOOM
DESCRIPTION:Join our friendly\, supportive online group about how to ask for help.
URL:https://arc-hss.ca/fr/event/caregivers-support-group-zoom/
LOCATION:Zoom
ATTACH;FMTTYPE=image/png:https://arc-hss.ca/wp-content/uploads/2023/09/Caregivers-Support-Group-2023.png
ORGANIZER;CN="Assistance & Referral Centre (ARC)":MAILTO:info@arc-hss.ca
END:VEVENT
BEGIN:VEVENT
DTSTART;TZID=America/New_York:20231012T090000
DTEND;TZID=America/New_York:20231012T100000
DTSTAMP:20260425T113602
CREATED:20230929T194729Z
LAST-MODIFIED:20231129T175115Z
UID:10003427-1697101200-1697104800@arc-hss.ca
SUMMARY:Tai Chi/Qi Gong
DESCRIPTION:Come and join this mind-body exercise that combines movements\, meditation\, and deep breathing.\nEveryone is welcome !
URL:https://arc-hss.ca/fr/event/tai-chi-qi-gong/2023-10-12/
LOCATION:GPK Centre\, 330 Gladstone\, Greenfield Park\, Quebec\, J4V 2P7\, Canada
ATTACH;FMTTYPE=image/jpeg:https://arc-hss.ca/wp-content/uploads/2023/09/Tai-Chi-July-2023.jpg
ORGANIZER;CN="Assistance & Referral Centre (ARC)":MAILTO:info@arc-hss.ca
END:VEVENT
BEGIN:VEVENT
DTSTART;TZID=America/New_York:20231012T133000
DTEND;TZID=America/New_York:20231012T150000
DTSTAMP:20260425T113602
CREATED:20230823T181259Z
LAST-MODIFIED:20230823T181504Z
UID:10003163-1697117400-1697122800@arc-hss.ca
SUMMARY:STAND UP! Program
DESCRIPTION:Learn how to prevent falls and feel more secure.
URL:https://arc-hss.ca/fr/event/stand-up-program/2023-10-12/
LOCATION:ARC Activity Center\, 91 Churchill Blvd\, Greenfield Park\, Quebec\, Canada
ATTACH;FMTTYPE=image/png:https://arc-hss.ca/wp-content/uploads/2023/07/STAND-UP-Fall-2023.png
ORGANIZER;CN="Assistance & Referral Centre (ARC)":MAILTO:info@arc-hss.ca
END:VEVENT
BEGIN:VEVENT
DTSTART;TZID=America/New_York:20231017T133000
DTEND;TZID=America/New_York:20231017T150000
DTSTAMP:20260425T113602
CREATED:20230823T181259Z
LAST-MODIFIED:20230823T181504Z
UID:10003164-1697549400-1697554800@arc-hss.ca
SUMMARY:STAND UP! Program
DESCRIPTION:Learn how to prevent falls and feel more secure.
URL:https://arc-hss.ca/fr/event/stand-up-program/2023-10-17/
LOCATION:ARC Activity Center\, 91 Churchill Blvd\, Greenfield Park\, Quebec\, Canada
ATTACH;FMTTYPE=image/png:https://arc-hss.ca/wp-content/uploads/2023/07/STAND-UP-Fall-2023.png
ORGANIZER;CN="Assistance & Referral Centre (ARC)":MAILTO:info@arc-hss.ca
END:VEVENT
BEGIN:VEVENT
DTSTART;TZID=America/New_York:20231019T090000
DTEND;TZID=America/New_York:20231019T100000
DTSTAMP:20260425T113602
CREATED:20230929T194729Z
LAST-MODIFIED:20231129T175115Z
UID:10003428-1697706000-1697709600@arc-hss.ca
SUMMARY:Tai Chi/Qi Gong
DESCRIPTION:Come and join this mind-body exercise that combines movements\, meditation\, and deep breathing.\nEveryone is welcome !
URL:https://arc-hss.ca/fr/event/tai-chi-qi-gong/2023-10-19/
LOCATION:GPK Centre\, 330 Gladstone\, Greenfield Park\, Quebec\, J4V 2P7\, Canada
ATTACH;FMTTYPE=image/jpeg:https://arc-hss.ca/wp-content/uploads/2023/09/Tai-Chi-July-2023.jpg
ORGANIZER;CN="Assistance & Referral Centre (ARC)":MAILTO:info@arc-hss.ca
END:VEVENT
BEGIN:VEVENT
DTSTART;TZID=America/New_York:20231019T133000
DTEND;TZID=America/New_York:20231019T150000
DTSTAMP:20260425T113602
CREATED:20230823T181259Z
LAST-MODIFIED:20230823T181504Z
UID:10003165-1697722200-1697727600@arc-hss.ca
SUMMARY:STAND UP! Program
DESCRIPTION:Learn how to prevent falls and feel more secure.
URL:https://arc-hss.ca/fr/event/stand-up-program/2023-10-19/
LOCATION:ARC Activity Center\, 91 Churchill Blvd\, Greenfield Park\, Quebec\, Canada
ATTACH;FMTTYPE=image/png:https://arc-hss.ca/wp-content/uploads/2023/07/STAND-UP-Fall-2023.png
ORGANIZER;CN="Assistance & Referral Centre (ARC)":MAILTO:info@arc-hss.ca
END:VEVENT
BEGIN:VEVENT
DTSTART;TZID=America/New_York:20231024T133000
DTEND;TZID=America/New_York:20231024T150000
DTSTAMP:20260425T113602
CREATED:20230823T181259Z
LAST-MODIFIED:20230823T181504Z
UID:10003166-1698154200-1698159600@arc-hss.ca
SUMMARY:STAND UP! Program
DESCRIPTION:Learn how to prevent falls and feel more secure.
URL:https://arc-hss.ca/fr/event/stand-up-program/2023-10-24/
LOCATION:ARC Activity Center\, 91 Churchill Blvd\, Greenfield Park\, Quebec\, Canada
ATTACH;FMTTYPE=image/png:https://arc-hss.ca/wp-content/uploads/2023/07/STAND-UP-Fall-2023.png
ORGANIZER;CN="Assistance & Referral Centre (ARC)":MAILTO:info@arc-hss.ca
END:VEVENT
BEGIN:VEVENT
DTSTART;TZID=America/New_York:20231026T090000
DTEND;TZID=America/New_York:20231026T100000
DTSTAMP:20260425T113602
CREATED:20230929T194729Z
LAST-MODIFIED:20231129T175115Z
UID:10003429-1698310800-1698314400@arc-hss.ca
SUMMARY:Tai Chi/Qi Gong
DESCRIPTION:Come and join this mind-body exercise that combines movements\, meditation\, and deep breathing.\nEveryone is welcome !
URL:https://arc-hss.ca/fr/event/tai-chi-qi-gong/2023-10-26/
LOCATION:GPK Centre\, 330 Gladstone\, Greenfield Park\, Quebec\, J4V 2P7\, Canada
ATTACH;FMTTYPE=image/jpeg:https://arc-hss.ca/wp-content/uploads/2023/09/Tai-Chi-July-2023.jpg
ORGANIZER;CN="Assistance & Referral Centre (ARC)":MAILTO:info@arc-hss.ca
END:VEVENT
BEGIN:VEVENT
DTSTART;TZID=America/New_York:20231026T133000
DTEND;TZID=America/New_York:20231026T150000
DTSTAMP:20260425T113602
CREATED:20230823T181259Z
LAST-MODIFIED:20230823T181504Z
UID:10003167-1698327000-1698332400@arc-hss.ca
SUMMARY:STAND UP! Program
DESCRIPTION:Learn how to prevent falls and feel more secure.
URL:https://arc-hss.ca/fr/event/stand-up-program/2023-10-26/
LOCATION:ARC Activity Center\, 91 Churchill Blvd\, Greenfield Park\, Quebec\, Canada
ATTACH;FMTTYPE=image/png:https://arc-hss.ca/wp-content/uploads/2023/07/STAND-UP-Fall-2023.png
ORGANIZER;CN="Assistance & Referral Centre (ARC)":MAILTO:info@arc-hss.ca
END:VEVENT
BEGIN:VEVENT
DTSTART;TZID=America/New_York:20231031T133000
DTEND;TZID=America/New_York:20231031T150000
DTSTAMP:20260425T113602
CREATED:20230823T181259Z
LAST-MODIFIED:20230823T181504Z
UID:10003168-1698759000-1698764400@arc-hss.ca
SUMMARY:STAND UP! Program
DESCRIPTION:Learn how to prevent falls and feel more secure.
URL:https://arc-hss.ca/fr/event/stand-up-program/2023-10-31/
LOCATION:ARC Activity Center\, 91 Churchill Blvd\, Greenfield Park\, Quebec\, Canada
ATTACH;FMTTYPE=image/png:https://arc-hss.ca/wp-content/uploads/2023/07/STAND-UP-Fall-2023.png
ORGANIZER;CN="Assistance & Referral Centre (ARC)":MAILTO:info@arc-hss.ca
END:VEVENT
END:VCALENDAR