BEGIN:VCALENDAR
VERSION:2.0
PRODID:-//ARC - ECPv6.15.20//NONSGML v1.0//EN
CALSCALE:GREGORIAN
METHOD:PUBLISH
X-WR-CALNAME:ARC
X-ORIGINAL-URL:https://arc-hss.ca/fr/
X-WR-CALDESC:Évènements pour ARC
REFRESH-INTERVAL;VALUE=DURATION:PT1H
X-Robots-Tag:noindex
X-PUBLISHED-TTL:PT1H
BEGIN:VTIMEZONE
TZID:America/New_York
BEGIN:DAYLIGHT
TZOFFSETFROM:-0500
TZOFFSETTO:-0400
TZNAME:EDT
DTSTART:20220313T070000
END:DAYLIGHT
BEGIN:STANDARD
TZOFFSETFROM:-0400
TZOFFSETTO:-0500
TZNAME:EST
DTSTART:20221106T060000
END:STANDARD
BEGIN:DAYLIGHT
TZOFFSETFROM:-0500
TZOFFSETTO:-0400
TZNAME:EDT
DTSTART:20230312T070000
END:DAYLIGHT
BEGIN:STANDARD
TZOFFSETFROM:-0400
TZOFFSETTO:-0500
TZNAME:EST
DTSTART:20231105T060000
END:STANDARD
BEGIN:DAYLIGHT
TZOFFSETFROM:-0500
TZOFFSETTO:-0400
TZNAME:EDT
DTSTART:20240310T070000
END:DAYLIGHT
BEGIN:STANDARD
TZOFFSETFROM:-0400
TZOFFSETTO:-0500
TZNAME:EST
DTSTART:20241103T060000
END:STANDARD
END:VTIMEZONE
BEGIN:VEVENT
DTSTART;TZID=America/New_York:20230404T100000
DTEND;TZID=America/New_York:20230404T110000
DTSTAMP:20260425T213317
CREATED:20230131T023612Z
LAST-MODIFIED:20230131T023852Z
UID:10001627-1680602400-1680606000@arc-hss.ca
SUMMARY:Baby Tai Chi
DESCRIPTION:Will be offered during the month of April at the St-Jean-sur-Richelieu office from 10:00-11:00 a.m. on Tuesdays. \nRegistration is required to reserve your spot at npi@arc-hss.ca.
URL:https://arc-hss.ca/fr/event/baby-tai-chi/
LOCATION:ARC St-Jean-sur-Richelieu Office\, 927-B Seminaire Blvd\, St-Jean-sur-Richelieu office\, Quebec\, J3A 1B5\, Canada
ATTACH;FMTTYPE=image/png:https://arc-hss.ca/wp-content/uploads/2023/01/Baby-Tai-Chi-1.png
ORGANIZER;CN="Assistance & Referral Centre (ARC)":MAILTO:info@arc-hss.ca
END:VEVENT
BEGIN:VEVENT
DTSTART;TZID=America/New_York:20230404T190000
DTEND;TZID=America/New_York:20230404T203000
DTSTAMP:20260425T213317
CREATED:20230329T175221Z
LAST-MODIFIED:20230329T175221Z
UID:10002594-1680634800-1680640200@arc-hss.ca
SUMMARY:Conversations About Grief
DESCRIPTION:Support group via Zoom. Contact caregivers@arc-hss.ca for more information or to register.
URL:https://arc-hss.ca/fr/event/conversations-about-grief-2/
LOCATION:Zoom
ATTACH;FMTTYPE=image/png:https://arc-hss.ca/wp-content/uploads/2023/03/Conversations-About-Grief-April-2023.png
ORGANIZER;CN="Assistance & Referral Centre (ARC)":MAILTO:info@arc-hss.ca
END:VEVENT
BEGIN:VEVENT
DTSTART;TZID=America/New_York:20230406T090000
DTEND;TZID=America/New_York:20230406T100000
DTSTAMP:20260425T213317
CREATED:20230330T134114Z
LAST-MODIFIED:20230330T134259Z
UID:10002758-1680771600-1680775200@arc-hss.ca
SUMMARY:Tai Chi @ GPK Community Centre
DESCRIPTION:Tai Chi / Qi Gong \nOffered weekly in person at the GPK Community Centre on Thursdays from 9:00 to 10:00 a.m. \nLimited spots available. Please register at qi.mitchell@gmail.com.
URL:https://arc-hss.ca/fr/event/tai-chi-activity-centre-4-2/2023-04-06/
LOCATION:GPK Centre\, 330 Gladstone\, Greenfield Park\, Quebec\, J4V 2P7\, Canada
ATTACH;FMTTYPE=image/png:https://arc-hss.ca/wp-content/uploads/2023/03/Tai-Chi-CGPKC.png
ORGANIZER;CN="Assistance & Referral Centre (ARC)":MAILTO:info@arc-hss.ca
END:VEVENT
BEGIN:VEVENT
DTSTART;TZID=America/New_York:20230411T100000
DTEND;TZID=America/New_York:20230411T110000
DTSTAMP:20260425T213317
CREATED:20230131T023639Z
LAST-MODIFIED:20230131T023850Z
UID:10001626-1681207200-1681210800@arc-hss.ca
SUMMARY:Baby Tai Chi
DESCRIPTION:Will be offered during the month of April at the St-Jean-sur-Richelieu office from 10:00-11:00 a.m. on Tuesdays. \nRegistration is required to reserve your spot at npi@arc-hss.ca.
URL:https://arc-hss.ca/fr/event/baby-tai-chi-2/
LOCATION:ARC St-Jean-sur-Richelieu Office\, 927-B Seminaire Blvd\, St-Jean-sur-Richelieu office\, Quebec\, J3A 1B5\, Canada
ATTACH;FMTTYPE=image/png:https://arc-hss.ca/wp-content/uploads/2023/01/Baby-Tai-Chi-1.png
ORGANIZER;CN="Assistance & Referral Centre (ARC)":MAILTO:info@arc-hss.ca
END:VEVENT
BEGIN:VEVENT
DTSTART;TZID=America/New_York:20230411T190000
DTEND;TZID=America/New_York:20230411T203000
DTSTAMP:20260425T213317
CREATED:20230329T174746Z
LAST-MODIFIED:20230329T174746Z
UID:10002592-1681239600-1681245000@arc-hss.ca
SUMMARY:Caregivers Support Group via Zoom
DESCRIPTION:Join us for conversations about caring for those we love while caring for ourselves. Register at caregivers@arc-hss.ca.
URL:https://arc-hss.ca/fr/event/caregivers-support-group-via-zoom-2/
LOCATION:Zoom
ATTACH;FMTTYPE=image/png:https://arc-hss.ca/wp-content/uploads/2023/03/Caregivers-Support-Group-April-2023.png
ORGANIZER;CN="Assistance & Referral Centre (ARC)":MAILTO:info@arc-hss.ca
END:VEVENT
BEGIN:VEVENT
DTSTART;TZID=America/New_York:20230413T090000
DTEND;TZID=America/New_York:20230413T100000
DTSTAMP:20260425T213317
CREATED:20230330T134114Z
LAST-MODIFIED:20230330T134259Z
UID:10002762-1681376400-1681380000@arc-hss.ca
SUMMARY:Tai Chi @ GPK Community Centre
DESCRIPTION:Tai Chi / Qi Gong \nOffered weekly in person at the GPK Community Centre on Thursdays from 9:00 to 10:00 a.m. \nLimited spots available. Please register at qi.mitchell@gmail.com.
URL:https://arc-hss.ca/fr/event/tai-chi-activity-centre-4-2/2023-04-13/
LOCATION:GPK Centre\, 330 Gladstone\, Greenfield Park\, Quebec\, J4V 2P7\, Canada
ATTACH;FMTTYPE=image/png:https://arc-hss.ca/wp-content/uploads/2023/03/Tai-Chi-CGPKC.png
ORGANIZER;CN="Assistance & Referral Centre (ARC)":MAILTO:info@arc-hss.ca
END:VEVENT
BEGIN:VEVENT
DTSTART;TZID=America/New_York:20230418T100000
DTEND;TZID=America/New_York:20230418T110000
DTSTAMP:20260425T213317
CREATED:20230131T023704Z
LAST-MODIFIED:20230131T023845Z
UID:10001625-1681812000-1681815600@arc-hss.ca
SUMMARY:Baby Tai Chi
DESCRIPTION:Will be offered during the month of April at the St-Jean-sur-Richelieu office from 10:00-11:00 a.m. on Tuesdays. \nRegistration is required to reserve your spot at npi@arc-hss.ca.
URL:https://arc-hss.ca/fr/event/baby-tai-chi-3/
LOCATION:ARC St-Jean-sur-Richelieu Office\, 927-B Seminaire Blvd\, St-Jean-sur-Richelieu office\, Quebec\, J3A 1B5\, Canada
ATTACH;FMTTYPE=image/png:https://arc-hss.ca/wp-content/uploads/2023/01/Baby-Tai-Chi-1.png
ORGANIZER;CN="Assistance & Referral Centre (ARC)":MAILTO:info@arc-hss.ca
END:VEVENT
BEGIN:VEVENT
DTSTART;TZID=America/New_York:20230419T100000
DTEND;TZID=America/New_York:20230419T113000
DTSTAMP:20260425T213317
CREATED:20230329T174250Z
LAST-MODIFIED:20230329T174250Z
UID:10002590-1681898400-1681903800@arc-hss.ca
SUMMARY:CHEP: Advanced Care Planning entitled "Love is in the details". Via Zoom.
DESCRIPTION:This month’s CHEP (Community Health Education Program) will be held on Wednesday\, April 19 from 10:00-11:30 a.m. The topic is Advanced Care Planning entitled « Love is in the details » – a guide to assist you prepare your legacy notebook. Registration is required by clicking here to obtain the zoom link for the presentation.
URL:https://arc-hss.ca/fr/event/chep-advanced-care-planning-entitled-love-is-in-the-details-via-zoom/
LOCATION:Zoom
ATTACH;FMTTYPE=image/png:https://arc-hss.ca/wp-content/uploads/2023/03/CHEP-April-2023.png
ORGANIZER;CN="Assistance & Referral Centre (ARC)":MAILTO:info@arc-hss.ca
END:VEVENT
BEGIN:VEVENT
DTSTART;TZID=America/New_York:20230420T090000
DTEND;TZID=America/New_York:20230420T100000
DTSTAMP:20260425T213317
CREATED:20230330T134114Z
LAST-MODIFIED:20230330T134259Z
UID:10002763-1681981200-1681984800@arc-hss.ca
SUMMARY:Tai Chi @ GPK Community Centre
DESCRIPTION:Tai Chi / Qi Gong \nOffered weekly in person at the GPK Community Centre on Thursdays from 9:00 to 10:00 a.m. \nLimited spots available. Please register at qi.mitchell@gmail.com.
URL:https://arc-hss.ca/fr/event/tai-chi-activity-centre-4-2/2023-04-20/
LOCATION:GPK Centre\, 330 Gladstone\, Greenfield Park\, Quebec\, J4V 2P7\, Canada
ATTACH;FMTTYPE=image/png:https://arc-hss.ca/wp-content/uploads/2023/03/Tai-Chi-CGPKC.png
ORGANIZER;CN="Assistance & Referral Centre (ARC)":MAILTO:info@arc-hss.ca
END:VEVENT
BEGIN:VEVENT
DTSTART;TZID=America/New_York:20230422T163000
DTEND;TZID=America/New_York:20230422T220000
DTSTAMP:20260425T213317
CREATED:20230330T145004Z
LAST-MODIFIED:20230330T145004Z
UID:10002780-1682181000-1682200800@arc-hss.ca
SUMMARY:Community Super Supper - Italian Night !
DESCRIPTION:Join us for dinner\, dancing and great time. All ages are welcome! \nApril 22\, 2023 from 4:30 – 10:00 pm.
URL:https://arc-hss.ca/fr/event/community-super-supper-italian-night/
LOCATION:Greenfield Park Legion\, 205 Empire St.\, Greenfield Park\, Quebec\, J4V 1T9\, Canada
ATTACH;FMTTYPE=image/png:https://arc-hss.ca/wp-content/uploads/2023/03/Super-Supper-April-2023.png
ORGANIZER;CN="Assistance & Referral Centre (ARC)":MAILTO:info@arc-hss.ca
END:VEVENT
BEGIN:VEVENT
DTSTART;TZID=America/New_York:20230425T100000
DTEND;TZID=America/New_York:20230425T110000
DTSTAMP:20260425T213317
CREATED:20230131T024021Z
LAST-MODIFIED:20230131T024101Z
UID:10001629-1682416800-1682420400@arc-hss.ca
SUMMARY:Baby Tai Chi
DESCRIPTION:Will be offered during the month of April at the St-Jean-sur-Richelieu office from 10:00-11:00 a.m. on Tuesdays. \nRegistration is required to reserve your spot at npi@arc-hss.ca.
URL:https://arc-hss.ca/fr/event/baby-tai-chi-4/
LOCATION:ARC St-Jean-sur-Richelieu Office\, 927-B Seminaire Blvd\, St-Jean-sur-Richelieu office\, Quebec\, J3A 1B5\, Canada
ATTACH;FMTTYPE=image/png:https://arc-hss.ca/wp-content/uploads/2023/01/Baby-Tai-Chi-1.png
ORGANIZER;CN="Assistance & Referral Centre (ARC)":MAILTO:info@arc-hss.ca
END:VEVENT
BEGIN:VEVENT
DTSTART;TZID=America/New_York:20230425T190000
DTEND;TZID=America/New_York:20230425T200000
DTSTAMP:20260425T213317
CREATED:20230413T173747Z
LAST-MODIFIED:20230413T173747Z
UID:10002794-1682449200-1682452800@arc-hss.ca
SUMMARY:Reflections of Postpartum Mental Health
DESCRIPTION:All are welcome for this helpful discussion given by guest speaker Therese Callahan.
URL:https://arc-hss.ca/fr/event/reflections-of-postpartum-mental-health/
LOCATION:ARC St-Jean-sur-Richelieu Office\, 927-B Seminaire Blvd\, St-Jean-sur-Richelieu office\, Quebec\, J3A 1B5\, Canada
ATTACH;FMTTYPE=image/png:https://arc-hss.ca/wp-content/uploads/2023/04/Talking-to-Improve-Wellbeing-Apr-25-2023.png
ORGANIZER;CN="Assistance & Referral Centre (ARC)":MAILTO:info@arc-hss.ca
END:VEVENT
BEGIN:VEVENT
DTSTART;TZID=America/New_York:20230427T090000
DTEND;TZID=America/New_York:20230427T100000
DTSTAMP:20260425T213317
CREATED:20230330T134114Z
LAST-MODIFIED:20230330T134259Z
UID:10002764-1682586000-1682589600@arc-hss.ca
SUMMARY:Tai Chi @ GPK Community Centre
DESCRIPTION:Tai Chi / Qi Gong \nOffered weekly in person at the GPK Community Centre on Thursdays from 9:00 to 10:00 a.m. \nLimited spots available. Please register at qi.mitchell@gmail.com.
URL:https://arc-hss.ca/fr/event/tai-chi-activity-centre-4-2/2023-04-27/
LOCATION:GPK Centre\, 330 Gladstone\, Greenfield Park\, Quebec\, J4V 2P7\, Canada
ATTACH;FMTTYPE=image/png:https://arc-hss.ca/wp-content/uploads/2023/03/Tai-Chi-CGPKC.png
ORGANIZER;CN="Assistance & Referral Centre (ARC)":MAILTO:info@arc-hss.ca
END:VEVENT
BEGIN:VEVENT
DTSTART;TZID=America/New_York:20230429T100000
DTEND;TZID=America/New_York:20230429T163000
DTSTAMP:20260425T213317
CREATED:20230330T145458Z
LAST-MODIFIED:20230330T145458Z
UID:10002782-1682762400-1682785800@arc-hss.ca
SUMMARY:Write your story with comics !
DESCRIPTION:Free workshop for youths between 14-20\, hosted by Kate Lavut.
URL:https://arc-hss.ca/fr/event/write-your-story-with-comics/
LOCATION:ARC St-Jean-sur-Richelieu Office\, 927-B Seminaire Blvd\, St-Jean-sur-Richelieu office\, Quebec\, J3A 1B5\, Canada
ATTACH;FMTTYPE=image/png:https://arc-hss.ca/wp-content/uploads/2023/03/Comics-April-2023.png
ORGANIZER;CN="Assistance & Referral Centre (ARC)":MAILTO:info@arc-hss.ca
END:VEVENT
END:VCALENDAR