BEGIN:VCALENDAR
VERSION:2.0
PRODID:-//ARC - ECPv6.15.20//NONSGML v1.0//EN
CALSCALE:GREGORIAN
METHOD:PUBLISH
X-ORIGINAL-URL:https://arc-hss.ca/fr/
X-WR-CALDESC:Évènements pour ARC
REFRESH-INTERVAL;VALUE=DURATION:PT1H
X-Robots-Tag:noindex
X-PUBLISHED-TTL:PT1H
BEGIN:VTIMEZONE
TZID:America/New_York
BEGIN:DAYLIGHT
TZOFFSETFROM:-0500
TZOFFSETTO:-0400
TZNAME:EDT
DTSTART:20250309T070000
END:DAYLIGHT
BEGIN:STANDARD
TZOFFSETFROM:-0400
TZOFFSETTO:-0500
TZNAME:EST
DTSTART:20251102T060000
END:STANDARD
BEGIN:DAYLIGHT
TZOFFSETFROM:-0500
TZOFFSETTO:-0400
TZNAME:EDT
DTSTART:20260308T070000
END:DAYLIGHT
BEGIN:STANDARD
TZOFFSETFROM:-0400
TZOFFSETTO:-0500
TZNAME:EST
DTSTART:20261101T060000
END:STANDARD
BEGIN:DAYLIGHT
TZOFFSETFROM:-0500
TZOFFSETTO:-0400
TZNAME:EDT
DTSTART:20270314T070000
END:DAYLIGHT
BEGIN:STANDARD
TZOFFSETFROM:-0400
TZOFFSETTO:-0500
TZNAME:EST
DTSTART:20271107T060000
END:STANDARD
END:VTIMEZONE
BEGIN:VEVENT
DTSTART;TZID=America/New_York:20260429T100000
DTEND;TZID=America/New_York:20260429T233000
DTSTAMP:20260421T131720
CREATED:20260331T171900Z
LAST-MODIFIED:20260331T171900Z
UID:10021481-1777456800-1777505400@arc-hss.ca
SUMMARY:Caregivers Café ~ GPK
DESCRIPTION:Join our weekly group at 91 Churchill Blvd. in Greenfield Park\, designed to support family caregivers. It’s a welcoming space to explore health topics\, connect with others\, and build meaningful relationships. \nApril 29: Legal Tools for Caregivers Presented by Éducaloi\, this session covers essential legal tools and resources to help caregivers navigate important decisions with confidence. \nThis group is open to former caregivers too! For more information contact Christine at caregivers@archss.ca or (514) 608-9600.
URL:https://arc-hss.ca/fr/event/caregivers-cafe-gpk-3/
LOCATION:ARC Activity Center\, 91 Churchill Blvd\, Greenfield Park\, Quebec\, Canada
ATTACH;FMTTYPE=image/png:https://arc-hss.ca/wp-content/uploads/2026/01/Graphic-Caregiver-Cafe-April-DONE.png
ORGANIZER;CN="Assistance & Referral Centre (ARC)":MAILTO:info@arc-hss.ca
END:VEVENT
BEGIN:VEVENT
DTSTART;TZID=America/New_York:20260429T130000
DTEND;TZID=America/New_York:20260429T150000
DTSTAMP:20260421T131720
CREATED:20260331T165205Z
LAST-MODIFIED:20260331T165205Z
UID:10021477-1777467600-1777474800@arc-hss.ca
SUMMARY:NEW: Craft\, Create\, Connect ~ GPK
DESCRIPTION:Join Marie-Claude for Craft\, Create\, Connect\, a new monthly creative activity where you can explore new artistic projects—no experience needed. On April 29\, from 1:00 to 3:00 p.m.\, dive into abstract watercolour techniques in a relaxed\, welcoming setting. Registration is required—space is limited. \nTo for more information or to register\, contact Tania at gpk@arc-hss.ca or call (514) 213-3744.
URL:https://arc-hss.ca/fr/event/new-craft-create-connect-gpk/
LOCATION:ARC Activity Center\, 91 Churchill Blvd\, Greenfield Park\, Quebec\, Canada
ATTACH;FMTTYPE=image/png:https://arc-hss.ca/wp-content/uploads/2026/03/Graphic-Crafat-Create-Connect-April-2026.png
ORGANIZER;CN="Assistance & Referral Centre (ARC)":MAILTO:info@arc-hss.ca
END:VEVENT
BEGIN:VEVENT
DTSTART;TZID=America/New_York:20260429T133000
DTEND;TZID=America/New_York:20260429T150000
DTSTAMP:20260421T131720
CREATED:20250930T192936Z
LAST-MODIFIED:20260331T182141Z
UID:10020961-1777469400-1777474800@arc-hss.ca
SUMMARY:ARC 55+ Community ~ Chambly
DESCRIPTION:Join us on Wednesdays from 1:30 to 3:00 p.m. for engaging weekly activities designed to stimulate your mind\, body\, and creativity! \nApril 29: Don’t miss the Ageless documentary\, brought to you by the Cumming Centre\, which delves into real-life stories and challenges the everyday realities of ageism. \nFor more information or to register\, please email Tania at gpk@arc-hss.ca or call (514) 213-3744.
URL:https://arc-hss.ca/fr/event/arc-55-community-chambly-4/
LOCATION:Randell Hall\, 2000 Av. Bourgogne\, Chambly\, QC\, QC J3L 1Z4\, Canada
ATTACH;FMTTYPE=image/png:https://arc-hss.ca/wp-content/uploads/2024/01/Insta-ARC-55-SWI-NEWAPRIL-2024.png
ORGANIZER;CN="Assistance & Referral Centre (ARC)":MAILTO:info@arc-hss.ca
END:VEVENT
BEGIN:VEVENT
DTSTART;TZID=America/New_York:20260429T133000
DTEND;TZID=America/New_York:20260429T150000
DTSTAMP:20260421T131720
CREATED:20260331T183850Z
LAST-MODIFIED:20260331T183850Z
UID:10021487-1777469400-1777474800@arc-hss.ca
SUMMARY:ARC 55+ Community ~ Clarenceville
DESCRIPTION:Join us every Wednesday for engaging activities designed to support the physical\, cognitive and emotional well-being of English-speaking seniors aged 55 and over. \nApril 29: Exclusive screening: Tough Old Broads – After a widely successful theatrical release\, we are thrilled to bring this documentary to Clarenceville. Come be inspired by three trailblazing women who broke barriers in their younger years and continue to demand attention and lead change in the world. In English\, with French subtitles. \nNote: Due to ongoing construction at the community centre\, this month’s sessions will take place at the Free Methodist Church (1076 Front Street North\, Clarenceville). For more information or to register\, please contact Céline at hrr@arc-hss.ca or (514) 980-8900.
URL:https://arc-hss.ca/fr/event/arc-55-community-clarenceville-5/
LOCATION:Free Methodist Church – Clarenceville\, 1076 Front St. North\, Saint-Georges-de-Clarenceville\, QC\, J0J 1B0\, Canada
ATTACH;FMTTYPE=image/png:https://arc-hss.ca/wp-content/uploads/2026/01/Bilingual-CLARENCEVILLE-SWI-APRIL-2026.avif
ORGANIZER;CN="Assistance & Referral Centre (ARC)":MAILTO:info@arc-hss.ca
END:VEVENT
END:VCALENDAR