BEGIN:VCALENDAR
VERSION:2.0
PRODID:-//ARC - ECPv6.15.20//NONSGML v1.0//EN
CALSCALE:GREGORIAN
METHOD:PUBLISH
X-ORIGINAL-URL:https://arc-hss.ca/fr/
X-WR-CALDESC:Évènements pour ARC
REFRESH-INTERVAL;VALUE=DURATION:PT1H
X-Robots-Tag:noindex
X-PUBLISHED-TTL:PT1H
BEGIN:VTIMEZONE
TZID:America/New_York
BEGIN:DAYLIGHT
TZOFFSETFROM:-0500
TZOFFSETTO:-0400
TZNAME:EDT
DTSTART:20250309T070000
END:DAYLIGHT
BEGIN:STANDARD
TZOFFSETFROM:-0400
TZOFFSETTO:-0500
TZNAME:EST
DTSTART:20251102T060000
END:STANDARD
BEGIN:DAYLIGHT
TZOFFSETFROM:-0500
TZOFFSETTO:-0400
TZNAME:EDT
DTSTART:20260308T070000
END:DAYLIGHT
BEGIN:STANDARD
TZOFFSETFROM:-0400
TZOFFSETTO:-0500
TZNAME:EST
DTSTART:20261101T060000
END:STANDARD
BEGIN:DAYLIGHT
TZOFFSETFROM:-0500
TZOFFSETTO:-0400
TZNAME:EDT
DTSTART:20270314T070000
END:DAYLIGHT
BEGIN:STANDARD
TZOFFSETFROM:-0400
TZOFFSETTO:-0500
TZNAME:EST
DTSTART:20271107T060000
END:STANDARD
END:VTIMEZONE
BEGIN:VEVENT
DTSTART;TZID=America/New_York:20260415T100000
DTEND;TZID=America/New_York:20260415T113000
DTSTAMP:20260421T131718
CREATED:20250501T154423Z
LAST-MODIFIED:20260331T161731Z
UID:10020157-1776247200-1776252600@arc-hss.ca
SUMMARY:SHARP - Moving Into Care: What to Expect and How to Prepare ~ ZOOM
DESCRIPTION:A virtual presentation\, Service for Aging in the Right Place (SHARP)\, will take place on April 15 from 10:00 to 11:30 a.m. via Zoom. The April topic will be Moving Into Care: What to Expect and How to Prepare. This presentation is offered by the CHSSN. To register\, click here. \n 
URL:https://arc-hss.ca/fr/event/sharp-driving-safely-zoom/
LOCATION:Zoom
ATTACH;FMTTYPE=image/png:https://arc-hss.ca/wp-content/uploads/2025/05/SHARP-April.png
END:VEVENT
BEGIN:VEVENT
DTSTART;TZID=America/New_York:20260415T100000
DTEND;TZID=America/New_York:20260415T233000
DTSTAMP:20260421T131718
CREATED:20250829T173239Z
LAST-MODIFIED:20260331T171225Z
UID:10020821-1776247200-1776295800@arc-hss.ca
SUMMARY:Caregivers Café ~ GPK
DESCRIPTION:Join our weekly group at 91 Churchill Blvd. in Greenfield Park\, designed to support family caregivers. It’s a welcoming space to explore health topics\, connect with others\, and build meaningful relationships. \nApril 15: Moving Into Care – What to Expect (Zoom) A SHARP presentation offering practical guidance and resources for planning a transition into care\, helping you feel more informed and prepared. \nThis group is open to former caregivers too! For more information contact Christine at caregivers@archss.ca or (514) 608-9600.
URL:https://arc-hss.ca/fr/event/caregivers-cafe-gpk-2/
LOCATION:ARC Activity Center\, 91 Churchill Blvd\, Greenfield Park\, Quebec\, Canada
ORGANIZER;CN="Assistance & Referral Centre (ARC)":MAILTO:info@arc-hss.ca
END:VEVENT
BEGIN:VEVENT
DTSTART;TZID=America/New_York:20260415T133000
DTEND;TZID=America/New_York:20260415T150000
DTSTAMP:20260421T131718
CREATED:20260107T174642Z
LAST-MODIFIED:20260331T181544Z
UID:10021262-1776259800-1776265200@arc-hss.ca
SUMMARY:ARC 55+ Community ~ Chambly
DESCRIPTION:Join us on Wednesdays from 1:30 to 3:00 p.m. for engaging weekly activities designed to stimulate your mind\, body\, and creativity! \nApril 15: Pass the Painting Around – Get creative! Each person adds to a painting as it travels from one person to the next. \nFor more information or to register\, please email Tania at gpk@arc-hss.ca or call (514) 213-3744.
URL:https://arc-hss.ca/fr/event/arc-55-community-chambly-2/
LOCATION:Randell Hall\, 2000 Av. Bourgogne\, Chambly\, QC\, QC J3L 1Z4\, Canada
ATTACH;FMTTYPE=image/png:https://arc-hss.ca/wp-content/uploads/2024/01/Insta-ARC-55-SWI-NEWAPRIL-2024.png
ORGANIZER;CN="Assistance & Referral Centre (ARC)":MAILTO:info@arc-hss.ca
END:VEVENT
BEGIN:VEVENT
DTSTART;TZID=America/New_York:20260415T133000
DTEND;TZID=America/New_York:20260415T150000
DTSTAMP:20260421T131718
CREATED:20260107T181024Z
LAST-MODIFIED:20260331T183232Z
UID:10021264-1776259800-1776265200@arc-hss.ca
SUMMARY:ARC 55+ Community ~ Clarenceville
DESCRIPTION:Join us every Wednesday for engaging activities designed to support the physical\, cognitive and emotional well-being of English-speaking seniors aged 55 and over. \nApril 15: Exploring Ageism: an interactive workshop – Through a series of humorous and insightful illustrations\, Karen Hetherington from the Observatory on Aging and Society will engage us in a discussion on how ageism shows up in family life\, social settings and beyond. This interactive workshop is a chance to reflect\, share and start meaningful conversations about aging and respect across generations. \nNote: Due to ongoing construction at the community centre\, this month’s sessions will take place at the Free Methodist Church (1076 Front Street North\, Clarenceville). For more information or to register\, please contact Céline at hrr@arc-hss.ca or (514) 980-8900.
URL:https://arc-hss.ca/fr/event/arc-55-community-clarenceville/
LOCATION:Free Methodist Church – Clarenceville\, 1076 Front St. North\, Saint-Georges-de-Clarenceville\, QC\, J0J 1B0\, Canada
ATTACH;FMTTYPE=image/png:https://arc-hss.ca/wp-content/uploads/2026/01/Bilingual-CLARENCEVILLE-SWI-APRIL-2026.avif
ORGANIZER;CN="Assistance & Referral Centre (ARC)":MAILTO:info@arc-hss.ca
END:VEVENT
BEGIN:VEVENT
DTSTART;TZID=America/New_York:20260415T133000
DTEND;TZID=America/New_York:20260415T150000
DTSTAMP:20260421T131718
CREATED:20260127T190645Z
LAST-MODIFIED:20260331T164429Z
UID:10021326-1776259800-1776265200@arc-hss.ca
SUMMARY:Mindful Together ~ GPK
DESCRIPTION:Join us on April 15 from 1:30 to 3:00 p.m. for Mindful Together\, an activity that allows you a moment to pause and reconnect with yourself. This session will explore the « art of being present » while continuing to build our understanding of setting healthy boundaries and exploring personal limits. Through exercises and practical tips\, you’ll leave with some tools that you can use in everyday life. \nSpace is limited and registration is required. To register\, email Brandon at cmtydev@arc-hss.ca or (438) 465-4514 . \n 
URL:https://arc-hss.ca/fr/event/mindful-together-gpk/
LOCATION:ARC Activity Center\, 91 Churchill Blvd\, Greenfield Park\, Quebec\, Canada
ATTACH;FMTTYPE=image/png:https://arc-hss.ca/wp-content/uploads/2026/01/Mindful-Together-April.png
ORGANIZER;CN="Assistance & Referral Centre (ARC)":MAILTO:info@arc-hss.ca
END:VEVENT
END:VCALENDAR