BEGIN:VCALENDAR
VERSION:2.0
PRODID:-//ARC - ECPv6.15.20//NONSGML v1.0//EN
CALSCALE:GREGORIAN
METHOD:PUBLISH
X-ORIGINAL-URL:https://arc-hss.ca/fr/
X-WR-CALDESC:Évènements pour ARC
REFRESH-INTERVAL;VALUE=DURATION:PT1H
X-Robots-Tag:noindex
X-PUBLISHED-TTL:PT1H
BEGIN:VTIMEZONE
TZID:America/New_York
BEGIN:DAYLIGHT
TZOFFSETFROM:-0500
TZOFFSETTO:-0400
TZNAME:EDT
DTSTART:20250309T070000
END:DAYLIGHT
BEGIN:STANDARD
TZOFFSETFROM:-0400
TZOFFSETTO:-0500
TZNAME:EST
DTSTART:20251102T060000
END:STANDARD
BEGIN:DAYLIGHT
TZOFFSETFROM:-0500
TZOFFSETTO:-0400
TZNAME:EDT
DTSTART:20260308T070000
END:DAYLIGHT
BEGIN:STANDARD
TZOFFSETFROM:-0400
TZOFFSETTO:-0500
TZNAME:EST
DTSTART:20261101T060000
END:STANDARD
BEGIN:DAYLIGHT
TZOFFSETFROM:-0500
TZOFFSETTO:-0400
TZNAME:EDT
DTSTART:20270314T070000
END:DAYLIGHT
BEGIN:STANDARD
TZOFFSETFROM:-0400
TZOFFSETTO:-0500
TZNAME:EST
DTSTART:20271107T060000
END:STANDARD
END:VTIMEZONE
BEGIN:VEVENT
DTSTART;TZID=America/New_York:20260203T103000
DTEND;TZID=America/New_York:20260203T111500
DTSTAMP:20260421T161551
CREATED:20260107T171738Z
LAST-MODIFIED:20260127T191835Z
UID:10021198-1770114600-1770117300@arc-hss.ca
SUMMARY:Kindaroo Preliteracy Activity ~ St-Jean
DESCRIPTION:Kindaroo is back! Our popular 10-week pre-literacy program for children aged 0–4 and their parent or caregiver is a wonderful opportunity to do something special with your little ones over the winter months! Each week\, we’ll explore songs\, rhymes and stories designed to support language development and bonding — all in a warm\, welcoming environment. Join us every Tuesday from January 20 to March 30 at the Adélard-Berger Library\, 180 Laurier Street in Saint-Jean-sur-Richelieu from 10:30 to 11:15 a.m. To register or learn more\, contact Thérèse at stjean@arc-hss.ca  or by calling (514) 605-9500.
URL:https://arc-hss.ca/fr/event/kinderoo-preliteracy-activity-st-jean-new-2-2/2026-02-03/
LOCATION:Adélard-Berger Library – St-Jean\, 180 Laurier St.\, St-Jean-sur-Richelieu\, QC\, J3B 7J9\, Canada
ATTACH;FMTTYPE=image/jpeg:https://arc-hss.ca/wp-content/uploads/2025/08/KINDAROO.jpg
ORGANIZER;CN="Assistance & Referral Centre (ARC)":MAILTO:info@arc-hss.ca
END:VEVENT
BEGIN:VEVENT
DTSTART;TZID=America/New_York:20260203T133000
DTEND;TZID=America/New_York:20260203T150000
DTSTAMP:20260421T161551
CREATED:20250828T195223Z
LAST-MODIFIED:20260107T142630Z
UID:10020548-1770125400-1770130800@arc-hss.ca
SUMMARY:Digital Skills Workshop ~ GPK
DESCRIPTION:Unlock your digital confidence when it comes to ZOOM!  From getting started\, to troubleshooting with ease\, learn how to navigate virtual meetings and presentations comfortably\, so you can fully enjoy online activities and connect virtually with confidence. Join us on January 27 at 1:30 p.m. To register\, contact Tania at (514) 213-3744 or gpk@arc-hss.ca
URL:https://arc-hss.ca/fr/event/computers-tablets-workshop-gpk-2/
LOCATION:ARC Activity Center\, 91 Churchill Blvd\, Greenfield Park\, Quebec\, Canada
ATTACH;FMTTYPE=image/png:https://arc-hss.ca/wp-content/uploads/2025/08/February-DSW-1.png
ORGANIZER;CN="Assistance & Referral Centre (ARC)":MAILTO:info@arc-hss.ca
END:VEVENT
END:VCALENDAR