BEGIN:VCALENDAR
VERSION:2.0
PRODID:-//ARC - ECPv6.15.20//NONSGML v1.0//EN
CALSCALE:GREGORIAN
METHOD:PUBLISH
X-ORIGINAL-URL:https://arc-hss.ca/fr/
X-WR-CALDESC:Évènements pour ARC
REFRESH-INTERVAL;VALUE=DURATION:PT1H
X-Robots-Tag:noindex
X-PUBLISHED-TTL:PT1H
BEGIN:VTIMEZONE
TZID:America/New_York
BEGIN:DAYLIGHT
TZOFFSETFROM:-0500
TZOFFSETTO:-0400
TZNAME:EDT
DTSTART:20250309T070000
END:DAYLIGHT
BEGIN:STANDARD
TZOFFSETFROM:-0400
TZOFFSETTO:-0500
TZNAME:EST
DTSTART:20251102T060000
END:STANDARD
BEGIN:DAYLIGHT
TZOFFSETFROM:-0500
TZOFFSETTO:-0400
TZNAME:EDT
DTSTART:20260308T070000
END:DAYLIGHT
BEGIN:STANDARD
TZOFFSETFROM:-0400
TZOFFSETTO:-0500
TZNAME:EST
DTSTART:20261101T060000
END:STANDARD
BEGIN:DAYLIGHT
TZOFFSETFROM:-0500
TZOFFSETTO:-0400
TZNAME:EDT
DTSTART:20270314T070000
END:DAYLIGHT
BEGIN:STANDARD
TZOFFSETFROM:-0400
TZOFFSETTO:-0500
TZNAME:EST
DTSTART:20271107T060000
END:STANDARD
END:VTIMEZONE
BEGIN:VEVENT
DTSTART;TZID=America/New_York:20260125T100000
DTEND;TZID=America/New_York:20260125T150000
DTSTAMP:20260421T173630
CREATED:20260107T182325Z
LAST-MODIFIED:20260107T182325Z
UID:10021270-1769335200-1769353200@arc-hss.ca
SUMMARY:PSP Winter Carnival ~ St. Jean
DESCRIPTION:Through ARC’s exclusive partnership with the St-Jean Garrison’s sports centre (PSP)\, ARC participants are invited to attend PSP’s two-day winter carnival! Grab a ticket for Sunday\, January 25 at L’Estacade in Saint-Paul de l’Ile-aux-Noix for even more FREE outdoor fun\, a sugar shack-style meal and dog sled rides! Priority registration is extended to the ARC community from January 5 to 15 and tickets are limited\, so act quickly! \nTo register\, or for more information\, contact Céline at hrr@arc-hss.ca or (514) 980-8900.
URL:https://arc-hss.ca/fr/event/psp-winter-carnival-st-jean-2/
LOCATION:l’Estacade\, 64\, 13th Avenue\, Saint-Paul de l'Ile aux Noix\, Quebec\, J0J 1G0\, Canada
ATTACH;FMTTYPE=image/png:https://arc-hss.ca/wp-content/uploads/2025/05/Graphic-PSP-Winter-Carnival-Jan-2026.png
ORGANIZER;CN="Assistance & Referral Centre (ARC)":MAILTO:info@arc-hss.ca
END:VEVENT
END:VCALENDAR