BEGIN:VCALENDAR
VERSION:2.0
PRODID:-//ARC - ECPv6.15.20//NONSGML v1.0//EN
CALSCALE:GREGORIAN
METHOD:PUBLISH
X-WR-CALNAME:ARC
X-ORIGINAL-URL:https://arc-hss.ca/fr/
X-WR-CALDESC:Évènements pour ARC
REFRESH-INTERVAL;VALUE=DURATION:PT1H
X-Robots-Tag:noindex
X-PUBLISHED-TTL:PT1H
BEGIN:VTIMEZONE
TZID:America/New_York
BEGIN:DAYLIGHT
TZOFFSETFROM:-0500
TZOFFSETTO:-0400
TZNAME:EDT
DTSTART:20240310T070000
END:DAYLIGHT
BEGIN:STANDARD
TZOFFSETFROM:-0400
TZOFFSETTO:-0500
TZNAME:EST
DTSTART:20241103T060000
END:STANDARD
BEGIN:DAYLIGHT
TZOFFSETFROM:-0500
TZOFFSETTO:-0400
TZNAME:EDT
DTSTART:20250309T070000
END:DAYLIGHT
BEGIN:STANDARD
TZOFFSETFROM:-0400
TZOFFSETTO:-0500
TZNAME:EST
DTSTART:20251102T060000
END:STANDARD
BEGIN:DAYLIGHT
TZOFFSETFROM:-0500
TZOFFSETTO:-0400
TZNAME:EDT
DTSTART:20260308T070000
END:DAYLIGHT
BEGIN:STANDARD
TZOFFSETFROM:-0400
TZOFFSETTO:-0500
TZNAME:EST
DTSTART:20261101T060000
END:STANDARD
END:VTIMEZONE
BEGIN:VEVENT
DTSTART;TZID=America/New_York:20251117T103000
DTEND;TZID=America/New_York:20251117T233000
DTSTAMP:20260421T201538
CREATED:20251028T183413Z
LAST-MODIFIED:20251105T213922Z
UID:10020972-1763375400-1763422200@arc-hss.ca
SUMMARY:French Conversation Group ~ GPK
DESCRIPTION:Want to improve your French? Come and join our friendly group.\nLearning is a treasure that will follow you everywhere.\nTo register call Therese at (514) 605-9500 or send an email to: outreachgpk@arc-hss.ca
URL:https://arc-hss.ca/fr/event/french-conversation-group-gpk/2025-11-17/
LOCATION:ARC Activity Center\, 91 Churchill Blvd\, Greenfield Park\, Quebec\, Canada
ATTACH;FMTTYPE=image/png:https://arc-hss.ca/wp-content/uploads/2025/10/Draft.png
ORGANIZER;CN="Assistance & Referral Centre (ARC)":MAILTO:info@arc-hss.ca
END:VEVENT
BEGIN:VEVENT
DTSTART;TZID=America/New_York:20251117T130000
DTEND;TZID=America/New_York:20251117T143000
DTSTAMP:20260421T201538
CREATED:20251028T184223Z
LAST-MODIFIED:20251125T203938Z
UID:10021054-1763384400-1763389800@arc-hss.ca
SUMMARY:Rock Painting Workshop ~ GPK
DESCRIPTION:Relax\, Rejuvenate\, and De-Stress with Us. Looking for a fun\, creative activity to unwind? Join us for a relaxing and inspiring rock painting session! It’s the perfect way to escape the daily hustle\, tap into your creative side\, and leave your stress behind. Whether you’re an experienced artist or just looking to try something new\, our rock painting group is open to everyone! We provide all the supplies\, so all you need to bring is your imagination and a desire to create. \nTo register call Therese at (514)605-9500 or send an email to: outreachgpk@arc-hss.ca
URL:https://arc-hss.ca/fr/event/rock-painting-workshop-gpk/2025-11-17/
LOCATION:ARC Activity Center\, 91 Churchill Blvd\, Greenfield Park\, Quebec\, Canada
ATTACH;FMTTYPE=image/png:https://arc-hss.ca/wp-content/uploads/2023/09/Rock-painting.png
ORGANIZER;CN="Assistance & Referral Centre (ARC)":MAILTO:info@arc-hss.ca
END:VEVENT
BEGIN:VEVENT
DTSTART;TZID=America/New_York:20251117T140000
DTEND;TZID=America/New_York:20251117T153000
DTSTAMP:20260421T201538
CREATED:20251028T185403Z
LAST-MODIFIED:20251125T210923Z
UID:10021066-1763388000-1763393400@arc-hss.ca
SUMMARY:Ilana’s Virtual Drawing Class ~ ZOOM
DESCRIPTION:Looking to explore your creative side? Join our friendly group of artists who enjoy drawing and painting together. Whether you’re a beginner or experienced\, you’ll find a fun\, supportive space to create\, share\, and be inspired. Everyone is welcome! Send an email to info@arc-hss.ca to register.
URL:https://arc-hss.ca/fr/event/ilanas-virtual-drawing-class-zoom/2025-11-17/
LOCATION:Zoom
ATTACH;FMTTYPE=image/png:https://arc-hss.ca/wp-content/uploads/2024/10/Ilanas-Virtual-Drawing-Class-Feb-2025.png
ORGANIZER;CN="Assistance & Referral Centre (ARC)":MAILTO:info@arc-hss.ca
END:VEVENT
END:VCALENDAR