BEGIN:VCALENDAR
VERSION:2.0
PRODID:-//ARC - ECPv6.15.20//NONSGML v1.0//EN
CALSCALE:GREGORIAN
METHOD:PUBLISH
X-WR-CALNAME:ARC
X-ORIGINAL-URL:https://arc-hss.ca/fr/
X-WR-CALDESC:Évènements pour ARC
REFRESH-INTERVAL;VALUE=DURATION:PT1H
X-Robots-Tag:noindex
X-PUBLISHED-TTL:PT1H
BEGIN:VTIMEZONE
TZID:America/New_York
BEGIN:DAYLIGHT
TZOFFSETFROM:-0500
TZOFFSETTO:-0400
TZNAME:EDT
DTSTART:20240310T070000
END:DAYLIGHT
BEGIN:STANDARD
TZOFFSETFROM:-0400
TZOFFSETTO:-0500
TZNAME:EST
DTSTART:20241103T060000
END:STANDARD
BEGIN:DAYLIGHT
TZOFFSETFROM:-0500
TZOFFSETTO:-0400
TZNAME:EDT
DTSTART:20250309T070000
END:DAYLIGHT
BEGIN:STANDARD
TZOFFSETFROM:-0400
TZOFFSETTO:-0500
TZNAME:EST
DTSTART:20251102T060000
END:STANDARD
BEGIN:DAYLIGHT
TZOFFSETFROM:-0500
TZOFFSETTO:-0400
TZNAME:EDT
DTSTART:20260308T070000
END:DAYLIGHT
BEGIN:STANDARD
TZOFFSETFROM:-0400
TZOFFSETTO:-0500
TZNAME:EST
DTSTART:20261101T060000
END:STANDARD
END:VTIMEZONE
BEGIN:VEVENT
DTSTART;TZID=America/New_York:20251108T100000
DTEND;TZID=America/New_York:20251108T120000
DTSTAMP:20260421T201538
CREATED:20251029T201523Z
LAST-MODIFIED:20251029T201523Z
UID:10021009-1762596000-1762603200@arc-hss.ca
SUMMARY:Family Wellness Saturday ~ St-Jean
DESCRIPTION:Family Wellness Board Game Saturday! Bring the whole family for a fun morning of classic and modern board games. We’ll have cooperative games where teams play together to achieve a common objective as well as games for those with a more competitive spirit. Games for all ages\, skills and interests. Find us on November 8 from 10:00 a.m. to 12:00 p.m. at the Royal Military College in the Dextrase Building\, located at 15 Jacques-Cartier Street N. in St-Jean-sur-Richelieu. Email Therese or call (514) 605-9500 to reserve your spot today!
URL:https://arc-hss.ca/fr/event/family-wellness-saturday-st-jean/
LOCATION:Royal Military College\, 15 Rue Jacques-Cartier N\, Saint-Jean-sur-Richelieu\, QC\, J3B 8R8\,\, Canada
ATTACH;FMTTYPE=image/png:https://arc-hss.ca/wp-content/uploads/2024/11/FWS-OCTOBER-2025.png
ORGANIZER;CN="Assistance & Referral Centre (ARC)":MAILTO:info@arc-hss.ca
END:VEVENT
END:VCALENDAR