BEGIN:VCALENDAR
VERSION:2.0
PRODID:-//ARC - ECPv6.15.20//NONSGML v1.0//EN
CALSCALE:GREGORIAN
METHOD:PUBLISH
X-ORIGINAL-URL:https://arc-hss.ca/fr/
X-WR-CALDESC:Évènements pour ARC
REFRESH-INTERVAL;VALUE=DURATION:PT1H
X-Robots-Tag:noindex
X-PUBLISHED-TTL:PT1H
BEGIN:VTIMEZONE
TZID:America/New_York
BEGIN:DAYLIGHT
TZOFFSETFROM:-0500
TZOFFSETTO:-0400
TZNAME:EDT
DTSTART:20240310T070000
END:DAYLIGHT
BEGIN:STANDARD
TZOFFSETFROM:-0400
TZOFFSETTO:-0500
TZNAME:EST
DTSTART:20241103T060000
END:STANDARD
BEGIN:DAYLIGHT
TZOFFSETFROM:-0500
TZOFFSETTO:-0400
TZNAME:EDT
DTSTART:20250309T070000
END:DAYLIGHT
BEGIN:STANDARD
TZOFFSETFROM:-0400
TZOFFSETTO:-0500
TZNAME:EST
DTSTART:20251102T060000
END:STANDARD
BEGIN:DAYLIGHT
TZOFFSETFROM:-0500
TZOFFSETTO:-0400
TZNAME:EDT
DTSTART:20260308T070000
END:DAYLIGHT
BEGIN:STANDARD
TZOFFSETFROM:-0400
TZOFFSETTO:-0500
TZNAME:EST
DTSTART:20261101T060000
END:STANDARD
END:VTIMEZONE
BEGIN:VEVENT
DTSTART;TZID=America/New_York:20251105T100000
DTEND;TZID=America/New_York:20251105T233000
DTSTAMP:20260421T201702
CREATED:20250829T172227Z
LAST-MODIFIED:20251030T150047Z
UID:10020817-1762336800-1762385400@arc-hss.ca
SUMMARY:Caregivers Café ~ GPK
DESCRIPTION:Join our weekly group at 91 Churchill Blvd. in Greenfield Park\, designed to support family caregivers. It’s a welcoming space to explore health topics\, connect with others\, and build meaningful relationships. \nNovember 5: our Community Development Coordinator\, Brandon Stewart\, guides Discovering Caregiver Privilege and What It Means. We’re all heading in the same direction but the path is different. Learn more about our shared experiences and how we can see things through the lens of our fellow Café participants. \nThis group is open to former caregivers too! For more information contact Christine at caregivers@archss.ca or (514) 608-9600.
URL:https://arc-hss.ca/fr/event/caregivers-cafe-2-2-2-2-2-2-2-2-2-2-2/
LOCATION:ARC Activity Center\, 91 Churchill Blvd\, Greenfield Park\, Quebec\, Canada
ATTACH;FMTTYPE=image/png:https://arc-hss.ca/wp-content/uploads/2025/08/Caregivers-Cafe.png
ORGANIZER;CN="Assistance & Referral Centre (ARC)":MAILTO:info@arc-hss.ca
END:VEVENT
BEGIN:VEVENT
DTSTART;TZID=America/New_York:20251105T133000
DTEND;TZID=America/New_York:20251105T150000
DTSTAMP:20260421T201702
CREATED:20250829T184020Z
LAST-MODIFIED:20251030T154809Z
UID:10020835-1762349400-1762354800@arc-hss.ca
SUMMARY:ARC 55+ Community ~ GPK
DESCRIPTION:Join us every Wednesday for engaging weekly activities designed to stimulate your mind\, body and creativity! \nNovember 5: Join us for an informative session with the Community Justice Centre of Montérégie to better understand civil liability and your rights and responsibilities under the law. \nTo register\, contact Tania at (514) 213-3744 or gpk@arc-hss.ca.
URL:https://arc-hss.ca/fr/event/arc-55-community-gpk-2/
LOCATION:ARC Activity Center\, 91 Churchill Blvd\, Greenfield Park\, Quebec\, Canada
ATTACH;FMTTYPE=image/png:https://arc-hss.ca/wp-content/uploads/2024/01/Insta-GPK-SWC-NEW-APRIL-2024.png
ORGANIZER;CN="Assistance & Referral Centre (ARC)":MAILTO:info@arc-hss.ca
END:VEVENT
BEGIN:VEVENT
DTSTART;TZID=America/New_York:20251105T133000
DTEND;TZID=America/New_York:20251105T150000
DTSTAMP:20260421T201702
CREATED:20250930T195349Z
LAST-MODIFIED:20251030T161920Z
UID:10020965-1762349400-1762354800@arc-hss.ca
SUMMARY:ARC 55+ Community ~ Clarenceville
DESCRIPTION:Join us every Wednesday for engaging activities designed to support the physical\, cognitive and emotional well-being of English-speaking seniors aged 55 and over. \nNovember 5: Exploring Ageism Together: an interactive workshop –  Through a series of humorous and insightful illustrations\, Karen Hetherington from the Observatory on Aging and Society will engage us in a discussion on how ageism shows up in family life\, social settings and beyond. This interactive workshop is a chance to reflect\, share and start meaningful conversations about aging and respect across generations. \nNote: Due to ongoing construction at the community centre\, this month’s sessions will take place at the Free Methodist Church (1076 Front Street North\, Clarenceville). For more information or to register\, please contact Céline at hrr@arc-hss.ca or (514) 980-8900.
URL:https://arc-hss.ca/fr/event/arc-55-community-clarenceville-5/
LOCATION:Free Methodist Church – Clarenceville\, 1076 Front St. North\, Saint-Georges-de-Clarenceville\, QC\, J0J 1B0\, Canada
ATTACH;FMTTYPE=image/png:https://arc-hss.ca/wp-content/uploads/2025/09/Graphic-CLARENCEVILLE-SWI-NOV-2025.png
ORGANIZER;CN="Assistance & Referral Centre (ARC)":MAILTO:info@arc-hss.ca
END:VEVENT
END:VCALENDAR