BEGIN:VCALENDAR
VERSION:2.0
PRODID:-//ARC - ECPv6.15.20//NONSGML v1.0//EN
CALSCALE:GREGORIAN
METHOD:PUBLISH
X-WR-CALNAME:ARC
X-ORIGINAL-URL:https://arc-hss.ca/fr/
X-WR-CALDESC:Évènements pour ARC
REFRESH-INTERVAL;VALUE=DURATION:PT1H
X-Robots-Tag:noindex
X-PUBLISHED-TTL:PT1H
BEGIN:VTIMEZONE
TZID:America/New_York
BEGIN:DAYLIGHT
TZOFFSETFROM:-0500
TZOFFSETTO:-0400
TZNAME:EDT
DTSTART:20240310T070000
END:DAYLIGHT
BEGIN:STANDARD
TZOFFSETFROM:-0400
TZOFFSETTO:-0500
TZNAME:EST
DTSTART:20241103T060000
END:STANDARD
BEGIN:DAYLIGHT
TZOFFSETFROM:-0500
TZOFFSETTO:-0400
TZNAME:EDT
DTSTART:20250309T070000
END:DAYLIGHT
BEGIN:STANDARD
TZOFFSETFROM:-0400
TZOFFSETTO:-0500
TZNAME:EST
DTSTART:20251102T060000
END:STANDARD
BEGIN:DAYLIGHT
TZOFFSETFROM:-0500
TZOFFSETTO:-0400
TZNAME:EDT
DTSTART:20260308T070000
END:DAYLIGHT
BEGIN:STANDARD
TZOFFSETFROM:-0400
TZOFFSETTO:-0500
TZNAME:EST
DTSTART:20261101T060000
END:STANDARD
END:VTIMEZONE
BEGIN:VEVENT
DTSTART;TZID=America/New_York:20251030T090000
DTEND;TZID=America/New_York:20251030T100000
DTSTAMP:20260421T201538
CREATED:20250109T164404Z
LAST-MODIFIED:20250930T145104Z
UID:10020857-1761814800-1761818400@arc-hss.ca
SUMMARY:Tai Chi/Qi Gong ~ GPK    **MUST REGISTER **
DESCRIPTION:Come and join this mind-body exercise that combines movements\, meditation\, and deep breathing located at our Activity Centre in GPK. Everyone is welcome! Must register by sending an email to: taichirivesud@gmail.com
URL:https://arc-hss.ca/fr/event/tai-chi-qi-gong-2-2-2/2025-10-30/
LOCATION:ARC Activity Center\, 91 Churchill Blvd\, Greenfield Park\, Quebec\, Canada
ATTACH;FMTTYPE=image/png:https://arc-hss.ca/wp-content/uploads/2025/01/Graphic-Tai-chi-spring-session.png
ORGANIZER;CN="Assistance & Referral Centre (ARC)":MAILTO:info@arc-hss.ca
END:VEVENT
BEGIN:VEVENT
DTSTART;TZID=America/New_York:20251030T130000
DTEND;TZID=America/New_York:20251030T150000
DTSTAMP:20260421T201538
CREATED:20241031T192125Z
LAST-MODIFIED:20250930T180816Z
UID:10012848-1761829200-1761836400@arc-hss.ca
SUMMARY:Ilana's In-Person Drawing Class ~ GPK
DESCRIPTION:Ready to get creative? Join us in person for our friendly art group where we draw\, paint\, and share inspiration together. All levels are welcome — from beginners to experienced artists. To register\, call Courtney at 514-604-9455 or email info@arc-hss.ca. Spots are limited and available on a first-come\, first-served basis. Registration is mandatory.
URL:https://arc-hss.ca/fr/event/ilanas-in-person-drawing-class-gpk/
LOCATION:ARC Activity Center\, 91 Churchill Blvd\, Greenfield Park\, Quebec\, Canada
ATTACH;FMTTYPE=image/jpeg:https://arc-hss.ca/wp-content/uploads/2024/10/Ilanas-drawing-class-.jpg
ORGANIZER;CN="Assistance & Referral Centre (ARC)":MAILTO:info@arc-hss.ca
END:VEVENT
END:VCALENDAR