BEGIN:VCALENDAR
VERSION:2.0
PRODID:-//ARC - ECPv6.15.20//NONSGML v1.0//EN
CALSCALE:GREGORIAN
METHOD:PUBLISH
X-WR-CALNAME:ARC
X-ORIGINAL-URL:https://arc-hss.ca/fr/
X-WR-CALDESC:Évènements pour ARC
REFRESH-INTERVAL;VALUE=DURATION:PT1H
X-Robots-Tag:noindex
X-PUBLISHED-TTL:PT1H
BEGIN:VTIMEZONE
TZID:America/New_York
BEGIN:DAYLIGHT
TZOFFSETFROM:-0500
TZOFFSETTO:-0400
TZNAME:EDT
DTSTART:20240310T070000
END:DAYLIGHT
BEGIN:STANDARD
TZOFFSETFROM:-0400
TZOFFSETTO:-0500
TZNAME:EST
DTSTART:20241103T060000
END:STANDARD
BEGIN:DAYLIGHT
TZOFFSETFROM:-0500
TZOFFSETTO:-0400
TZNAME:EDT
DTSTART:20250309T070000
END:DAYLIGHT
BEGIN:STANDARD
TZOFFSETFROM:-0400
TZOFFSETTO:-0500
TZNAME:EST
DTSTART:20251102T060000
END:STANDARD
BEGIN:DAYLIGHT
TZOFFSETFROM:-0500
TZOFFSETTO:-0400
TZNAME:EDT
DTSTART:20260308T070000
END:DAYLIGHT
BEGIN:STANDARD
TZOFFSETFROM:-0400
TZOFFSETTO:-0500
TZNAME:EST
DTSTART:20261101T060000
END:STANDARD
END:VTIMEZONE
BEGIN:VEVENT
DTSTART;TZID=America/New_York:20251029T100000
DTEND;TZID=America/New_York:20251029T233000
DTSTAMP:20260421T201539
CREATED:20250930T135208Z
LAST-MODIFIED:20250930T200459Z
UID:10020841-1761732000-1761780600@arc-hss.ca
SUMMARY:Caregivers Café ~ GPK
DESCRIPTION:Join our weekly group at 91 Churchill Blvd. in Greenfield Park\, designed to support family caregivers. It’s a welcoming space to explore health topics\, connect with others\, and build meaningful relationships. \nOctober 29: Gary White returns to Caregivers Café with another edition of Songs for Caregivers – Stories Behind the Music that Connects Us. \nThis group is open to former caregivers too! For more information contact Christine at caregivers@archss.ca or (514) 608-9600.
URL:https://arc-hss.ca/fr/event/caregivers-cafe-gpk-5/
LOCATION:ARC Activity Center\, 91 Churchill Blvd\, Greenfield Park\, Quebec\, Canada
ATTACH;FMTTYPE=image/png:https://arc-hss.ca/wp-content/uploads/2025/08/Graphic-Caregivers-Cafe.png
ORGANIZER;CN="Assistance & Referral Centre (ARC)":MAILTO:info@arc-hss.ca
END:VEVENT
BEGIN:VEVENT
DTSTART;TZID=America/New_York:20251029T133000
DTEND;TZID=America/New_York:20251029T150000
DTSTAMP:20260421T201539
CREATED:20250930T143537Z
LAST-MODIFIED:20250930T143537Z
UID:10020848-1761744600-1761750000@arc-hss.ca
SUMMARY:ARC 55+ Community ~ GPK
DESCRIPTION:Join us every Wednesday for engaging weekly activities designed to stimulate your mind\, body and creativity! Everyone welcome. \nOctober 29: Glass painting: Join Marie-Claude as she guides us through this creative art form – everyone will leave with a beautiful\, one-of-a-kind painted glass! \nTo register\, contact Tania at (514) 213-3744 or gpk@arc-hss.ca.
URL:https://arc-hss.ca/fr/event/arc-55-community-gpk-6/
LOCATION:ARC Activity Center\, 91 Churchill Blvd\, Greenfield Park\, Quebec\, Canada
ATTACH;FMTTYPE=image/png:https://arc-hss.ca/wp-content/uploads/2024/01/Insta-GPK-SWC-NEW-APRIL-2024.png
ORGANIZER;CN="Assistance & Referral Centre (ARC)":MAILTO:info@arc-hss.ca
END:VEVENT
END:VCALENDAR