BEGIN:VCALENDAR
VERSION:2.0
PRODID:-//ARC - ECPv6.15.20//NONSGML v1.0//EN
CALSCALE:GREGORIAN
METHOD:PUBLISH
X-ORIGINAL-URL:https://arc-hss.ca/fr/
X-WR-CALDESC:Évènements pour ARC
REFRESH-INTERVAL;VALUE=DURATION:PT1H
X-Robots-Tag:noindex
X-PUBLISHED-TTL:PT1H
BEGIN:VTIMEZONE
TZID:America/New_York
BEGIN:DAYLIGHT
TZOFFSETFROM:-0500
TZOFFSETTO:-0400
TZNAME:EDT
DTSTART:20240310T070000
END:DAYLIGHT
BEGIN:STANDARD
TZOFFSETFROM:-0400
TZOFFSETTO:-0500
TZNAME:EST
DTSTART:20241103T060000
END:STANDARD
BEGIN:DAYLIGHT
TZOFFSETFROM:-0500
TZOFFSETTO:-0400
TZNAME:EDT
DTSTART:20250309T070000
END:DAYLIGHT
BEGIN:STANDARD
TZOFFSETFROM:-0400
TZOFFSETTO:-0500
TZNAME:EST
DTSTART:20251102T060000
END:STANDARD
BEGIN:DAYLIGHT
TZOFFSETFROM:-0500
TZOFFSETTO:-0400
TZNAME:EDT
DTSTART:20260308T070000
END:DAYLIGHT
BEGIN:STANDARD
TZOFFSETFROM:-0400
TZOFFSETTO:-0500
TZNAME:EST
DTSTART:20261101T060000
END:STANDARD
END:VTIMEZONE
BEGIN:VEVENT
DTSTART;TZID=America/New_York:20251016T090000
DTEND;TZID=America/New_York:20251016T100000
DTSTAMP:20260421T214253
CREATED:20250109T164404Z
LAST-MODIFIED:20250930T145104Z
UID:10020856-1760605200-1760608800@arc-hss.ca
SUMMARY:Tai Chi/Qi Gong ~ GPK    **MUST REGISTER **
DESCRIPTION:Come and join this mind-body exercise that combines movements\, meditation\, and deep breathing located at our Activity Centre in GPK. Everyone is welcome! Must register by sending an email to: taichirivesud@gmail.com
URL:https://arc-hss.ca/fr/event/tai-chi-qi-gong-2-2-2/2025-10-16/
LOCATION:ARC Activity Center\, 91 Churchill Blvd\, Greenfield Park\, Quebec\, Canada
ATTACH;FMTTYPE=image/png:https://arc-hss.ca/wp-content/uploads/2025/01/Graphic-Tai-chi-spring-session.png
ORGANIZER;CN="Assistance & Referral Centre (ARC)":MAILTO:info@arc-hss.ca
END:VEVENT
BEGIN:VEVENT
DTSTART;TZID=America/New_York:20251016T183000
DTEND;TZID=America/New_York:20251016T200000
DTSTAMP:20260421T214253
CREATED:20250829T150702Z
LAST-MODIFIED:20250930T182538Z
UID:10020956-1760639400-1760644800@arc-hss.ca
SUMMARY:Parlez Vous ? Let's Chat! ~ St-Jean
DESCRIPTION:Join our weekly French Conversation Club to build confidence through real-life practice — not just grammar drills! Each Thursday evening we’ll grow vocabulary\, improve conversation skills\, and end the month with a fun activity to put your French into action. \nWhether you’re brushing up on your spoken French\, hoping to connect with others\, or just ready to try something new in a low-pressure\, friendly environment\, this club is for you. We also welcome native French speakers to join us — not just as participants\, but as conversation mentors\, helping learners with guidance\, encouragement and personalized support at every level. Reserve your spot today! To register\, contact Céline at 514-980-8900 or hrr@arc-hss.ca
URL:https://arc-hss.ca/fr/event/parlez-vous-lets-chat-st-jean/2025-10-16/
LOCATION:Margo-Rock Chalet\, 280 Fortin St.\, St-Jean-sur-Richelieu\, QC\, J3B 3M8\, Canada
ATTACH;FMTTYPE=image/png:https://arc-hss.ca/wp-content/uploads/2025/08/Graphic-Parlez-vous.png
ORGANIZER;CN="Assistance & Referral Centre (ARC)":MAILTO:info@arc-hss.ca
END:VEVENT
END:VCALENDAR