BEGIN:VCALENDAR
VERSION:2.0
PRODID:-//ARC - ECPv6.15.20//NONSGML v1.0//EN
CALSCALE:GREGORIAN
METHOD:PUBLISH
X-ORIGINAL-URL:https://arc-hss.ca/fr/
X-WR-CALDESC:Évènements pour ARC
REFRESH-INTERVAL;VALUE=DURATION:PT1H
X-Robots-Tag:noindex
X-PUBLISHED-TTL:PT1H
BEGIN:VTIMEZONE
TZID:America/New_York
BEGIN:DAYLIGHT
TZOFFSETFROM:-0500
TZOFFSETTO:-0400
TZNAME:EDT
DTSTART:20240310T070000
END:DAYLIGHT
BEGIN:STANDARD
TZOFFSETFROM:-0400
TZOFFSETTO:-0500
TZNAME:EST
DTSTART:20241103T060000
END:STANDARD
BEGIN:DAYLIGHT
TZOFFSETFROM:-0500
TZOFFSETTO:-0400
TZNAME:EDT
DTSTART:20250309T070000
END:DAYLIGHT
BEGIN:STANDARD
TZOFFSETFROM:-0400
TZOFFSETTO:-0500
TZNAME:EST
DTSTART:20251102T060000
END:STANDARD
BEGIN:DAYLIGHT
TZOFFSETFROM:-0500
TZOFFSETTO:-0400
TZNAME:EDT
DTSTART:20260308T070000
END:DAYLIGHT
BEGIN:STANDARD
TZOFFSETFROM:-0400
TZOFFSETTO:-0500
TZNAME:EST
DTSTART:20261101T060000
END:STANDARD
END:VTIMEZONE
BEGIN:VEVENT
DTSTART;TZID=America/New_York:20250513T093000
DTEND;TZID=America/New_York:20250513T110000
DTSTAMP:20260424T071947
CREATED:20250501T144207Z
LAST-MODIFIED:20250501T144207Z
UID:10020149-1747128600-1747134000@arc-hss.ca
SUMMARY:Mindful Art Workshop ~ MFRC St Jean
DESCRIPTION:Come and join our Resilience Through Art – Therapeutic Doodling Workshop. Whether you’re settling into a new posting or preparing for a future move\, the military lifestyle demands adaptability\, this creative workshop uses therapeutic doodling\, including art therapy techniques used to explore resilience in the face\nof relocation\, deployment and change. May 13 from 9:30-11:00 a.m. at the Military Family Resource\nCentre\, Saint-Jean-sur-Richelieu Garrison (178 Falaise St.)  To register\, visit the MFRC website before May 7 at www.crfmmfrcmtl.ca or contact Céline at 514-980-8900 for more information.
URL:https://arc-hss.ca/fr/event/mindful-art-workshop-mfrc-st-jean/
LOCATION:Military Family Resource Centre~St Jean\, 178 Falaise Garrison St Jean\, St Jean sur Richelieu\, Quebec\, J0J 1R0\, Canada
ATTACH;FMTTYPE=image/jpeg:https://arc-hss.ca/wp-content/uploads/2025/05/Graphic-MFRC-FINAL-4-ENGLISH.jpg
ORGANIZER;CN="Assistance & Referral Centre (ARC)":MAILTO:info@arc-hss.ca
END:VEVENT
BEGIN:VEVENT
DTSTART;TZID=America/New_York:20250513T100000
DTEND;TZID=America/New_York:20250513T113000
DTSTAMP:20260424T071947
CREATED:20250501T124817Z
LAST-MODIFIED:20250501T124908Z
UID:10020129-1747130400-1747135800@arc-hss.ca
SUMMARY:Zumbini ~ CGPKC
DESCRIPTION:Get ready to move and groove at this unique activity for children 0-4 and their caregivers!  Spots are limited so registration is a must by calling (514) 608-9600 or by email at: caregivers@arc-hss.ca
URL:https://arc-hss.ca/fr/event/zumbini-cgpkc-2-2-2/2025-05-13/
LOCATION:GPK Centre\, 330 Gladstone\, Greenfield Park\, Quebec\, J4V 2P7\, Canada
ATTACH;FMTTYPE=image/png:https://arc-hss.ca/wp-content/uploads/2025/02/Graphic-Zumbini-FBIG-April-2025.png
ORGANIZER;CN="Assistance & Referral Centre (ARC)":MAILTO:info@arc-hss.ca
END:VEVENT
BEGIN:VEVENT
DTSTART;TZID=America/New_York:20250513T100000
DTEND;TZID=America/New_York:20250513T120000
DTSTAMP:20260424T071947
CREATED:20250501T134828Z
LAST-MODIFIED:20250501T134925Z
UID:10020136-1747130400-1747137600@arc-hss.ca
SUMMARY:Parent & Child Playtime ~ Lacolle
DESCRIPTION:Join us every Tuesday from 10:00 a.m.-12:00 p.m. for a fun-filled morning of games\, crafts and activities. Each week features a new theme designed to spark creativity\, encourage bonding and create lasting memories for both parents and children. It’s a fantastic chance to connect with other families and share in the joy of play. Don’t miss out – we can’t wait to see you there! Contact Céline to register.
URL:https://arc-hss.ca/fr/event/parent-child-playtime-lacolle-2-2-2/2025-05-13/
LOCATION:Lacolle\, 10 Ste-Marie\, Lacolle\, Quebec\, J0J 1J0\, Canada
ATTACH;FMTTYPE=image/png:https://arc-hss.ca/wp-content/uploads/2025/04/Graphic-PLAYTIME-LACOLLE-MAY.png
END:VEVENT
BEGIN:VEVENT
DTSTART;TZID=America/New_York:20250513T100000
DTEND;TZID=America/New_York:20250513T120000
DTSTAMP:20260424T071947
CREATED:20250501T135721Z
LAST-MODIFIED:20250501T172530Z
UID:10020141-1747130400-1747137600@arc-hss.ca
SUMMARY:Social Cooking ~ GPK **CLOSED GROUP**
DESCRIPTION:Learn to cook new and exciting dishes\, along with comfort food recipes. Everyone is welcome! Registration is a must as space is limited by calling (514) 604-9455 or send an email to: info@arc-hss.ca
URL:https://arc-hss.ca/fr/event/social-cooking-with-jody-3-2-2-2-2-2-2-2-2-2-2-3-2/2025-05-13/
LOCATION:ARC Activity Center\, 91 Churchill Blvd\, Greenfield Park\, Quebec\, Canada
ATTACH;FMTTYPE=image/png:https://arc-hss.ca/wp-content/uploads/2025/05/Social-Cooking.png
ORGANIZER;CN="Assistance & Referral Centre (ARC)":MAILTO:info@arc-hss.ca
END:VEVENT
END:VCALENDAR