BEGIN:VCALENDAR
VERSION:2.0
PRODID:-//ARC - ECPv6.15.20//NONSGML v1.0//EN
CALSCALE:GREGORIAN
METHOD:PUBLISH
X-WR-CALNAME:ARC
X-ORIGINAL-URL:https://arc-hss.ca/fr/
X-WR-CALDESC:Évènements pour ARC
REFRESH-INTERVAL;VALUE=DURATION:PT1H
X-Robots-Tag:noindex
X-PUBLISHED-TTL:PT1H
BEGIN:VTIMEZONE
TZID:America/New_York
BEGIN:DAYLIGHT
TZOFFSETFROM:-0500
TZOFFSETTO:-0400
TZNAME:EDT
DTSTART:20240310T070000
END:DAYLIGHT
BEGIN:STANDARD
TZOFFSETFROM:-0400
TZOFFSETTO:-0500
TZNAME:EST
DTSTART:20241103T060000
END:STANDARD
BEGIN:DAYLIGHT
TZOFFSETFROM:-0500
TZOFFSETTO:-0400
TZNAME:EDT
DTSTART:20250309T070000
END:DAYLIGHT
BEGIN:STANDARD
TZOFFSETFROM:-0400
TZOFFSETTO:-0500
TZNAME:EST
DTSTART:20251102T060000
END:STANDARD
BEGIN:DAYLIGHT
TZOFFSETFROM:-0500
TZOFFSETTO:-0400
TZNAME:EDT
DTSTART:20260308T070000
END:DAYLIGHT
BEGIN:STANDARD
TZOFFSETFROM:-0400
TZOFFSETTO:-0500
TZNAME:EST
DTSTART:20261101T060000
END:STANDARD
END:VTIMEZONE
BEGIN:VEVENT
DTSTART;TZID=America/New_York:20250318T100000
DTEND;TZID=America/New_York:20250318T113000
DTSTAMP:20260424T102915
CREATED:20250228T211559Z
LAST-MODIFIED:20250228T211715Z
UID:10018727-1742292000-1742297400@arc-hss.ca
SUMMARY:Zumbini ~ CGPKC
DESCRIPTION:Get ready to move and groove at this unique activity for children 0-4 and their caregivers!  Spots are limited so registration is a must by calling (514) 608-9600 or by email at: caregivers@arc-hss.ca
URL:https://arc-hss.ca/fr/event/zumbini-cgpkc-2/2025-03-18/
LOCATION:GPK Centre\, 330 Gladstone\, Greenfield Park\, Quebec\, J4V 2P7\, Canada
ATTACH;FMTTYPE=image/png:https://arc-hss.ca/wp-content/uploads/2025/02/Zumbini-FBIG-post-Feb.png
ORGANIZER;CN="Assistance & Referral Centre (ARC)":MAILTO:info@arc-hss.ca
END:VEVENT
BEGIN:VEVENT
DTSTART;TZID=America/New_York:20250318T100000
DTEND;TZID=America/New_York:20250318T120000
DTSTAMP:20260424T102915
CREATED:20250228T221250Z
LAST-MODIFIED:20250311T162526Z
UID:10018736-1742292000-1742299200@arc-hss.ca
SUMMARY:Social Cooking ~ GPK ***CLOSED GROUP***
DESCRIPTION:Join us for delicious cooking adventures every 1st\, 2nd\, and 3rd Tuesday of the Month. Are you tired of cooking the same old meals? Do you want to spice things up in the kitchen with exciting new dishes\, while still enjoying the comfort foods you love? Everyone is welcome to come and learn! Whether you’re a seasoned cook or a beginner\, you’ll leave with new recipes\, skills\, and most importantly\, a full stomach! Registration is a must as space is limited by calling Jody at (514) 647-5679 or send an email to: ceccarelli@videotron.ca
URL:https://arc-hss.ca/fr/event/social-cooking-with-jody-3-2-2-2-2-2-2-2-2-2-2-2/2025-03-18/
LOCATION:ARC Activity Center\, 91 Churchill Blvd\, Greenfield Park\, Quebec\, Canada
ATTACH;FMTTYPE=image/png:https://arc-hss.ca/wp-content/uploads/2025/02/Social-Cooking.png
ORGANIZER;CN="Assistance & Referral Centre (ARC)":MAILTO:info@arc-hss.ca
END:VEVENT
END:VCALENDAR