BEGIN:VCALENDAR
VERSION:2.0
PRODID:-//ARC - ECPv6.15.20//NONSGML v1.0//EN
CALSCALE:GREGORIAN
METHOD:PUBLISH
X-WR-CALNAME:ARC
X-ORIGINAL-URL:https://arc-hss.ca/fr/
X-WR-CALDESC:Évènements pour ARC
REFRESH-INTERVAL;VALUE=DURATION:PT1H
X-Robots-Tag:noindex
X-PUBLISHED-TTL:PT1H
BEGIN:VTIMEZONE
TZID:America/New_York
BEGIN:DAYLIGHT
TZOFFSETFROM:-0500
TZOFFSETTO:-0400
TZNAME:EDT
DTSTART:20230312T070000
END:DAYLIGHT
BEGIN:STANDARD
TZOFFSETFROM:-0400
TZOFFSETTO:-0500
TZNAME:EST
DTSTART:20231105T060000
END:STANDARD
BEGIN:DAYLIGHT
TZOFFSETFROM:-0500
TZOFFSETTO:-0400
TZNAME:EDT
DTSTART:20240310T070000
END:DAYLIGHT
BEGIN:STANDARD
TZOFFSETFROM:-0400
TZOFFSETTO:-0500
TZNAME:EST
DTSTART:20241103T060000
END:STANDARD
BEGIN:DAYLIGHT
TZOFFSETFROM:-0500
TZOFFSETTO:-0400
TZNAME:EDT
DTSTART:20250309T070000
END:DAYLIGHT
BEGIN:STANDARD
TZOFFSETFROM:-0400
TZOFFSETTO:-0500
TZNAME:EST
DTSTART:20251102T060000
END:STANDARD
END:VTIMEZONE
BEGIN:VEVENT
DTSTART;TZID=America/New_York:20241118T100000
DTEND;TZID=America/New_York:20241118T113000
DTSTAMP:20260424T163845
CREATED:20241031T191345Z
LAST-MODIFIED:20241031T191427Z
UID:10012845-1731924000-1731929400@arc-hss.ca
SUMMARY:Moms and Tots Playdate ~ St Jean
DESCRIPTION:Come and join where babies and their parents get together to participate in fun activities at our St Jean office. For more info please send an email to Celine at hrr@arc-hss.ca.
URL:https://arc-hss.ca/fr/event/moms-and-tots-playdate-st-jean/2024-11-18/
LOCATION:ARC St-Jean-sur-Richelieu Office\, 927-B Seminaire Blvd\, St-Jean-sur-Richelieu office\, Quebec\, J3A 1B5\, Canada
ATTACH;FMTTYPE=image/png:https://arc-hss.ca/wp-content/uploads/2024/10/Moms-tots-DONE-ADVto-do-online.png
ORGANIZER;CN="Assistance & Referral Centre (ARC)":MAILTO:info@arc-hss.ca
END:VEVENT
BEGIN:VEVENT
DTSTART;TZID=America/New_York:20241118T103000
DTEND;TZID=America/New_York:20241118T113000
DTSTAMP:20260424T163845
CREATED:20240715T164943Z
LAST-MODIFIED:20240930T171423Z
UID:10012611-1731925800-1731929400@arc-hss.ca
SUMMARY:French Conversation Group ~ GPK
DESCRIPTION:Want to improve your French? Come and join our friendly group.\nLearning is a treasure that will follow you everywhere.\nTo register call (514) 213-3744.
URL:https://arc-hss.ca/fr/event/french-conversation-group-2-2/2024-11-18/
LOCATION:ARC Activity Center\, 91 Churchill Blvd\, Greenfield Park\, Quebec\, Canada
ATTACH;FMTTYPE=image/png:https://arc-hss.ca/wp-content/uploads/2023/09/French-Conversation-Reboot-2023.png
ORGANIZER;CN="Assistance & Referral Centre (ARC)":MAILTO:info@arc-hss.ca
END:VEVENT
BEGIN:VEVENT
DTSTART;TZID=America/New_York:20241118T130000
DTEND;TZID=America/New_York:20241118T143000
DTSTAMP:20260424T163845
CREATED:20240715T164513Z
LAST-MODIFIED:20240930T171325Z
UID:10012582-1731934800-1731940200@arc-hss.ca
SUMMARY:Rock Painting Workshop ~ GPK
DESCRIPTION:Come and join us for a creative activity\, to relax\, rejuvenate\, and de-stress.\nEveryone is welcome! To register call (514) 213-3744
URL:https://arc-hss.ca/fr/event/rock-painting-workshop-3-2-2/2024-11-18/
LOCATION:ARC Activity Center\, 91 Churchill Blvd\, Greenfield Park\, Quebec\, Canada
ATTACH;FMTTYPE=image/png:https://arc-hss.ca/wp-content/uploads/2023/09/Rock-painting.png
ORGANIZER;CN="Assistance & Referral Centre (ARC)":MAILTO:info@arc-hss.ca
END:VEVENT
END:VCALENDAR