BEGIN:VCALENDAR
VERSION:2.0
PRODID:-//ARC - ECPv6.15.20//NONSGML v1.0//EN
CALSCALE:GREGORIAN
METHOD:PUBLISH
X-ORIGINAL-URL:https://arc-hss.ca/fr/
X-WR-CALDESC:Évènements pour ARC
REFRESH-INTERVAL;VALUE=DURATION:PT1H
X-Robots-Tag:noindex
X-PUBLISHED-TTL:PT1H
BEGIN:VTIMEZONE
TZID:America/New_York
BEGIN:DAYLIGHT
TZOFFSETFROM:-0500
TZOFFSETTO:-0400
TZNAME:EDT
DTSTART:20230312T070000
END:DAYLIGHT
BEGIN:STANDARD
TZOFFSETFROM:-0400
TZOFFSETTO:-0500
TZNAME:EST
DTSTART:20231105T060000
END:STANDARD
BEGIN:DAYLIGHT
TZOFFSETFROM:-0500
TZOFFSETTO:-0400
TZNAME:EDT
DTSTART:20240310T070000
END:DAYLIGHT
BEGIN:STANDARD
TZOFFSETFROM:-0400
TZOFFSETTO:-0500
TZNAME:EST
DTSTART:20241103T060000
END:STANDARD
BEGIN:DAYLIGHT
TZOFFSETFROM:-0500
TZOFFSETTO:-0400
TZNAME:EDT
DTSTART:20250309T070000
END:DAYLIGHT
BEGIN:STANDARD
TZOFFSETFROM:-0400
TZOFFSETTO:-0500
TZNAME:EST
DTSTART:20251102T060000
END:STANDARD
END:VTIMEZONE
BEGIN:VEVENT
DTSTART;TZID=America/New_York:20240123T133000
DTEND;TZID=America/New_York:20240123T150000
DTSTAMP:20260425T081549
CREATED:20240104T203320Z
LAST-MODIFIED:20240104T211631Z
UID:10006174-1706016600-1706022000@arc-hss.ca
SUMMARY:Life Stories: A Writing Workshop via ZOOM
DESCRIPTION:Begins in mid January and is held over 4 consecutive weeks. This is the fourth time we’re hosting a Quebec Writers’ Federation workshop for our 55+ community. This is a chance to tell your stories and also try putting them on paper. Every life is filled with enriching and compelling stories and this workshop is designed to give voice to your experiences and map them into stories.
URL:https://arc-hss.ca/fr/event/life-stories-a-writing-workshop-via-zoom/2024-01-23/
LOCATION:Zoom
ATTACH;FMTTYPE=image/png:https://arc-hss.ca/wp-content/uploads/2024/01/Writing-Workshop-Jan-16-2024.png
ORGANIZER;CN="Assistance & Referral Centre (ARC)":MAILTO:info@arc-hss.ca
END:VEVENT
END:VCALENDAR