BEGIN:VCALENDAR
VERSION:2.0
PRODID:-//ARC - ECPv6.15.20//NONSGML v1.0//EN
CALSCALE:GREGORIAN
METHOD:PUBLISH
X-ORIGINAL-URL:https://arc-hss.ca/fr/
X-WR-CALDESC:Évènements pour ARC
REFRESH-INTERVAL;VALUE=DURATION:PT1H
X-Robots-Tag:noindex
X-PUBLISHED-TTL:PT1H
BEGIN:VTIMEZONE
TZID:America/New_York
BEGIN:DAYLIGHT
TZOFFSETFROM:-0500
TZOFFSETTO:-0400
TZNAME:EDT
DTSTART:20220313T070000
END:DAYLIGHT
BEGIN:STANDARD
TZOFFSETFROM:-0400
TZOFFSETTO:-0500
TZNAME:EST
DTSTART:20221106T060000
END:STANDARD
BEGIN:DAYLIGHT
TZOFFSETFROM:-0500
TZOFFSETTO:-0400
TZNAME:EDT
DTSTART:20230312T070000
END:DAYLIGHT
BEGIN:STANDARD
TZOFFSETFROM:-0400
TZOFFSETTO:-0500
TZNAME:EST
DTSTART:20231105T060000
END:STANDARD
BEGIN:DAYLIGHT
TZOFFSETFROM:-0500
TZOFFSETTO:-0400
TZNAME:EDT
DTSTART:20240310T070000
END:DAYLIGHT
BEGIN:STANDARD
TZOFFSETFROM:-0400
TZOFFSETTO:-0500
TZNAME:EST
DTSTART:20241103T060000
END:STANDARD
END:VTIMEZONE
BEGIN:VEVENT
DTSTART;TZID=America/New_York:20231108T133000
DTEND;TZID=America/New_York:20231108T153000
DTSTAMP:20260425T113804
CREATED:20231003T183859Z
LAST-MODIFIED:20231031T153125Z
UID:10003483-1699450200-1699457400@arc-hss.ca
SUMMARY:Taxes & Fraud - 55+ Community SPECIAL EVENT
DESCRIPTION:Come and join us for a financial wellness workshop.\nLearn how to better protect yourself and your finances.\nTo register send an email to: stjean@arc-hss.ca or call (450)357-0386
URL:https://arc-hss.ca/fr/event/taxes-fraud-55-community-special-event/
LOCATION:Randell Hall\, 2000 Av. Bourgogne\, Chambly\, QC\, QC J3L 1Z4\, Canada
ATTACH;FMTTYPE=image/png:https://arc-hss.ca/wp-content/uploads/2023/10/SWC-Nov-8-Chambly-Educaloi-.png
ORGANIZER;CN="Assistance & Referral Centre (ARC)":MAILTO:info@arc-hss.ca
END:VEVENT
BEGIN:VEVENT
DTSTART;TZID=America/New_York:20231108T190000
DTEND;TZID=America/New_York:20231108T203000
DTSTAMP:20260425T113804
CREATED:20230929T201431Z
LAST-MODIFIED:20231030T184313Z
UID:10003536-1699470000-1699475400@arc-hss.ca
SUMMARY:ReCharge Workshops for Caregivers - ZOOM
DESCRIPTION:
URL:https://arc-hss.ca/fr/event/recharge-workshops-for-caregivers-zoom/2023-11-08/
LOCATION:Zoom
ATTACH;FMTTYPE=image/png:https://arc-hss.ca/wp-content/uploads/2023/09/CAREGIVERS-ONLINE-SESSIONS-Jan-2024-2.png
ORGANIZER;CN="Assistance & Referral Centre (ARC)":MAILTO:info@arc-hss.ca
END:VEVENT
END:VCALENDAR