BEGIN:VCALENDAR
VERSION:2.0
PRODID:-//ARC - ECPv6.15.20//NONSGML v1.0//EN
CALSCALE:GREGORIAN
METHOD:PUBLISH
X-ORIGINAL-URL:https://arc-hss.ca/fr/
X-WR-CALDESC:Évènements pour ARC
REFRESH-INTERVAL;VALUE=DURATION:PT1H
X-Robots-Tag:noindex
X-PUBLISHED-TTL:PT1H
BEGIN:VTIMEZONE
TZID:America/New_York
BEGIN:DAYLIGHT
TZOFFSETFROM:-0500
TZOFFSETTO:-0400
TZNAME:EDT
DTSTART:20220313T070000
END:DAYLIGHT
BEGIN:STANDARD
TZOFFSETFROM:-0400
TZOFFSETTO:-0500
TZNAME:EST
DTSTART:20221106T060000
END:STANDARD
BEGIN:DAYLIGHT
TZOFFSETFROM:-0500
TZOFFSETTO:-0400
TZNAME:EDT
DTSTART:20230312T070000
END:DAYLIGHT
BEGIN:STANDARD
TZOFFSETFROM:-0400
TZOFFSETTO:-0500
TZNAME:EST
DTSTART:20231105T060000
END:STANDARD
BEGIN:DAYLIGHT
TZOFFSETFROM:-0500
TZOFFSETTO:-0400
TZNAME:EDT
DTSTART:20240310T070000
END:DAYLIGHT
BEGIN:STANDARD
TZOFFSETFROM:-0400
TZOFFSETTO:-0500
TZNAME:EST
DTSTART:20241103T060000
END:STANDARD
END:VTIMEZONE
BEGIN:VEVENT
DTSTART;TZID=America/New_York:20231107T100000
DTEND;TZID=America/New_York:20231107T110000
DTSTAMP:20260425T113804
CREATED:20231010T181906Z
LAST-MODIFIED:20231010T181906Z
UID:10003488-1699351200-1699354800@arc-hss.ca
SUMMARY:Baby Tai Chi - St Jean
DESCRIPTION:Tai Chi can help to improve a child’s self-esteem\, confidence\, and physical strength.\nRegistration is required.
URL:https://arc-hss.ca/fr/event/baby-tai-chi-st-jean/2023-11-07/
LOCATION:ARC St-Jean-sur-Richelieu Office\, 927-B Seminaire Blvd\, St-Jean-sur-Richelieu office\, Quebec\, J3A 1B5\, Canada
ATTACH;FMTTYPE=image/png:https://arc-hss.ca/wp-content/uploads/2023/10/Poster-Baby-Tai-Chi-St-Jean.png
ORGANIZER;CN="Assistance & Referral Centre (ARC)":MAILTO:info@arc-hss.ca
END:VEVENT
BEGIN:VEVENT
DTSTART;TZID=America/New_York:20231107T133000
DTEND;TZID=America/New_York:20231107T150000
DTSTAMP:20260425T113804
CREATED:20230823T181259Z
LAST-MODIFIED:20230823T181504Z
UID:10003170-1699363800-1699369200@arc-hss.ca
SUMMARY:STAND UP! Program
DESCRIPTION:Learn how to prevent falls and feel more secure.
URL:https://arc-hss.ca/fr/event/stand-up-program/2023-11-07/
LOCATION:ARC Activity Center\, 91 Churchill Blvd\, Greenfield Park\, Quebec\, Canada
ATTACH;FMTTYPE=image/png:https://arc-hss.ca/wp-content/uploads/2023/07/STAND-UP-Fall-2023.png
ORGANIZER;CN="Assistance & Referral Centre (ARC)":MAILTO:info@arc-hss.ca
END:VEVENT
BEGIN:VEVENT
DTSTART;TZID=America/New_York:20231107T190000
DTEND;TZID=America/New_York:20231107T203000
DTSTAMP:20260425T113804
CREATED:20230929T192346Z
LAST-MODIFIED:20231030T172722Z
UID:10003348-1699383600-1699389000@arc-hss.ca
SUMMARY:Conversations about Grief - ZOOM
DESCRIPTION:Join us for this online support community.\nEveryone is welcome!
URL:https://arc-hss.ca/fr/event/conversations-about-grief-zoom/
LOCATION:Zoom
ATTACH;FMTTYPE=image/png:https://arc-hss.ca/wp-content/uploads/2023/09/Conversations-About-Grief-Nov.png
ORGANIZER;CN="Assistance & Referral Centre (ARC)":MAILTO:info@arc-hss.ca
END:VEVENT
END:VCALENDAR