BEGIN:VCALENDAR
VERSION:2.0
PRODID:-//ARC - ECPv6.15.20//NONSGML v1.0//EN
CALSCALE:GREGORIAN
METHOD:PUBLISH
X-WR-CALNAME:ARC
X-ORIGINAL-URL:https://arc-hss.ca/fr/
X-WR-CALDESC:Évènements pour ARC
REFRESH-INTERVAL;VALUE=DURATION:PT1H
X-Robots-Tag:noindex
X-PUBLISHED-TTL:PT1H
BEGIN:VTIMEZONE
TZID:America/New_York
BEGIN:DAYLIGHT
TZOFFSETFROM:-0500
TZOFFSETTO:-0400
TZNAME:EDT
DTSTART:20220313T070000
END:DAYLIGHT
BEGIN:STANDARD
TZOFFSETFROM:-0400
TZOFFSETTO:-0500
TZNAME:EST
DTSTART:20221106T060000
END:STANDARD
BEGIN:DAYLIGHT
TZOFFSETFROM:-0500
TZOFFSETTO:-0400
TZNAME:EDT
DTSTART:20230312T070000
END:DAYLIGHT
BEGIN:STANDARD
TZOFFSETFROM:-0400
TZOFFSETTO:-0500
TZNAME:EST
DTSTART:20231105T060000
END:STANDARD
BEGIN:DAYLIGHT
TZOFFSETFROM:-0500
TZOFFSETTO:-0400
TZNAME:EDT
DTSTART:20240310T070000
END:DAYLIGHT
BEGIN:STANDARD
TZOFFSETFROM:-0400
TZOFFSETTO:-0500
TZNAME:EST
DTSTART:20241103T060000
END:STANDARD
END:VTIMEZONE
BEGIN:VEVENT
DTSTART;TZID=America/New_York:20230613T133000
DTEND;TZID=America/New_York:20230613T150000
DTSTAMP:20260425T195830
CREATED:20230525T171746Z
LAST-MODIFIED:20230525T172954Z
UID:10003044-1686663000-1686668400@arc-hss.ca
SUMMARY:2023 Assemblée générale annuelle (AGA)
DESCRIPTION:L’assemblée générale annuelle (AGA) du Soutien spécialisé aux ressources communautaires (SSARC) se tiendra le mardi 13 juin 2023 à 13 h 30. \nDans le but de : \n\nrecevoir et examiner le rapport annuel 2022-2023 ;\nle rapport de l’auditeur et les états financiers\, ainsi que le budget prévisionnel 2023-2024 ;\nsélectionner les membres du conseil d’administration\nnommer les auditeurs ;\nla mise à jour du règlement généraux du SSARC;\net d’autres questions dûment soumises à l’assemblée.\n\nInscription: info@arc-hss.ca ou au (514) 951-9711.
URL:https://arc-hss.ca/fr/event/2023-annual-general-meeting-agm/
LOCATION:Greenfield Park Legion\, 205 Empire St.\, Greenfield Park\, Quebec\, J4V 1T9\, Canada
ATTACH;FMTTYPE=image/png:https://arc-hss.ca/wp-content/uploads/2023/05/Annual-general-meeting-social.png
ORGANIZER;CN="Assistance & Referral Centre (ARC)":MAILTO:info@arc-hss.ca
END:VEVENT
END:VCALENDAR