BEGIN:VCALENDAR
VERSION:2.0
PRODID:-//ARC - ECPv6.15.20//NONSGML v1.0//EN
CALSCALE:GREGORIAN
METHOD:PUBLISH
X-WR-CALNAME:ARC
X-ORIGINAL-URL:https://arc-hss.ca/fr/
X-WR-CALDESC:Évènements pour ARC
REFRESH-INTERVAL;VALUE=DURATION:PT1H
X-Robots-Tag:noindex
X-PUBLISHED-TTL:PT1H
BEGIN:VTIMEZONE
TZID:America/New_York
BEGIN:DAYLIGHT
TZOFFSETFROM:-0500
TZOFFSETTO:-0400
TZNAME:EDT
DTSTART:20220313T070000
END:DAYLIGHT
BEGIN:STANDARD
TZOFFSETFROM:-0400
TZOFFSETTO:-0500
TZNAME:EST
DTSTART:20221106T060000
END:STANDARD
BEGIN:DAYLIGHT
TZOFFSETFROM:-0500
TZOFFSETTO:-0400
TZNAME:EDT
DTSTART:20230312T070000
END:DAYLIGHT
BEGIN:STANDARD
TZOFFSETFROM:-0400
TZOFFSETTO:-0500
TZNAME:EST
DTSTART:20231105T060000
END:STANDARD
BEGIN:DAYLIGHT
TZOFFSETFROM:-0500
TZOFFSETTO:-0400
TZNAME:EDT
DTSTART:20240310T070000
END:DAYLIGHT
BEGIN:STANDARD
TZOFFSETFROM:-0400
TZOFFSETTO:-0500
TZNAME:EST
DTSTART:20241103T060000
END:STANDARD
END:VTIMEZONE
BEGIN:VEVENT
DTSTART;TZID=America/New_York:20230328T130000
DTEND;TZID=America/New_York:20230328T150000
DTSTAMP:20260425T232243
CREATED:20230227T224455Z
LAST-MODIFIED:20230227T224600Z
UID:10002199-1680008400-1680015600@arc-hss.ca
SUMMARY:Twisted Stitchers @Candiac
DESCRIPTION:Twisted Stitchers \nBeautiful things come together one stitch at a time with this weekly activity at the Candiac office. \nTo register\, email candiac@arc-hss.ca.
URL:https://arc-hss.ca/fr/event/twisted-stitchers-candiac-5/2023-03-28/
LOCATION:ARC Candiac Office\, 9 Montcalm Blvd. N.\, #512\, Candiac\, Quebec\, J0J 1B0\, Canada
ATTACH;FMTTYPE=image/jpeg:https://arc-hss.ca/wp-content/uploads/2023/01/twisted-stitchers.jpg
ORGANIZER;CN="Assistance & Referral Centre (ARC)":MAILTO:info@arc-hss.ca
END:VEVENT
BEGIN:VEVENT
DTSTART;TZID=America/New_York:20230328T133000
DTEND;TZID=America/New_York:20230328T150000
DTSTAMP:20260425T232243
CREATED:20230227T225525Z
LAST-MODIFIED:20230227T225602Z
UID:10002214-1680010200-1680015600@arc-hss.ca
SUMMARY:Jerry's Line Dancing via Zoom
DESCRIPTION:Line Dancing with Jerry \nThis weekly activity is offered virtually over Zoom once a week on Tuesdays 1:30 to 3:00 p.m. \nRegister to obtain the Zoom link at (514) 951-9711 or info@arc-hss.ca.
URL:https://arc-hss.ca/fr/event/jerrys-line-dancing-via-zoom-5/2023-03-28/
LOCATION:Zoom
ATTACH;FMTTYPE=image/png:https://arc-hss.ca/wp-content/uploads/2023/01/Line-Dancing.png
ORGANIZER;CN="Assistance & Referral Centre (ARC)":MAILTO:info@arc-hss.ca
END:VEVENT
BEGIN:VEVENT
DTSTART;TZID=America/New_York:20230328T133000
DTEND;TZID=America/New_York:20230328T153000
DTSTAMP:20260425T232243
CREATED:20230301T155935Z
LAST-MODIFIED:20230301T155935Z
UID:10002228-1680010200-1680017400@arc-hss.ca
SUMMARY:Film: What We Choose To Remember
DESCRIPTION:We’ll be hosting a film screening of What We Choose to Remember\, by filmmaker Guy Rex Rodgers at the Greenfield Park Legion from 1:30-3:30 p.m.
URL:https://arc-hss.ca/fr/event/film-what-we-choose-to-remember/
LOCATION:Greenfield Park Legion\, 205 Empire St.\, Greenfield Park\, Quebec\, J4V 1T9\, Canada
ATTACH;FMTTYPE=image/png:https://arc-hss.ca/wp-content/uploads/2023/03/Film-Mar-28.png
ORGANIZER;CN="Assistance & Referral Centre (ARC)":MAILTO:info@arc-hss.ca
END:VEVENT
BEGIN:VEVENT
DTSTART;TZID=America/New_York:20230328T190000
DTEND;TZID=America/New_York:20230328T200000
DTSTAMP:20260425T232243
CREATED:20230301T154349Z
LAST-MODIFIED:20230301T154349Z
UID:10002224-1680030000-1680033600@arc-hss.ca
SUMMARY:Talking to Improve Wellbeing
DESCRIPTION:Our topic will be Insights on Postpartum Mood Disorders\, with guest speaker Therese Callahan\, our Outreach Coordinator from Greenfield Park. Register by contacting npi@arc-hss.ca or (450) 525-1176.
URL:https://arc-hss.ca/fr/event/talking-to-improve-wellbeing/
LOCATION:ARC St-Jean-sur-Richelieu Office\, 927-B Seminaire Blvd\, St-Jean-sur-Richelieu office\, Quebec\, J3A 1B5\, Canada
ATTACH;FMTTYPE=image/png:https://arc-hss.ca/wp-content/uploads/2023/03/Talking-March-2023.png
ORGANIZER;CN="Assistance & Referral Centre (ARC)":MAILTO:info@arc-hss.ca
END:VEVENT
END:VCALENDAR