BEGIN:VCALENDAR
VERSION:2.0
PRODID:-//ARC - ECPv6.15.20//NONSGML v1.0//EN
CALSCALE:GREGORIAN
METHOD:PUBLISH
X-ORIGINAL-URL:https://arc-hss.ca/fr/
X-WR-CALDESC:Évènements pour ARC
REFRESH-INTERVAL;VALUE=DURATION:PT1H
X-Robots-Tag:noindex
X-PUBLISHED-TTL:PT1H
BEGIN:VTIMEZONE
TZID:America/New_York
BEGIN:DAYLIGHT
TZOFFSETFROM:-0500
TZOFFSETTO:-0400
TZNAME:EDT
DTSTART:20250309T070000
END:DAYLIGHT
BEGIN:STANDARD
TZOFFSETFROM:-0400
TZOFFSETTO:-0500
TZNAME:EST
DTSTART:20251102T060000
END:STANDARD
BEGIN:DAYLIGHT
TZOFFSETFROM:-0500
TZOFFSETTO:-0400
TZNAME:EDT
DTSTART:20260308T070000
END:DAYLIGHT
BEGIN:STANDARD
TZOFFSETFROM:-0400
TZOFFSETTO:-0500
TZNAME:EST
DTSTART:20261101T060000
END:STANDARD
BEGIN:DAYLIGHT
TZOFFSETFROM:-0500
TZOFFSETTO:-0400
TZNAME:EDT
DTSTART:20270314T070000
END:DAYLIGHT
BEGIN:STANDARD
TZOFFSETFROM:-0400
TZOFFSETTO:-0500
TZNAME:EST
DTSTART:20271107T060000
END:STANDARD
END:VTIMEZONE
BEGIN:VEVENT
DTSTART;TZID=America/New_York:20260416T133000
DTEND;TZID=America/New_York:20260416T150000
DTSTAMP:20260421T185333
CREATED:20250930T143027Z
LAST-MODIFIED:20260331T174451Z
UID:10020847-1776346200-1776351600@arc-hss.ca
SUMMARY:ARC 55+ Community ~ GPK
DESCRIPTION:Our Senior Wellness Greenfield Park activity has relocated to St. Mary’s\, located at 735 Miller St.\, Greenfield Park. This large and comfortable space will allow us to welcome more participants safely. Join us on Thursdays from 1:30 to 3:00 p.m. for engaging weekly activities designed to stimulate your mind\, body\, and creativity! \nApril 16: Spring is coming\, and so are spring birds! Sheldon Harvey will speak about the spring and summer birds you can expect to see. \nRegistration required. Contact Tania at (514) 213-3744 or gpk@arc-hss.ca for more information or to register.
URL:https://arc-hss.ca/fr/event/arc-55-community-gpk-5/
LOCATION:St. Mary’s\, 125 Grove St.\, Greenfield Park\, Quebec\, J4V 2X2\, Canada
ATTACH;FMTTYPE=image/png:https://arc-hss.ca/wp-content/uploads/2026/01/GPK-SWI.avif
ORGANIZER;CN="Assistance & Referral Centre (ARC)":MAILTO:info@arc-hss.ca
END:VEVENT
BEGIN:VEVENT
DTSTART;TZID=America/New_York:20260409T133000
DTEND;TZID=America/New_York:20260409T150000
DTSTAMP:20260421T185333
CREATED:20260128T174922Z
LAST-MODIFIED:20260331T174111Z
UID:10021347-1775741400-1775746800@arc-hss.ca
SUMMARY:ARC 55+ Community ~ GPK
DESCRIPTION:Our Senior Wellness Greenfield Park activity has relocated to St. Mary’s\, located at 735 Miller St.\, Greenfield Park. This large and comfortable space will allow us to welcome more participants safely. Join us on Thursdays from 1:30 to 3:00 p.m. for engaging weekly activities designed to stimulate your mind\, body\, and creativity! \nApril 9: Join us for a fun exercise session where you can participate seated or standing. \nRegistration required. Contact Tania at (514) 213-3744 or gpk@arc-hss.ca for more information or to register.
URL:https://arc-hss.ca/fr/event/arc-55-community-gpk-new-day-location-3/
LOCATION:St. Mary’s\, 125 Grove St.\, Greenfield Park\, Quebec\, J4V 2X2\, Canada
ATTACH;FMTTYPE=image/png:https://arc-hss.ca/wp-content/uploads/2026/01/GPK-SWI.avif
ORGANIZER;CN="Assistance & Referral Centre (ARC)":MAILTO:info@arc-hss.ca
END:VEVENT
BEGIN:VEVENT
DTSTART;TZID=America/New_York:20260402T133000
DTEND;TZID=America/New_York:20260402T150000
DTSTAMP:20260421T185333
CREATED:20260128T175138Z
LAST-MODIFIED:20260331T173146Z
UID:10021349-1775136600-1775142000@arc-hss.ca
SUMMARY:ARC 55+ Community ~ GPK
DESCRIPTION:Our Senior Wellness Greenfield Park activity has relocated to St. Mary’s\, located at 735 Miller St.\, Greenfield Park. This large and comfortable space will allow us to welcome more participants safely. Join us on Thursdays from 1:30 to 3:00 p.m. for engaging weekly activities designed to stimulate your mind\, body\, and creativity! \nApril 2: CAAP Montérégie will speak on how to file a complaint regarding health and social services. \nRegistration required. Contact Tania at (514) 213-3744 or gpk@arc-hss.ca for more information or to register.
URL:https://arc-hss.ca/fr/event/arc-55-community-gpk-new-day-location-4/
LOCATION:St. Mary’s\, 125 Grove St.\, Greenfield Park\, Quebec\, J4V 2X2\, Canada
ATTACH;FMTTYPE=image/png:https://arc-hss.ca/wp-content/uploads/2026/01/GPK-SWI.avif
ORGANIZER;CN="Assistance & Referral Centre (ARC)":MAILTO:info@arc-hss.ca
END:VEVENT
BEGIN:VEVENT
DTSTART;TZID=America/New_York:20260212T133000
DTEND;TZID=America/New_York:20260212T150000
DTSTAMP:20260421T185333
CREATED:20260107T163157Z
LAST-MODIFIED:20260128T174543Z
UID:10021131-1770903000-1770908400@arc-hss.ca
SUMMARY:ARC 55+ Community ~ GPK *New Day / Location*
DESCRIPTION:Our Senior Wellness Greenfield Park activity is relocating to St. Mary’s\, located at 125 Grove St.\, Greenfield Park. Join us every Thursday for engaging weekly activities designed to stimulate your mind\, body and creativity! \nFebruary 12: Artificial Intelligence (AI) — Join us for an introductory workshop on Artificial Intelligence led by certified instructor Ruth Montas. This workshop is designed to make AI easy\, practical\, and approachable. \nRegistration required. Contact Tania at (514) 213-3744 or gpk@arc-hss.ca for more information or to register.
URL:https://arc-hss.ca/fr/event/arc-55-community-gpk-new-day-location/
LOCATION:St. Mary’s\, 125 Grove St.\, Greenfield Park\, Quebec\, J4V 2X2\, Canada
ATTACH;FMTTYPE=image/png:https://arc-hss.ca/wp-content/uploads/2025/09/GPK-SWI.png
ORGANIZER;CN="Assistance & Referral Centre (ARC)":MAILTO:info@arc-hss.ca
END:VEVENT
BEGIN:VEVENT
DTSTART;TZID=America/New_York:20260129T133000
DTEND;TZID=America/New_York:20260129T150000
DTSTAMP:20260421T185333
CREATED:20260107T163659Z
LAST-MODIFIED:20260107T163659Z
UID:10021133-1769693400-1769698800@arc-hss.ca
SUMMARY:ARC 55+ Community ~ GPK *New Day / Location*
DESCRIPTION:Our Senior Wellness Greenfield Park activity is relocating to St. Mary’s\, located at 125 Grove St.\, Greenfield Park. Join us every Thursday for engaging weekly activities designed to stimulate your mind\, body and creativity! \nJanuary 29: 55+ finance workshops with independent financial advisor Peter Watson \nRegistration required. Contact Tania at (514) 213-3744 or gpk@arc-hss.ca for more information or to register.
URL:https://arc-hss.ca/fr/event/arc-55-community-gpk-new-day-location-2/
LOCATION:St. Mary’s\, 125 Grove St.\, Greenfield Park\, Quebec\, J4V 2X2\, Canada
ATTACH;FMTTYPE=image/png:https://arc-hss.ca/wp-content/uploads/2025/09/GPK-SWI.png
ORGANIZER;CN="Assistance & Referral Centre (ARC)":MAILTO:info@arc-hss.ca
END:VEVENT
END:VCALENDAR