BEGIN:VCALENDAR
VERSION:2.0
PRODID:-//ARC - ECPv6.15.20//NONSGML v1.0//EN
CALSCALE:GREGORIAN
METHOD:PUBLISH
X-WR-CALNAME:ARC
X-ORIGINAL-URL:https://arc-hss.ca/fr/
X-WR-CALDESC:Évènements pour ARC
REFRESH-INTERVAL;VALUE=DURATION:PT1H
X-Robots-Tag:noindex
X-PUBLISHED-TTL:PT1H
BEGIN:VTIMEZONE
TZID:America/New_York
BEGIN:DAYLIGHT
TZOFFSETFROM:-0500
TZOFFSETTO:-0400
TZNAME:EDT
DTSTART:20220313T070000
END:DAYLIGHT
BEGIN:STANDARD
TZOFFSETFROM:-0400
TZOFFSETTO:-0500
TZNAME:EST
DTSTART:20221106T060000
END:STANDARD
BEGIN:DAYLIGHT
TZOFFSETFROM:-0500
TZOFFSETTO:-0400
TZNAME:EDT
DTSTART:20230312T070000
END:DAYLIGHT
BEGIN:STANDARD
TZOFFSETFROM:-0400
TZOFFSETTO:-0500
TZNAME:EST
DTSTART:20231105T060000
END:STANDARD
BEGIN:DAYLIGHT
TZOFFSETFROM:-0500
TZOFFSETTO:-0400
TZNAME:EDT
DTSTART:20240310T070000
END:DAYLIGHT
BEGIN:STANDARD
TZOFFSETFROM:-0400
TZOFFSETTO:-0500
TZNAME:EST
DTSTART:20241103T060000
END:STANDARD
END:VTIMEZONE
BEGIN:VEVENT
DTSTART;TZID=America/New_York:20230720T090000
DTEND;TZID=America/New_York:20230720T100000
DTSTAMP:20260424T081346
CREATED:20230530T181820Z
LAST-MODIFIED:20230622T144626Z
UID:10003129-1689843600-1689847200@arc-hss.ca
SUMMARY:Tai Chi/Qi Gong in-person with Sandra
DESCRIPTION:Come and join this free activity\, relax and unwind.
URL:https://arc-hss.ca/fr/event/tai-chi-qi-gong-in-person-with-sandra-2/2023-07-20/
LOCATION:GPK Centre\, 330 Gladstone\, Greenfield Park\, Quebec\, J4V 2P7\, Canada
ATTACH;FMTTYPE=image/jpeg:https://arc-hss.ca/wp-content/uploads/2023/05/Tai-Chi-Version-3.jpg
ORGANIZER;CN="Assistance & Referral Centre (ARC)":MAILTO:info@arc-hss.ca
END:VEVENT
BEGIN:VEVENT
DTSTART;TZID=America/New_York:20230713T090000
DTEND;TZID=America/New_York:20230713T100000
DTSTAMP:20260424T081346
CREATED:20230530T181820Z
LAST-MODIFIED:20230622T144626Z
UID:10003127-1689238800-1689242400@arc-hss.ca
SUMMARY:Tai Chi/Qi Gong in-person with Sandra
DESCRIPTION:Come and join this free activity\, relax and unwind.
URL:https://arc-hss.ca/fr/event/tai-chi-qi-gong-in-person-with-sandra-2/2023-07-13/
LOCATION:GPK Centre\, 330 Gladstone\, Greenfield Park\, Quebec\, J4V 2P7\, Canada
ATTACH;FMTTYPE=image/jpeg:https://arc-hss.ca/wp-content/uploads/2023/05/Tai-Chi-Version-3.jpg
ORGANIZER;CN="Assistance & Referral Centre (ARC)":MAILTO:info@arc-hss.ca
END:VEVENT
BEGIN:VEVENT
DTSTART;TZID=America/New_York:20230706T090000
DTEND;TZID=America/New_York:20230706T100000
DTSTAMP:20260424T081346
CREATED:20230530T181820Z
LAST-MODIFIED:20230622T144626Z
UID:10003126-1688634000-1688637600@arc-hss.ca
SUMMARY:Tai Chi/Qi Gong in-person with Sandra
DESCRIPTION:Come and join this free activity\, relax and unwind.
URL:https://arc-hss.ca/fr/event/tai-chi-qi-gong-in-person-with-sandra-2/2023-07-06/
LOCATION:GPK Centre\, 330 Gladstone\, Greenfield Park\, Quebec\, J4V 2P7\, Canada
ATTACH;FMTTYPE=image/jpeg:https://arc-hss.ca/wp-content/uploads/2023/05/Tai-Chi-Version-3.jpg
ORGANIZER;CN="Assistance & Referral Centre (ARC)":MAILTO:info@arc-hss.ca
END:VEVENT
BEGIN:VEVENT
DTSTART;TZID=America/New_York:20230629T090000
DTEND;TZID=America/New_York:20230629T100000
DTSTAMP:20260424T081346
CREATED:20230530T181820Z
LAST-MODIFIED:20230622T144626Z
UID:10003072-1688029200-1688032800@arc-hss.ca
SUMMARY:Tai Chi/Qi Gong in-person with Sandra
DESCRIPTION:Come and join this free activity\, relax and unwind.
URL:https://arc-hss.ca/fr/event/tai-chi-qi-gong-in-person-with-sandra-2/2023-06-29/
LOCATION:GPK Centre\, 330 Gladstone\, Greenfield Park\, Quebec\, J4V 2P7\, Canada
ATTACH;FMTTYPE=image/jpeg:https://arc-hss.ca/wp-content/uploads/2023/05/Tai-Chi-Version-3.jpg
ORGANIZER;CN="Assistance & Referral Centre (ARC)":MAILTO:info@arc-hss.ca
END:VEVENT
BEGIN:VEVENT
DTSTART;TZID=America/New_York:20230622T090000
DTEND;TZID=America/New_York:20230622T100000
DTSTAMP:20260424T081346
CREATED:20230530T181820Z
LAST-MODIFIED:20230622T144626Z
UID:10003071-1687424400-1687428000@arc-hss.ca
SUMMARY:Tai Chi/Qi Gong in-person with Sandra
DESCRIPTION:Come and join this free activity\, relax and unwind.
URL:https://arc-hss.ca/fr/event/tai-chi-qi-gong-in-person-with-sandra-2/2023-06-22/
LOCATION:GPK Centre\, 330 Gladstone\, Greenfield Park\, Quebec\, J4V 2P7\, Canada
ATTACH;FMTTYPE=image/jpeg:https://arc-hss.ca/wp-content/uploads/2023/05/Tai-Chi-Version-3.jpg
ORGANIZER;CN="Assistance & Referral Centre (ARC)":MAILTO:info@arc-hss.ca
END:VEVENT
BEGIN:VEVENT
DTSTART;TZID=America/New_York:20230615T090000
DTEND;TZID=America/New_York:20230615T100000
DTSTAMP:20260424T081346
CREATED:20230530T181820Z
LAST-MODIFIED:20230622T144626Z
UID:10003070-1686819600-1686823200@arc-hss.ca
SUMMARY:Tai Chi/Qi Gong in-person with Sandra
DESCRIPTION:Come and join this free activity\, relax and unwind.
URL:https://arc-hss.ca/fr/event/tai-chi-qi-gong-in-person-with-sandra-2/2023-06-15/
LOCATION:GPK Centre\, 330 Gladstone\, Greenfield Park\, Quebec\, J4V 2P7\, Canada
ATTACH;FMTTYPE=image/jpeg:https://arc-hss.ca/wp-content/uploads/2023/05/Tai-Chi-Version-3.jpg
ORGANIZER;CN="Assistance & Referral Centre (ARC)":MAILTO:info@arc-hss.ca
END:VEVENT
BEGIN:VEVENT
DTSTART;TZID=America/New_York:20230608T090000
DTEND;TZID=America/New_York:20230608T100000
DTSTAMP:20260424T081346
CREATED:20230530T181820Z
LAST-MODIFIED:20230622T144626Z
UID:10003069-1686214800-1686218400@arc-hss.ca
SUMMARY:Tai Chi/Qi Gong in-person with Sandra
DESCRIPTION:Come and join this free activity\, relax and unwind.
URL:https://arc-hss.ca/fr/event/tai-chi-qi-gong-in-person-with-sandra-2/2023-06-08/
LOCATION:GPK Centre\, 330 Gladstone\, Greenfield Park\, Quebec\, J4V 2P7\, Canada
ATTACH;FMTTYPE=image/jpeg:https://arc-hss.ca/wp-content/uploads/2023/05/Tai-Chi-Version-3.jpg
ORGANIZER;CN="Assistance & Referral Centre (ARC)":MAILTO:info@arc-hss.ca
END:VEVENT
BEGIN:VEVENT
DTSTART;TZID=America/New_York:20230601T090000
DTEND;TZID=America/New_York:20230601T100000
DTSTAMP:20260424T081346
CREATED:20230530T181820Z
LAST-MODIFIED:20230622T144626Z
UID:10003068-1685610000-1685613600@arc-hss.ca
SUMMARY:Tai Chi/Qi Gong in-person with Sandra
DESCRIPTION:Come and join this free activity\, relax and unwind.
URL:https://arc-hss.ca/fr/event/tai-chi-qi-gong-in-person-with-sandra-2/2023-06-01/
LOCATION:GPK Centre\, 330 Gladstone\, Greenfield Park\, Quebec\, J4V 2P7\, Canada
ATTACH;FMTTYPE=image/jpeg:https://arc-hss.ca/wp-content/uploads/2023/05/Tai-Chi-Version-3.jpg
ORGANIZER;CN="Assistance & Referral Centre (ARC)":MAILTO:info@arc-hss.ca
END:VEVENT
BEGIN:VEVENT
DTSTART;TZID=America/New_York:20230525T090000
DTEND;TZID=America/New_York:20230525T100000
DTSTAMP:20260424T081346
CREATED:20230429T200736Z
LAST-MODIFIED:20230429T200736Z
UID:10002869-1685005200-1685008800@arc-hss.ca
SUMMARY:Tai Chi/Qi Gong in-person with Sandra
DESCRIPTION:Come and join this free activity\, relax and unwind.
URL:https://arc-hss.ca/fr/event/tai-chi-qi-gong-in-person-with-sandra/2023-05-25/
LOCATION:GPK Centre\, 330 Gladstone\, Greenfield Park\, Quebec\, J4V 2P7\, Canada
ATTACH;FMTTYPE=image/png:https://arc-hss.ca/wp-content/uploads/2023/03/Tai-Chi-CGPKC.png
ORGANIZER;CN="Assistance & Referral Centre (ARC)":MAILTO:info@arc-hss.ca
END:VEVENT
BEGIN:VEVENT
DTSTART;TZID=America/New_York:20230518T090000
DTEND;TZID=America/New_York:20230518T100000
DTSTAMP:20260424T081346
CREATED:20230429T200736Z
LAST-MODIFIED:20230429T200736Z
UID:10002868-1684400400-1684404000@arc-hss.ca
SUMMARY:Tai Chi/Qi Gong in-person with Sandra
DESCRIPTION:Come and join this free activity\, relax and unwind.
URL:https://arc-hss.ca/fr/event/tai-chi-qi-gong-in-person-with-sandra/2023-05-18/
LOCATION:GPK Centre\, 330 Gladstone\, Greenfield Park\, Quebec\, J4V 2P7\, Canada
ATTACH;FMTTYPE=image/png:https://arc-hss.ca/wp-content/uploads/2023/03/Tai-Chi-CGPKC.png
ORGANIZER;CN="Assistance & Referral Centre (ARC)":MAILTO:info@arc-hss.ca
END:VEVENT
BEGIN:VEVENT
DTSTART;TZID=America/New_York:20230511T090000
DTEND;TZID=America/New_York:20230511T100000
DTSTAMP:20260424T081346
CREATED:20230429T200736Z
LAST-MODIFIED:20230429T200736Z
UID:10002867-1683795600-1683799200@arc-hss.ca
SUMMARY:Tai Chi/Qi Gong in-person with Sandra
DESCRIPTION:Come and join this free activity\, relax and unwind.
URL:https://arc-hss.ca/fr/event/tai-chi-qi-gong-in-person-with-sandra/2023-05-11/
LOCATION:GPK Centre\, 330 Gladstone\, Greenfield Park\, Quebec\, J4V 2P7\, Canada
ATTACH;FMTTYPE=image/png:https://arc-hss.ca/wp-content/uploads/2023/03/Tai-Chi-CGPKC.png
ORGANIZER;CN="Assistance & Referral Centre (ARC)":MAILTO:info@arc-hss.ca
END:VEVENT
BEGIN:VEVENT
DTSTART;TZID=America/New_York:20230504T090000
DTEND;TZID=America/New_York:20230504T100000
DTSTAMP:20260424T081346
CREATED:20230429T200736Z
LAST-MODIFIED:20230429T200736Z
UID:10002866-1683190800-1683194400@arc-hss.ca
SUMMARY:Tai Chi/Qi Gong in-person with Sandra
DESCRIPTION:Come and join this free activity\, relax and unwind.
URL:https://arc-hss.ca/fr/event/tai-chi-qi-gong-in-person-with-sandra/2023-05-04/
LOCATION:GPK Centre\, 330 Gladstone\, Greenfield Park\, Quebec\, J4V 2P7\, Canada
ATTACH;FMTTYPE=image/png:https://arc-hss.ca/wp-content/uploads/2023/03/Tai-Chi-CGPKC.png
ORGANIZER;CN="Assistance & Referral Centre (ARC)":MAILTO:info@arc-hss.ca
END:VEVENT
BEGIN:VEVENT
DTSTART;TZID=America/New_York:20230427T090000
DTEND;TZID=America/New_York:20230427T100000
DTSTAMP:20260424T081346
CREATED:20230330T134114Z
LAST-MODIFIED:20230330T134259Z
UID:10002764-1682586000-1682589600@arc-hss.ca
SUMMARY:Tai Chi @ GPK Community Centre
DESCRIPTION:Tai Chi / Qi Gong \nOffered weekly in person at the GPK Community Centre on Thursdays from 9:00 to 10:00 a.m. \nLimited spots available. Please register at qi.mitchell@gmail.com.
URL:https://arc-hss.ca/fr/event/tai-chi-activity-centre-4-2/2023-04-27/
LOCATION:GPK Centre\, 330 Gladstone\, Greenfield Park\, Quebec\, J4V 2P7\, Canada
ATTACH;FMTTYPE=image/png:https://arc-hss.ca/wp-content/uploads/2023/03/Tai-Chi-CGPKC.png
ORGANIZER;CN="Assistance & Referral Centre (ARC)":MAILTO:info@arc-hss.ca
END:VEVENT
BEGIN:VEVENT
DTSTART;TZID=America/New_York:20230420T090000
DTEND;TZID=America/New_York:20230420T100000
DTSTAMP:20260424T081346
CREATED:20230330T134114Z
LAST-MODIFIED:20230330T134259Z
UID:10002763-1681981200-1681984800@arc-hss.ca
SUMMARY:Tai Chi @ GPK Community Centre
DESCRIPTION:Tai Chi / Qi Gong \nOffered weekly in person at the GPK Community Centre on Thursdays from 9:00 to 10:00 a.m. \nLimited spots available. Please register at qi.mitchell@gmail.com.
URL:https://arc-hss.ca/fr/event/tai-chi-activity-centre-4-2/2023-04-20/
LOCATION:GPK Centre\, 330 Gladstone\, Greenfield Park\, Quebec\, J4V 2P7\, Canada
ATTACH;FMTTYPE=image/png:https://arc-hss.ca/wp-content/uploads/2023/03/Tai-Chi-CGPKC.png
ORGANIZER;CN="Assistance & Referral Centre (ARC)":MAILTO:info@arc-hss.ca
END:VEVENT
BEGIN:VEVENT
DTSTART;TZID=America/New_York:20230413T090000
DTEND;TZID=America/New_York:20230413T100000
DTSTAMP:20260424T081346
CREATED:20230330T134114Z
LAST-MODIFIED:20230330T134259Z
UID:10002762-1681376400-1681380000@arc-hss.ca
SUMMARY:Tai Chi @ GPK Community Centre
DESCRIPTION:Tai Chi / Qi Gong \nOffered weekly in person at the GPK Community Centre on Thursdays from 9:00 to 10:00 a.m. \nLimited spots available. Please register at qi.mitchell@gmail.com.
URL:https://arc-hss.ca/fr/event/tai-chi-activity-centre-4-2/2023-04-13/
LOCATION:GPK Centre\, 330 Gladstone\, Greenfield Park\, Quebec\, J4V 2P7\, Canada
ATTACH;FMTTYPE=image/png:https://arc-hss.ca/wp-content/uploads/2023/03/Tai-Chi-CGPKC.png
ORGANIZER;CN="Assistance & Referral Centre (ARC)":MAILTO:info@arc-hss.ca
END:VEVENT
BEGIN:VEVENT
DTSTART;TZID=America/New_York:20230406T090000
DTEND;TZID=America/New_York:20230406T100000
DTSTAMP:20260424T081346
CREATED:20230330T134114Z
LAST-MODIFIED:20230330T134259Z
UID:10002758-1680771600-1680775200@arc-hss.ca
SUMMARY:Tai Chi @ GPK Community Centre
DESCRIPTION:Tai Chi / Qi Gong \nOffered weekly in person at the GPK Community Centre on Thursdays from 9:00 to 10:00 a.m. \nLimited spots available. Please register at qi.mitchell@gmail.com.
URL:https://arc-hss.ca/fr/event/tai-chi-activity-centre-4-2/2023-04-06/
LOCATION:GPK Centre\, 330 Gladstone\, Greenfield Park\, Quebec\, J4V 2P7\, Canada
ATTACH;FMTTYPE=image/png:https://arc-hss.ca/wp-content/uploads/2023/03/Tai-Chi-CGPKC.png
ORGANIZER;CN="Assistance & Referral Centre (ARC)":MAILTO:info@arc-hss.ca
END:VEVENT
END:VCALENDAR