BEGIN:VCALENDAR
VERSION:2.0
PRODID:-//ARC - ECPv6.15.20//NONSGML v1.0//EN
CALSCALE:GREGORIAN
METHOD:PUBLISH
X-ORIGINAL-URL:https://arc-hss.ca/fr/
X-WR-CALDESC:Évènements pour ARC
REFRESH-INTERVAL;VALUE=DURATION:PT1H
X-Robots-Tag:noindex
X-PUBLISHED-TTL:PT1H
BEGIN:VTIMEZONE
TZID:America/New_York
BEGIN:DAYLIGHT
TZOFFSETFROM:-0500
TZOFFSETTO:-0400
TZNAME:EDT
DTSTART:20240310T070000
END:DAYLIGHT
BEGIN:STANDARD
TZOFFSETFROM:-0400
TZOFFSETTO:-0500
TZNAME:EST
DTSTART:20241103T060000
END:STANDARD
BEGIN:DAYLIGHT
TZOFFSETFROM:-0500
TZOFFSETTO:-0400
TZNAME:EDT
DTSTART:20250309T070000
END:DAYLIGHT
BEGIN:STANDARD
TZOFFSETFROM:-0400
TZOFFSETTO:-0500
TZNAME:EST
DTSTART:20251102T060000
END:STANDARD
BEGIN:DAYLIGHT
TZOFFSETFROM:-0500
TZOFFSETTO:-0400
TZNAME:EDT
DTSTART:20260308T070000
END:DAYLIGHT
BEGIN:STANDARD
TZOFFSETFROM:-0400
TZOFFSETTO:-0500
TZNAME:EST
DTSTART:20261101T060000
END:STANDARD
END:VTIMEZONE
BEGIN:VEVENT
DTSTART;TZID=America/New_York:20250619T093000
DTEND;TZID=America/New_York:20250619T110000
DTSTAMP:20260422T002715
CREATED:20250531T001606Z
LAST-MODIFIED:20250531T002035Z
UID:10020251-1750325400-1750330800@arc-hss.ca
SUMMARY:Therapeutic Doodling Workshop ~ Saint Jean
DESCRIPTION:Therapeutic Doodling Workshop Life brings constant change—whether it’s a new job\, a big move\, or shifting routines. This creative workshop offers a chance to slow down and explore resilience through therapeutic doodling\, using simple art therapy techniques to support emotional well-being during times of transition. Join us on Thursday\, June 19 from 9:30-11:00 a.m. in the lower level of the Centre Culturel Fernand-Charest (190 Laurier St.\, Saint-Jean-sur-Richelieu) For parking and easy access\, use the Mercier Street entrance. For more information or to register\, contact Céline. Space is limited\, so reserve your spot today!
URL:https://arc-hss.ca/fr/event/therapeutic-doodling-workshop-saint-jean/
LOCATION:Centre Culturel Fernand-Charest\, 190 Laurier St\, Saint-Jean-sur-Richelieu\, Quebec\, J3B 7J9\, Canada
ATTACH;FMTTYPE=image/png:https://arc-hss.ca/wp-content/uploads/2025/05/Therapeutic-Doodling-JUNE.png
ORGANIZER;CN="Assistance & Referral Centre (ARC)":MAILTO:info@arc-hss.ca
END:VEVENT
END:VCALENDAR