BEGIN:VCALENDAR
VERSION:2.0
PRODID:-//ARC - ECPv6.15.20//NONSGML v1.0//EN
CALSCALE:GREGORIAN
METHOD:PUBLISH
X-WR-CALNAME:ARC
X-ORIGINAL-URL:https://arc-hss.ca/fr/
X-WR-CALDESC:Évènements pour ARC
REFRESH-INTERVAL;VALUE=DURATION:PT1H
X-Robots-Tag:noindex
X-PUBLISHED-TTL:PT1H
BEGIN:VTIMEZONE
TZID:America/New_York
BEGIN:DAYLIGHT
TZOFFSETFROM:-0500
TZOFFSETTO:-0400
TZNAME:EDT
DTSTART:20220313T070000
END:DAYLIGHT
BEGIN:STANDARD
TZOFFSETFROM:-0400
TZOFFSETTO:-0500
TZNAME:EST
DTSTART:20221106T060000
END:STANDARD
BEGIN:DAYLIGHT
TZOFFSETFROM:-0500
TZOFFSETTO:-0400
TZNAME:EDT
DTSTART:20230312T070000
END:DAYLIGHT
BEGIN:STANDARD
TZOFFSETFROM:-0400
TZOFFSETTO:-0500
TZNAME:EST
DTSTART:20231105T060000
END:STANDARD
BEGIN:DAYLIGHT
TZOFFSETFROM:-0500
TZOFFSETTO:-0400
TZNAME:EDT
DTSTART:20240310T070000
END:DAYLIGHT
BEGIN:STANDARD
TZOFFSETFROM:-0400
TZOFFSETTO:-0500
TZNAME:EST
DTSTART:20241103T060000
END:STANDARD
BEGIN:DAYLIGHT
TZOFFSETFROM:-0500
TZOFFSETTO:-0400
TZNAME:EDT
DTSTART:20250309T070000
END:DAYLIGHT
BEGIN:STANDARD
TZOFFSETFROM:-0400
TZOFFSETTO:-0500
TZNAME:EST
DTSTART:20251102T060000
END:STANDARD
BEGIN:DAYLIGHT
TZOFFSETFROM:-0500
TZOFFSETTO:-0400
TZNAME:EDT
DTSTART:20260308T070000
END:DAYLIGHT
BEGIN:STANDARD
TZOFFSETFROM:-0400
TZOFFSETTO:-0500
TZNAME:EST
DTSTART:20261101T060000
END:STANDARD
END:VTIMEZONE
BEGIN:VEVENT
DTSTART;TZID=America/New_York:20250529T180000
DTEND;TZID=America/New_York:20250529T193000
DTSTAMP:20260423T015429
CREATED:20250402T124320Z
LAST-MODIFIED:20250430T193846Z
UID:10020082-1748541600-1748547000@arc-hss.ca
SUMMARY:NEW ! French Conversation Club "Parlez Vous? Let's Chat!" ~ Saint Jean
DESCRIPTION:NEW! Weekly French Conversation Club – Saint-Jean « Parlez-Vous? Let’s Chat! » is a weekly French conversation club designed for English speakers who want to improve their French in everyday situations. Whether you’re a beginner or looking to refine your skills\, this informal group offers a relaxed and friendly setting to practice speaking and build confidence. Join us every Thursday evening from 6:30 to 7:30 p.m. at the ARC office in Saint-Jean-sur-Richelieu (900 du Séminaire Blvd. N.\, #201). Parking validation is available. For more information or to register\, contact Céline by email or call (514) 980-8900.
URL:https://arc-hss.ca/fr/event/new-french-conversation-club-saint-jean/2025-05-29/
LOCATION:ARC St-Jean-sur-Richelieu Office\, 927-B Seminaire Blvd\, St-Jean-sur-Richelieu office\, Quebec\, J3A 1B5\, Canada
ATTACH;FMTTYPE=image/png:https://arc-hss.ca/wp-content/uploads/2025/04/Graphic-PARLEZ-VOUS-LETS-CHAT.png
ORGANIZER;CN="Assistance & Referral Centre (ARC)":MAILTO:info@arc-hss.ca
END:VEVENT
BEGIN:VEVENT
DTSTART;TZID=America/New_York:20250522T180000
DTEND;TZID=America/New_York:20250522T193000
DTSTAMP:20260423T015429
CREATED:20250402T124320Z
LAST-MODIFIED:20250430T193846Z
UID:10020081-1747936800-1747942200@arc-hss.ca
SUMMARY:NEW ! French Conversation Club "Parlez Vous? Let's Chat!" ~ Saint Jean
DESCRIPTION:NEW! Weekly French Conversation Club – Saint-Jean « Parlez-Vous? Let’s Chat! » is a weekly French conversation club designed for English speakers who want to improve their French in everyday situations. Whether you’re a beginner or looking to refine your skills\, this informal group offers a relaxed and friendly setting to practice speaking and build confidence. Join us every Thursday evening from 6:30 to 7:30 p.m. at the ARC office in Saint-Jean-sur-Richelieu (900 du Séminaire Blvd. N.\, #201). Parking validation is available. For more information or to register\, contact Céline by email or call (514) 980-8900.
URL:https://arc-hss.ca/fr/event/new-french-conversation-club-saint-jean/2025-05-22/
LOCATION:ARC St-Jean-sur-Richelieu Office\, 927-B Seminaire Blvd\, St-Jean-sur-Richelieu office\, Quebec\, J3A 1B5\, Canada
ATTACH;FMTTYPE=image/png:https://arc-hss.ca/wp-content/uploads/2025/04/Graphic-PARLEZ-VOUS-LETS-CHAT.png
ORGANIZER;CN="Assistance & Referral Centre (ARC)":MAILTO:info@arc-hss.ca
END:VEVENT
BEGIN:VEVENT
DTSTART;TZID=America/New_York:20250515T180000
DTEND;TZID=America/New_York:20250515T193000
DTSTAMP:20260423T015429
CREATED:20250402T124320Z
LAST-MODIFIED:20250430T193846Z
UID:10020080-1747332000-1747337400@arc-hss.ca
SUMMARY:NEW ! French Conversation Club "Parlez Vous? Let's Chat!" ~ Saint Jean
DESCRIPTION:NEW! Weekly French Conversation Club – Saint-Jean « Parlez-Vous? Let’s Chat! » is a weekly French conversation club designed for English speakers who want to improve their French in everyday situations. Whether you’re a beginner or looking to refine your skills\, this informal group offers a relaxed and friendly setting to practice speaking and build confidence. Join us every Thursday evening from 6:30 to 7:30 p.m. at the ARC office in Saint-Jean-sur-Richelieu (900 du Séminaire Blvd. N.\, #201). Parking validation is available. For more information or to register\, contact Céline by email or call (514) 980-8900.
URL:https://arc-hss.ca/fr/event/new-french-conversation-club-saint-jean/2025-05-15/
LOCATION:ARC St-Jean-sur-Richelieu Office\, 927-B Seminaire Blvd\, St-Jean-sur-Richelieu office\, Quebec\, J3A 1B5\, Canada
ATTACH;FMTTYPE=image/png:https://arc-hss.ca/wp-content/uploads/2025/04/Graphic-PARLEZ-VOUS-LETS-CHAT.png
ORGANIZER;CN="Assistance & Referral Centre (ARC)":MAILTO:info@arc-hss.ca
END:VEVENT
BEGIN:VEVENT
DTSTART;TZID=America/New_York:20250508T180000
DTEND;TZID=America/New_York:20250508T193000
DTSTAMP:20260423T015429
CREATED:20250402T124320Z
LAST-MODIFIED:20250430T193846Z
UID:10020079-1746727200-1746732600@arc-hss.ca
SUMMARY:NEW ! French Conversation Club "Parlez Vous? Let's Chat!" ~ Saint Jean
DESCRIPTION:NEW! Weekly French Conversation Club – Saint-Jean « Parlez-Vous? Let’s Chat! » is a weekly French conversation club designed for English speakers who want to improve their French in everyday situations. Whether you’re a beginner or looking to refine your skills\, this informal group offers a relaxed and friendly setting to practice speaking and build confidence. Join us every Thursday evening from 6:30 to 7:30 p.m. at the ARC office in Saint-Jean-sur-Richelieu (900 du Séminaire Blvd. N.\, #201). Parking validation is available. For more information or to register\, contact Céline by email or call (514) 980-8900.
URL:https://arc-hss.ca/fr/event/new-french-conversation-club-saint-jean/2025-05-08/
LOCATION:ARC St-Jean-sur-Richelieu Office\, 927-B Seminaire Blvd\, St-Jean-sur-Richelieu office\, Quebec\, J3A 1B5\, Canada
ATTACH;FMTTYPE=image/png:https://arc-hss.ca/wp-content/uploads/2025/04/Graphic-PARLEZ-VOUS-LETS-CHAT.png
ORGANIZER;CN="Assistance & Referral Centre (ARC)":MAILTO:info@arc-hss.ca
END:VEVENT
BEGIN:VEVENT
DTSTART;TZID=America/New_York:20250501T180000
DTEND;TZID=America/New_York:20250501T193000
DTSTAMP:20260423T015429
CREATED:20250402T124320Z
LAST-MODIFIED:20250430T193846Z
UID:10019544-1746122400-1746127800@arc-hss.ca
SUMMARY:NEW ! French Conversation Club "Parlez Vous? Let's Chat!" ~ Saint Jean
DESCRIPTION:NEW! Weekly French Conversation Club – Saint-Jean « Parlez-Vous? Let’s Chat! » is a weekly French conversation club designed for English speakers who want to improve their French in everyday situations. Whether you’re a beginner or looking to refine your skills\, this informal group offers a relaxed and friendly setting to practice speaking and build confidence. Join us every Thursday evening from 6:30 to 7:30 p.m. at the ARC office in Saint-Jean-sur-Richelieu (900 du Séminaire Blvd. N.\, #201). Parking validation is available. For more information or to register\, contact Céline by email or call (514) 980-8900.
URL:https://arc-hss.ca/fr/event/new-french-conversation-club-saint-jean/2025-05-01/
LOCATION:ARC St-Jean-sur-Richelieu Office\, 927-B Seminaire Blvd\, St-Jean-sur-Richelieu office\, Quebec\, J3A 1B5\, Canada
ATTACH;FMTTYPE=image/png:https://arc-hss.ca/wp-content/uploads/2025/04/Graphic-PARLEZ-VOUS-LETS-CHAT.png
ORGANIZER;CN="Assistance & Referral Centre (ARC)":MAILTO:info@arc-hss.ca
END:VEVENT
BEGIN:VEVENT
DTSTART;TZID=America/New_York:20241125T100000
DTEND;TZID=America/New_York:20241125T113000
DTSTAMP:20260423T015429
CREATED:20241031T191345Z
LAST-MODIFIED:20241031T191427Z
UID:10012846-1732528800-1732534200@arc-hss.ca
SUMMARY:Moms and Tots Playdate ~ St Jean
DESCRIPTION:Come and join where babies and their parents get together to participate in fun activities at our St Jean office. For more info please send an email to Celine at hrr@arc-hss.ca.
URL:https://arc-hss.ca/fr/event/moms-and-tots-playdate-st-jean/2024-11-25/
LOCATION:ARC St-Jean-sur-Richelieu Office\, 927-B Seminaire Blvd\, St-Jean-sur-Richelieu office\, Quebec\, J3A 1B5\, Canada
ATTACH;FMTTYPE=image/png:https://arc-hss.ca/wp-content/uploads/2024/10/Moms-tots-DONE-ADVto-do-online.png
ORGANIZER;CN="Assistance & Referral Centre (ARC)":MAILTO:info@arc-hss.ca
END:VEVENT
BEGIN:VEVENT
DTSTART;TZID=America/New_York:20241118T100000
DTEND;TZID=America/New_York:20241118T113000
DTSTAMP:20260423T015429
CREATED:20241031T191345Z
LAST-MODIFIED:20241031T191427Z
UID:10012845-1731924000-1731929400@arc-hss.ca
SUMMARY:Moms and Tots Playdate ~ St Jean
DESCRIPTION:Come and join where babies and their parents get together to participate in fun activities at our St Jean office. For more info please send an email to Celine at hrr@arc-hss.ca.
URL:https://arc-hss.ca/fr/event/moms-and-tots-playdate-st-jean/2024-11-18/
LOCATION:ARC St-Jean-sur-Richelieu Office\, 927-B Seminaire Blvd\, St-Jean-sur-Richelieu office\, Quebec\, J3A 1B5\, Canada
ATTACH;FMTTYPE=image/png:https://arc-hss.ca/wp-content/uploads/2024/10/Moms-tots-DONE-ADVto-do-online.png
ORGANIZER;CN="Assistance & Referral Centre (ARC)":MAILTO:info@arc-hss.ca
END:VEVENT
BEGIN:VEVENT
DTSTART;TZID=America/New_York:20241111T100000
DTEND;TZID=America/New_York:20241111T113000
DTSTAMP:20260423T015429
CREATED:20241031T191345Z
LAST-MODIFIED:20241031T191427Z
UID:10012844-1731319200-1731324600@arc-hss.ca
SUMMARY:Moms and Tots Playdate ~ St Jean
DESCRIPTION:Come and join where babies and their parents get together to participate in fun activities at our St Jean office. For more info please send an email to Celine at hrr@arc-hss.ca.
URL:https://arc-hss.ca/fr/event/moms-and-tots-playdate-st-jean/2024-11-11/
LOCATION:ARC St-Jean-sur-Richelieu Office\, 927-B Seminaire Blvd\, St-Jean-sur-Richelieu office\, Quebec\, J3A 1B5\, Canada
ATTACH;FMTTYPE=image/png:https://arc-hss.ca/wp-content/uploads/2024/10/Moms-tots-DONE-ADVto-do-online.png
ORGANIZER;CN="Assistance & Referral Centre (ARC)":MAILTO:info@arc-hss.ca
END:VEVENT
BEGIN:VEVENT
DTSTART;TZID=America/New_York:20241104T100000
DTEND;TZID=America/New_York:20241104T113000
DTSTAMP:20260423T015429
CREATED:20241031T191345Z
LAST-MODIFIED:20241031T191427Z
UID:10012843-1730714400-1730719800@arc-hss.ca
SUMMARY:Moms and Tots Playdate ~ St Jean
DESCRIPTION:Come and join where babies and their parents get together to participate in fun activities at our St Jean office. For more info please send an email to Celine at hrr@arc-hss.ca.
URL:https://arc-hss.ca/fr/event/moms-and-tots-playdate-st-jean/2024-11-04/
LOCATION:ARC St-Jean-sur-Richelieu Office\, 927-B Seminaire Blvd\, St-Jean-sur-Richelieu office\, Quebec\, J3A 1B5\, Canada
ATTACH;FMTTYPE=image/png:https://arc-hss.ca/wp-content/uploads/2024/10/Moms-tots-DONE-ADVto-do-online.png
ORGANIZER;CN="Assistance & Referral Centre (ARC)":MAILTO:info@arc-hss.ca
END:VEVENT
BEGIN:VEVENT
DTSTART;TZID=America/New_York:20240829T190000
DTEND;TZID=America/New_York:20240829T203000
DTSTAMP:20260423T015429
CREATED:20240821T144705Z
LAST-MODIFIED:20240821T144705Z
UID:10012679-1724958000-1724963400@arc-hss.ca
SUMMARY:Game night/Fun night ~ St Jean
DESCRIPTION:Come and roll\, shuffle and strategize for a fun filled game night.\nRegistration required by email at: stjean@arc-hss.ca or call (450) 357-0386
URL:https://arc-hss.ca/fr/event/game-night-fun-night-st-jean/
LOCATION:ARC St-Jean-sur-Richelieu Office\, 927-B Seminaire Blvd\, St-Jean-sur-Richelieu office\, Quebec\, J3A 1B5\, Canada
ATTACH;FMTTYPE=image/png:https://arc-hss.ca/wp-content/uploads/2024/08/Game-night-St-Jean-Sept-2024.png
ORGANIZER;CN="Assistance & Referral Centre (ARC)":MAILTO:info@arc-hss.ca
END:VEVENT
BEGIN:VEVENT
DTSTART;TZID=America/New_York:20240826T100000
DTEND;TZID=America/New_York:20240826T110000
DTSTAMP:20260423T015429
CREATED:20240715T163012Z
LAST-MODIFIED:20240722T134453Z
UID:10012395-1724666400-1724670000@arc-hss.ca
SUMMARY:Baby Yoga-St Jean
DESCRIPTION:Come and enjoy this opportunity for families and their newborns to get some exercise\, improve one’s strength\, balance\, flexibility and help achieve a state of relaxation and enhance one’s mood.
URL:https://arc-hss.ca/fr/event/baby-yoga-st-jean/2024-08-26/
LOCATION:ARC St-Jean-sur-Richelieu Office\, 927-B Seminaire Blvd\, St-Jean-sur-Richelieu office\, Quebec\, J3A 1B5\, Canada
ATTACH;FMTTYPE=image/png:https://arc-hss.ca/wp-content/uploads/2024/07/HRR-Baby-Yoga-2024-png.png
ORGANIZER;CN="Assistance & Referral Centre (ARC)":MAILTO:info@arc-hss.ca
END:VEVENT
BEGIN:VEVENT
DTSTART;TZID=America/New_York:20240819T100000
DTEND;TZID=America/New_York:20240819T110000
DTSTAMP:20260423T015429
CREATED:20240715T163012Z
LAST-MODIFIED:20240722T134453Z
UID:10012394-1724061600-1724065200@arc-hss.ca
SUMMARY:Baby Yoga-St Jean
DESCRIPTION:Come and enjoy this opportunity for families and their newborns to get some exercise\, improve one’s strength\, balance\, flexibility and help achieve a state of relaxation and enhance one’s mood.
URL:https://arc-hss.ca/fr/event/baby-yoga-st-jean/2024-08-19/
LOCATION:ARC St-Jean-sur-Richelieu Office\, 927-B Seminaire Blvd\, St-Jean-sur-Richelieu office\, Quebec\, J3A 1B5\, Canada
ATTACH;FMTTYPE=image/png:https://arc-hss.ca/wp-content/uploads/2024/07/HRR-Baby-Yoga-2024-png.png
ORGANIZER;CN="Assistance & Referral Centre (ARC)":MAILTO:info@arc-hss.ca
END:VEVENT
BEGIN:VEVENT
DTSTART;TZID=America/New_York:20240812T100000
DTEND;TZID=America/New_York:20240812T110000
DTSTAMP:20260423T015429
CREATED:20240715T163012Z
LAST-MODIFIED:20240722T134453Z
UID:10012393-1723456800-1723460400@arc-hss.ca
SUMMARY:Baby Yoga-St Jean
DESCRIPTION:Come and enjoy this opportunity for families and their newborns to get some exercise\, improve one’s strength\, balance\, flexibility and help achieve a state of relaxation and enhance one’s mood.
URL:https://arc-hss.ca/fr/event/baby-yoga-st-jean/2024-08-12/
LOCATION:ARC St-Jean-sur-Richelieu Office\, 927-B Seminaire Blvd\, St-Jean-sur-Richelieu office\, Quebec\, J3A 1B5\, Canada
ATTACH;FMTTYPE=image/png:https://arc-hss.ca/wp-content/uploads/2024/07/HRR-Baby-Yoga-2024-png.png
ORGANIZER;CN="Assistance & Referral Centre (ARC)":MAILTO:info@arc-hss.ca
END:VEVENT
BEGIN:VEVENT
DTSTART;TZID=America/New_York:20240805T100000
DTEND;TZID=America/New_York:20240805T110000
DTSTAMP:20260423T015429
CREATED:20240715T163012Z
LAST-MODIFIED:20240722T134453Z
UID:10012392-1722852000-1722855600@arc-hss.ca
SUMMARY:Baby Yoga-St Jean
DESCRIPTION:Come and enjoy this opportunity for families and their newborns to get some exercise\, improve one’s strength\, balance\, flexibility and help achieve a state of relaxation and enhance one’s mood.
URL:https://arc-hss.ca/fr/event/baby-yoga-st-jean/2024-08-05/
LOCATION:ARC St-Jean-sur-Richelieu Office\, 927-B Seminaire Blvd\, St-Jean-sur-Richelieu office\, Quebec\, J3A 1B5\, Canada
ATTACH;FMTTYPE=image/png:https://arc-hss.ca/wp-content/uploads/2024/07/HRR-Baby-Yoga-2024-png.png
ORGANIZER;CN="Assistance & Referral Centre (ARC)":MAILTO:info@arc-hss.ca
END:VEVENT
BEGIN:VEVENT
DTSTART;TZID=America/New_York:20231128T100000
DTEND;TZID=America/New_York:20231128T110000
DTSTAMP:20260423T015429
CREATED:20231010T181906Z
LAST-MODIFIED:20231010T181906Z
UID:10003491-1701165600-1701169200@arc-hss.ca
SUMMARY:Baby Tai Chi - St Jean
DESCRIPTION:Tai Chi can help to improve a child’s self-esteem\, confidence\, and physical strength.\nRegistration is required.
URL:https://arc-hss.ca/fr/event/baby-tai-chi-st-jean/2023-11-28/
LOCATION:ARC St-Jean-sur-Richelieu Office\, 927-B Seminaire Blvd\, St-Jean-sur-Richelieu office\, Quebec\, J3A 1B5\, Canada
ATTACH;FMTTYPE=image/png:https://arc-hss.ca/wp-content/uploads/2023/10/Poster-Baby-Tai-Chi-St-Jean.png
ORGANIZER;CN="Assistance & Referral Centre (ARC)":MAILTO:info@arc-hss.ca
END:VEVENT
BEGIN:VEVENT
DTSTART;TZID=America/New_York:20231121T100000
DTEND;TZID=America/New_York:20231121T110000
DTSTAMP:20260423T015429
CREATED:20231010T181906Z
LAST-MODIFIED:20231010T181906Z
UID:10003490-1700560800-1700564400@arc-hss.ca
SUMMARY:Baby Tai Chi - St Jean
DESCRIPTION:Tai Chi can help to improve a child’s self-esteem\, confidence\, and physical strength.\nRegistration is required.
URL:https://arc-hss.ca/fr/event/baby-tai-chi-st-jean/2023-11-21/
LOCATION:ARC St-Jean-sur-Richelieu Office\, 927-B Seminaire Blvd\, St-Jean-sur-Richelieu office\, Quebec\, J3A 1B5\, Canada
ATTACH;FMTTYPE=image/png:https://arc-hss.ca/wp-content/uploads/2023/10/Poster-Baby-Tai-Chi-St-Jean.png
ORGANIZER;CN="Assistance & Referral Centre (ARC)":MAILTO:info@arc-hss.ca
END:VEVENT
BEGIN:VEVENT
DTSTART;TZID=America/New_York:20231114T100000
DTEND;TZID=America/New_York:20231114T110000
DTSTAMP:20260423T015429
CREATED:20231010T181906Z
LAST-MODIFIED:20231010T181906Z
UID:10003489-1699956000-1699959600@arc-hss.ca
SUMMARY:Baby Tai Chi - St Jean
DESCRIPTION:Tai Chi can help to improve a child’s self-esteem\, confidence\, and physical strength.\nRegistration is required.
URL:https://arc-hss.ca/fr/event/baby-tai-chi-st-jean/2023-11-14/
LOCATION:ARC St-Jean-sur-Richelieu Office\, 927-B Seminaire Blvd\, St-Jean-sur-Richelieu office\, Quebec\, J3A 1B5\, Canada
ATTACH;FMTTYPE=image/png:https://arc-hss.ca/wp-content/uploads/2023/10/Poster-Baby-Tai-Chi-St-Jean.png
ORGANIZER;CN="Assistance & Referral Centre (ARC)":MAILTO:info@arc-hss.ca
END:VEVENT
BEGIN:VEVENT
DTSTART;TZID=America/New_York:20231107T100000
DTEND;TZID=America/New_York:20231107T110000
DTSTAMP:20260423T015429
CREATED:20231010T181906Z
LAST-MODIFIED:20231010T181906Z
UID:10003488-1699351200-1699354800@arc-hss.ca
SUMMARY:Baby Tai Chi - St Jean
DESCRIPTION:Tai Chi can help to improve a child’s self-esteem\, confidence\, and physical strength.\nRegistration is required.
URL:https://arc-hss.ca/fr/event/baby-tai-chi-st-jean/2023-11-07/
LOCATION:ARC St-Jean-sur-Richelieu Office\, 927-B Seminaire Blvd\, St-Jean-sur-Richelieu office\, Quebec\, J3A 1B5\, Canada
ATTACH;FMTTYPE=image/png:https://arc-hss.ca/wp-content/uploads/2023/10/Poster-Baby-Tai-Chi-St-Jean.png
ORGANIZER;CN="Assistance & Referral Centre (ARC)":MAILTO:info@arc-hss.ca
END:VEVENT
BEGIN:VEVENT
DTSTART;TZID=America/New_York:20230530T190000
DTEND;TZID=America/New_York:20230530T200000
DTSTAMP:20260423T015429
CREATED:20230429T202308Z
LAST-MODIFIED:20230429T202308Z
UID:10002887-1685473200-1685476800@arc-hss.ca
SUMMARY:Talking to Improve Wellbeing ( in-person + zoom)
DESCRIPTION:Join us for discussions about Schizophrenia with speaker Susan Laporte.
URL:https://arc-hss.ca/fr/event/talking-to-improve-wellbeing-in-person-zoom/
LOCATION:ARC St-Jean-sur-Richelieu Office\, 927-B Seminaire Blvd\, St-Jean-sur-Richelieu office\, Quebec\, J3A 1B5\, Canada
ATTACH;FMTTYPE=image/png:https://arc-hss.ca/wp-content/uploads/2023/04/Talking-to-Improve-Wellbeing-May-2023-.png
ORGANIZER;CN="Assistance & Referral Centre (ARC)":MAILTO:info@arc-hss.ca
END:VEVENT
BEGIN:VEVENT
DTSTART;TZID=America/New_York:20230429T100000
DTEND;TZID=America/New_York:20230429T163000
DTSTAMP:20260423T015429
CREATED:20230330T145458Z
LAST-MODIFIED:20230330T145458Z
UID:10002782-1682762400-1682785800@arc-hss.ca
SUMMARY:Write your story with comics !
DESCRIPTION:Free workshop for youths between 14-20\, hosted by Kate Lavut.
URL:https://arc-hss.ca/fr/event/write-your-story-with-comics/
LOCATION:ARC St-Jean-sur-Richelieu Office\, 927-B Seminaire Blvd\, St-Jean-sur-Richelieu office\, Quebec\, J3A 1B5\, Canada
ATTACH;FMTTYPE=image/png:https://arc-hss.ca/wp-content/uploads/2023/03/Comics-April-2023.png
ORGANIZER;CN="Assistance & Referral Centre (ARC)":MAILTO:info@arc-hss.ca
END:VEVENT
BEGIN:VEVENT
DTSTART;TZID=America/New_York:20230425T190000
DTEND;TZID=America/New_York:20230425T200000
DTSTAMP:20260423T015429
CREATED:20230413T173747Z
LAST-MODIFIED:20230413T173747Z
UID:10002794-1682449200-1682452800@arc-hss.ca
SUMMARY:Reflections of Postpartum Mental Health
DESCRIPTION:All are welcome for this helpful discussion given by guest speaker Therese Callahan.
URL:https://arc-hss.ca/fr/event/reflections-of-postpartum-mental-health/
LOCATION:ARC St-Jean-sur-Richelieu Office\, 927-B Seminaire Blvd\, St-Jean-sur-Richelieu office\, Quebec\, J3A 1B5\, Canada
ATTACH;FMTTYPE=image/png:https://arc-hss.ca/wp-content/uploads/2023/04/Talking-to-Improve-Wellbeing-Apr-25-2023.png
ORGANIZER;CN="Assistance & Referral Centre (ARC)":MAILTO:info@arc-hss.ca
END:VEVENT
BEGIN:VEVENT
DTSTART;TZID=America/New_York:20230425T100000
DTEND;TZID=America/New_York:20230425T110000
DTSTAMP:20260423T015429
CREATED:20230131T024021Z
LAST-MODIFIED:20230131T024101Z
UID:10001629-1682416800-1682420400@arc-hss.ca
SUMMARY:Baby Tai Chi
DESCRIPTION:Will be offered during the month of April at the St-Jean-sur-Richelieu office from 10:00-11:00 a.m. on Tuesdays. \nRegistration is required to reserve your spot at npi@arc-hss.ca.
URL:https://arc-hss.ca/fr/event/baby-tai-chi-4/
LOCATION:ARC St-Jean-sur-Richelieu Office\, 927-B Seminaire Blvd\, St-Jean-sur-Richelieu office\, Quebec\, J3A 1B5\, Canada
ATTACH;FMTTYPE=image/png:https://arc-hss.ca/wp-content/uploads/2023/01/Baby-Tai-Chi-1.png
ORGANIZER;CN="Assistance & Referral Centre (ARC)":MAILTO:info@arc-hss.ca
END:VEVENT
BEGIN:VEVENT
DTSTART;TZID=America/New_York:20230418T100000
DTEND;TZID=America/New_York:20230418T110000
DTSTAMP:20260423T015429
CREATED:20230131T023704Z
LAST-MODIFIED:20230131T023845Z
UID:10001625-1681812000-1681815600@arc-hss.ca
SUMMARY:Baby Tai Chi
DESCRIPTION:Will be offered during the month of April at the St-Jean-sur-Richelieu office from 10:00-11:00 a.m. on Tuesdays. \nRegistration is required to reserve your spot at npi@arc-hss.ca.
URL:https://arc-hss.ca/fr/event/baby-tai-chi-3/
LOCATION:ARC St-Jean-sur-Richelieu Office\, 927-B Seminaire Blvd\, St-Jean-sur-Richelieu office\, Quebec\, J3A 1B5\, Canada
ATTACH;FMTTYPE=image/png:https://arc-hss.ca/wp-content/uploads/2023/01/Baby-Tai-Chi-1.png
ORGANIZER;CN="Assistance & Referral Centre (ARC)":MAILTO:info@arc-hss.ca
END:VEVENT
BEGIN:VEVENT
DTSTART;TZID=America/New_York:20230411T100000
DTEND;TZID=America/New_York:20230411T110000
DTSTAMP:20260423T015429
CREATED:20230131T023639Z
LAST-MODIFIED:20230131T023850Z
UID:10001626-1681207200-1681210800@arc-hss.ca
SUMMARY:Baby Tai Chi
DESCRIPTION:Will be offered during the month of April at the St-Jean-sur-Richelieu office from 10:00-11:00 a.m. on Tuesdays. \nRegistration is required to reserve your spot at npi@arc-hss.ca.
URL:https://arc-hss.ca/fr/event/baby-tai-chi-2/
LOCATION:ARC St-Jean-sur-Richelieu Office\, 927-B Seminaire Blvd\, St-Jean-sur-Richelieu office\, Quebec\, J3A 1B5\, Canada
ATTACH;FMTTYPE=image/png:https://arc-hss.ca/wp-content/uploads/2023/01/Baby-Tai-Chi-1.png
ORGANIZER;CN="Assistance & Referral Centre (ARC)":MAILTO:info@arc-hss.ca
END:VEVENT
BEGIN:VEVENT
DTSTART;TZID=America/New_York:20230404T100000
DTEND;TZID=America/New_York:20230404T110000
DTSTAMP:20260423T015429
CREATED:20230131T023612Z
LAST-MODIFIED:20230131T023852Z
UID:10001627-1680602400-1680606000@arc-hss.ca
SUMMARY:Baby Tai Chi
DESCRIPTION:Will be offered during the month of April at the St-Jean-sur-Richelieu office from 10:00-11:00 a.m. on Tuesdays. \nRegistration is required to reserve your spot at npi@arc-hss.ca.
URL:https://arc-hss.ca/fr/event/baby-tai-chi/
LOCATION:ARC St-Jean-sur-Richelieu Office\, 927-B Seminaire Blvd\, St-Jean-sur-Richelieu office\, Quebec\, J3A 1B5\, Canada
ATTACH;FMTTYPE=image/png:https://arc-hss.ca/wp-content/uploads/2023/01/Baby-Tai-Chi-1.png
ORGANIZER;CN="Assistance & Referral Centre (ARC)":MAILTO:info@arc-hss.ca
END:VEVENT
BEGIN:VEVENT
DTSTART;TZID=America/New_York:20230328T190000
DTEND;TZID=America/New_York:20230328T200000
DTSTAMP:20260423T015429
CREATED:20230301T154349Z
LAST-MODIFIED:20230301T154349Z
UID:10002224-1680030000-1680033600@arc-hss.ca
SUMMARY:Talking to Improve Wellbeing
DESCRIPTION:Our topic will be Insights on Postpartum Mood Disorders\, with guest speaker Therese Callahan\, our Outreach Coordinator from Greenfield Park. Register by contacting npi@arc-hss.ca or (450) 525-1176.
URL:https://arc-hss.ca/fr/event/talking-to-improve-wellbeing/
LOCATION:ARC St-Jean-sur-Richelieu Office\, 927-B Seminaire Blvd\, St-Jean-sur-Richelieu office\, Quebec\, J3A 1B5\, Canada
ATTACH;FMTTYPE=image/png:https://arc-hss.ca/wp-content/uploads/2023/03/Talking-March-2023.png
ORGANIZER;CN="Assistance & Referral Centre (ARC)":MAILTO:info@arc-hss.ca
END:VEVENT
END:VCALENDAR