BEGIN:VCALENDAR
VERSION:2.0
PRODID:-//ARC - ECPv6.15.20//NONSGML v1.0//EN
CALSCALE:GREGORIAN
METHOD:PUBLISH
X-WR-CALNAME:ARC
X-ORIGINAL-URL:https://arc-hss.ca
X-WR-CALDESC:Events for ARC
REFRESH-INTERVAL;VALUE=DURATION:PT1H
X-Robots-Tag:noindex
X-PUBLISHED-TTL:PT1H
BEGIN:VTIMEZONE
TZID:America/New_York
BEGIN:DAYLIGHT
TZOFFSETFROM:-0500
TZOFFSETTO:-0400
TZNAME:EDT
DTSTART:20230312T070000
END:DAYLIGHT
BEGIN:STANDARD
TZOFFSETFROM:-0400
TZOFFSETTO:-0500
TZNAME:EST
DTSTART:20231105T060000
END:STANDARD
BEGIN:DAYLIGHT
TZOFFSETFROM:-0500
TZOFFSETTO:-0400
TZNAME:EDT
DTSTART:20240310T070000
END:DAYLIGHT
BEGIN:STANDARD
TZOFFSETFROM:-0400
TZOFFSETTO:-0500
TZNAME:EST
DTSTART:20241103T060000
END:STANDARD
BEGIN:DAYLIGHT
TZOFFSETFROM:-0500
TZOFFSETTO:-0400
TZNAME:EDT
DTSTART:20250309T070000
END:DAYLIGHT
BEGIN:STANDARD
TZOFFSETFROM:-0400
TZOFFSETTO:-0500
TZNAME:EST
DTSTART:20251102T060000
END:STANDARD
END:VTIMEZONE
BEGIN:VEVENT
DTSTART;TZID=America/New_York:20241023T100000
DTEND;TZID=America/New_York:20241023T120000
DTSTAMP:20260421T215024
CREATED:20240930T154440Z
LAST-MODIFIED:20241031T190137Z
UID:10012783-1729677600-1729684800@arc-hss.ca
SUMMARY:Coffee Talks ~ Parents & Child ~ Lacolle
DESCRIPTION:Come and join us every Wednesday from 10:00 am -12:00 pm at 10 Ste Marie Street in Lacolle\, to chit chat about parenting\, with or without your children. From Oct 2 – Dec 4\, 2024. No registration required\, and transportation is available upon request.  For more info. call Celine at (514) 980-8900
URL:https://arc-hss.ca/event/coffee-talks-parents-child-lacolle/2024-10-23/
LOCATION:Lacolle\, 10 Ste-Marie\, Lacolle\, Quebec\, J0J 1J0\, Canada
ATTACH;FMTTYPE=image/png:https://arc-hss.ca/wp-content/uploads/2024/09/Coffee-talks-parent-child-lacolle-oct-dec.png
ORGANIZER;CN="Assistance & Referral Centre (ARC)":MAILTO:info@arc-hss.ca
END:VEVENT
BEGIN:VEVENT
DTSTART;TZID=America/New_York:20241016T183000
DTEND;TZID=America/New_York:20241016T200000
DTSTAMP:20260421T215025
CREATED:20240930T165947Z
LAST-MODIFIED:20240930T165947Z
UID:10012826-1729103400-1729108800@arc-hss.ca
SUMMARY:Cribbage Night ~ GPK **FULL**
DESCRIPTION:Join us for an evening of cribbage\, laughter and fun from 6:30-8:00 p.m.\nRegistration required.
URL:https://arc-hss.ca/event/cribbage-night-gpk-full/
LOCATION:ARC Activity Center\, 91 Churchill Blvd\, Greenfield Park\, Quebec\, Canada
ORGANIZER;CN="Assistance & Referral Centre (ARC)":MAILTO:info@arc-hss.ca
END:VEVENT
BEGIN:VEVENT
DTSTART;TZID=America/New_York:20241016T100000
DTEND;TZID=America/New_York:20241016T120000
DTSTAMP:20260421T215025
CREATED:20240930T154440Z
LAST-MODIFIED:20241031T190137Z
UID:10012782-1729072800-1729080000@arc-hss.ca
SUMMARY:Coffee Talks ~ Parents & Child ~ Lacolle
DESCRIPTION:Come and join us every Wednesday from 10:00 am -12:00 pm at 10 Ste Marie Street in Lacolle\, to chit chat about parenting\, with or without your children. From Oct 2 – Dec 4\, 2024. No registration required\, and transportation is available upon request.  For more info. call Celine at (514) 980-8900
URL:https://arc-hss.ca/event/coffee-talks-parents-child-lacolle/2024-10-16/
LOCATION:Lacolle\, 10 Ste-Marie\, Lacolle\, Quebec\, J0J 1J0\, Canada
ATTACH;FMTTYPE=image/png:https://arc-hss.ca/wp-content/uploads/2024/09/Coffee-talks-parent-child-lacolle-oct-dec.png
ORGANIZER;CN="Assistance & Referral Centre (ARC)":MAILTO:info@arc-hss.ca
END:VEVENT
BEGIN:VEVENT
DTSTART;TZID=America/New_York:20241009T100000
DTEND;TZID=America/New_York:20241009T120000
DTSTAMP:20260421T215025
CREATED:20240930T154440Z
LAST-MODIFIED:20241031T190137Z
UID:10012781-1728468000-1728475200@arc-hss.ca
SUMMARY:Coffee Talks ~ Parents & Child ~ Lacolle
DESCRIPTION:Come and join us every Wednesday from 10:00 am -12:00 pm at 10 Ste Marie Street in Lacolle\, to chit chat about parenting\, with or without your children. From Oct 2 – Dec 4\, 2024. No registration required\, and transportation is available upon request.  For more info. call Celine at (514) 980-8900
URL:https://arc-hss.ca/event/coffee-talks-parents-child-lacolle/2024-10-09/
LOCATION:Lacolle\, 10 Ste-Marie\, Lacolle\, Quebec\, J0J 1J0\, Canada
ATTACH;FMTTYPE=image/png:https://arc-hss.ca/wp-content/uploads/2024/09/Coffee-talks-parent-child-lacolle-oct-dec.png
ORGANIZER;CN="Assistance & Referral Centre (ARC)":MAILTO:info@arc-hss.ca
END:VEVENT
BEGIN:VEVENT
DTSTART;TZID=America/New_York:20241002T100000
DTEND;TZID=America/New_York:20241002T120000
DTSTAMP:20260421T215025
CREATED:20240930T154440Z
LAST-MODIFIED:20241031T190137Z
UID:10012780-1727863200-1727870400@arc-hss.ca
SUMMARY:Coffee Talks ~ Parents & Child ~ Lacolle
DESCRIPTION:Come and join us every Wednesday from 10:00 am -12:00 pm at 10 Ste Marie Street in Lacolle\, to chit chat about parenting\, with or without your children. From Oct 2 – Dec 4\, 2024. No registration required\, and transportation is available upon request.  For more info. call Celine at (514) 980-8900
URL:https://arc-hss.ca/event/coffee-talks-parents-child-lacolle/2024-10-02/
LOCATION:Lacolle\, 10 Ste-Marie\, Lacolle\, Quebec\, J0J 1J0\, Canada
ATTACH;FMTTYPE=image/png:https://arc-hss.ca/wp-content/uploads/2024/09/Coffee-talks-parent-child-lacolle-oct-dec.png
ORGANIZER;CN="Assistance & Referral Centre (ARC)":MAILTO:info@arc-hss.ca
END:VEVENT
END:VCALENDAR