BEGIN:VCALENDAR
VERSION:2.0
PRODID:-//ARC - ECPv6.15.20//NONSGML v1.0//EN
CALSCALE:GREGORIAN
METHOD:PUBLISH
X-ORIGINAL-URL:https://arc-hss.ca
X-WR-CALDESC:Events for ARC
REFRESH-INTERVAL;VALUE=DURATION:PT1H
X-Robots-Tag:noindex
X-PUBLISHED-TTL:PT1H
BEGIN:VTIMEZONE
TZID:America/New_York
BEGIN:DAYLIGHT
TZOFFSETFROM:-0500
TZOFFSETTO:-0400
TZNAME:EDT
DTSTART:20250309T070000
END:DAYLIGHT
BEGIN:STANDARD
TZOFFSETFROM:-0400
TZOFFSETTO:-0500
TZNAME:EST
DTSTART:20251102T060000
END:STANDARD
BEGIN:DAYLIGHT
TZOFFSETFROM:-0500
TZOFFSETTO:-0400
TZNAME:EDT
DTSTART:20260308T070000
END:DAYLIGHT
BEGIN:STANDARD
TZOFFSETFROM:-0400
TZOFFSETTO:-0500
TZNAME:EST
DTSTART:20261101T060000
END:STANDARD
BEGIN:DAYLIGHT
TZOFFSETFROM:-0500
TZOFFSETTO:-0400
TZNAME:EDT
DTSTART:20270314T070000
END:DAYLIGHT
BEGIN:STANDARD
TZOFFSETFROM:-0400
TZOFFSETTO:-0500
TZNAME:EST
DTSTART:20271107T060000
END:STANDARD
END:VTIMEZONE
BEGIN:VEVENT
DTSTART;TZID=America/New_York:20260422T100000
DTEND;TZID=America/New_York:20260422T233000
DTSTAMP:20260421T101521
CREATED:20250829T172904Z
LAST-MODIFIED:20260331T171704Z
UID:10020818-1776852000-1776900600@arc-hss.ca
SUMMARY:Caregivers Café ~ GPK
DESCRIPTION:Join our weekly group at 91 Churchill Blvd. in Greenfield Park\, designed to support family caregivers. It’s a welcoming space to explore health topics\, connect with others\, and build meaningful relationships. \nApril 22: Special Guest Presentation: Claire Webster – McGill Dementia Education Program ARC and Seniors Respite Montérégie are thrilled to welcome Claire Webster to a special edition of the Café. Claire brings both professional expertise and lived experience as a former caregiver to her mother with Alzheimer’s. She has co-edited Alzheimer’s Disease International’s World Alzheimer Reports\, created the webcast series McGill Cares\, and served as a senior co-author for McGill’s Dementia: Your Companion Guide\, helping make it a practical resource for families and caregivers. A sought-after speaker and educator\, Claire offers trusted insights on caring for individuals with dementia and supporting their families. \nThis group is open to former caregivers too! For more information contact Christine at caregivers@arc-hss.ca or (514) 608-9600.
URL:https://arc-hss.ca/event/caregivers-cafe-gpk/
LOCATION:ARC Activity Center\, 91 Churchill Blvd\, Greenfield Park\, Quebec\, Canada
ATTACH;FMTTYPE=image/png:https://arc-hss.ca/wp-content/uploads/2026/01/Graphic-Caregiver-Cafe-April-DONE.png
ORGANIZER;CN="Assistance & Referral Centre (ARC)":MAILTO:info@arc-hss.ca
END:VEVENT
BEGIN:VEVENT
DTSTART;TZID=America/New_York:20260422T133000
DTEND;TZID=America/New_York:20260422T150000
DTSTAMP:20260421T101521
CREATED:20250829T182237Z
LAST-MODIFIED:20260331T183436Z
UID:10020828-1776864600-1776870000@arc-hss.ca
SUMMARY:ARC 55+ Community ~ Clarenceville
DESCRIPTION:Join us every Wednesday for engaging activities designed to support the physical\, cognitive and emotional well-being of English-speaking seniors aged 55 and over. \nApril 22: Crafting spring door wreaths – This workshop\, originally planned for March but postponed due to weather\, invites you to welcome spring with a relaxed and creative session\, making a seasonal wreath to brighten your home. All materials will be provided. \nNote: Due to ongoing construction at the community centre\, this month’s sessions will take place at the Free Methodist Church (1076 Front Street North\, Clarenceville). For more information or to register\, please contact Céline at hrr@arc-hss.ca or (514) 980-8900.
URL:https://arc-hss.ca/event/arc-55-community-clarenceville-2/
LOCATION:Free Methodist Church – Clarenceville\, 1076 Front St. North\, Saint-Georges-de-Clarenceville\, QC\, J0J 1B0\, Canada
ORGANIZER;CN="Assistance & Referral Centre (ARC)":MAILTO:info@arc-hss.ca
END:VEVENT
BEGIN:VEVENT
DTSTART;TZID=America/New_York:20260422T133000
DTEND;TZID=America/New_York:20260422T150000
DTSTAMP:20260421T101521
CREATED:20260107T174206Z
LAST-MODIFIED:20260331T181957Z
UID:10021259-1776864600-1776870000@arc-hss.ca
SUMMARY:ARC 55+ Community ~ Chambly
DESCRIPTION:Join us on Wednesdays from 1:30 to 3:00 p.m. for engaging weekly activities designed to stimulate your mind\, body\, and creativity! \nApril 22: Spring Birds Talk – Spring is on its way\, and so are the birds! Join us as expert Sheldon Harvey shares fascinating insights about spring and summer birds. \nFor more information or to register\, please email Tania at gpk@arc-hss.ca or call (514) 213-3744.
URL:https://arc-hss.ca/event/arc-55-community-chambly/
LOCATION:Randell Hall\, 2000 Av. Bourgogne\, Chambly\, QC\, QC J3L 1Z4\, Canada
ATTACH;FMTTYPE=image/png:https://arc-hss.ca/wp-content/uploads/2024/01/Insta-ARC-55-SWI-NEWAPRIL-2024.png
ORGANIZER;CN="Assistance & Referral Centre (ARC)":MAILTO:info@arc-hss.ca
END:VEVENT
END:VCALENDAR