BEGIN:VCALENDAR
VERSION:2.0
PRODID:-//ARC - ECPv6.15.20//NONSGML v1.0//EN
CALSCALE:GREGORIAN
METHOD:PUBLISH
X-ORIGINAL-URL:https://arc-hss.ca
X-WR-CALDESC:Events for ARC
REFRESH-INTERVAL;VALUE=DURATION:PT1H
X-Robots-Tag:noindex
X-PUBLISHED-TTL:PT1H
BEGIN:VTIMEZONE
TZID:America/New_York
BEGIN:DAYLIGHT
TZOFFSETFROM:-0500
TZOFFSETTO:-0400
TZNAME:EDT
DTSTART:20250309T070000
END:DAYLIGHT
BEGIN:STANDARD
TZOFFSETFROM:-0400
TZOFFSETTO:-0500
TZNAME:EST
DTSTART:20251102T060000
END:STANDARD
BEGIN:DAYLIGHT
TZOFFSETFROM:-0500
TZOFFSETTO:-0400
TZNAME:EDT
DTSTART:20260308T070000
END:DAYLIGHT
BEGIN:STANDARD
TZOFFSETFROM:-0400
TZOFFSETTO:-0500
TZNAME:EST
DTSTART:20261101T060000
END:STANDARD
BEGIN:DAYLIGHT
TZOFFSETFROM:-0500
TZOFFSETTO:-0400
TZNAME:EDT
DTSTART:20270314T070000
END:DAYLIGHT
BEGIN:STANDARD
TZOFFSETFROM:-0400
TZOFFSETTO:-0500
TZNAME:EST
DTSTART:20271107T060000
END:STANDARD
END:VTIMEZONE
BEGIN:VEVENT
DTSTART;TZID=America/New_York:20260413T103000
DTEND;TZID=America/New_York:20260413T233000
DTSTAMP:20260421T094956
CREATED:20260106T211414Z
LAST-MODIFIED:20260327T194811Z
UID:10021445-1776076200-1776123000@arc-hss.ca
SUMMARY:French Conversation Group ~ GPK
DESCRIPTION:Looking to improve your French in a relaxed\, supportive setting? Join our weekly French Conversation Group every Monday from 10:30 to 11:30 a.m. Practice speaking\, build confidence and connect with others on the same journey. For more information or to register\, contact Courtney at info@arc-hss.ca
URL:https://arc-hss.ca/event/french-conversation-group-gpk-2-2/2026-04-13/
LOCATION:ARC Activity Center\, 91 Churchill Blvd\, Greenfield Park\, Quebec\, Canada
ATTACH;FMTTYPE=image/png:https://arc-hss.ca/wp-content/uploads/2026/01/FrenchGPK.png
ORGANIZER;CN="Assistance & Referral Centre (ARC)":MAILTO:info@arc-hss.ca
END:VEVENT
BEGIN:VEVENT
DTSTART;TZID=America/New_York:20260413T130000
DTEND;TZID=America/New_York:20260413T143000
DTSTAMP:20260421T094956
CREATED:20260126T203421Z
LAST-MODIFIED:20260327T174252Z
UID:10021452-1776085200-1776090600@arc-hss.ca
SUMMARY:Rock Painting Workshop ~ GPK
DESCRIPTION:Relax\, Rejuvenate\, and De-Stress with Us. Looking for a fun\, creative activity to unwind? Join us for a relaxing and inspiring rock painting session! It’s the perfect way to escape the daily hustle\, tap into your creative side\, and leave your stress behind. Whether you’re an experienced artist or just looking to try something new\, our rock painting group is open to everyone! We provide all the supplies\, so all you need to bring is your imagination and a desire to create. \nFor more information\, call Therese at (514)605-9500 or send an email to outreachgpk@arc-hss.ca
URL:https://arc-hss.ca/event/rock-painting-workshop-gpk-2-2/2026-04-13/
LOCATION:ARC Activity Center\, 91 Churchill Blvd\, Greenfield Park\, Quebec\, Canada
ATTACH;FMTTYPE=image/png:https://arc-hss.ca/wp-content/uploads/2023/09/Rock-painting.png
ORGANIZER;CN="Assistance & Referral Centre (ARC)":MAILTO:info@arc-hss.ca
END:VEVENT
BEGIN:VEVENT
DTSTART;TZID=America/New_York:20260413T140000
DTEND;TZID=America/New_York:20260413T153000
DTSTAMP:20260421T094956
CREATED:20260223T210011Z
LAST-MODIFIED:20260327T193052Z
UID:10021428-1776088800-1776094200@arc-hss.ca
SUMMARY:Ilana’s Virtual Drawing Class ~ ZOOM
DESCRIPTION:Discover your creative side with our welcoming art group! Come draw and paint alongside fellow artists in a relaxed\, supportive environment. All skill levels are encouraged to join\, whether you are just starting out or have years of experience. Create\, connect\, and get inspired together. Everyone is welcome! To register for the Zoom class\, email info@arc-hss.ca
URL:https://arc-hss.ca/event/ilanas-virtual-drawing-class-zoom-2-2-2/2026-04-13/
LOCATION:Zoom
ATTACH;FMTTYPE=image/png:https://arc-hss.ca/wp-content/uploads/2026/02/Ilanas-Drawing-In-person-April.png
ORGANIZER;CN="Assistance & Referral Centre (ARC)":MAILTO:info@arc-hss.ca
END:VEVENT
END:VCALENDAR