BEGIN:VCALENDAR
VERSION:2.0
PRODID:-//ARC - ECPv6.15.20//NONSGML v1.0//EN
CALSCALE:GREGORIAN
METHOD:PUBLISH
X-WR-CALNAME:ARC
X-ORIGINAL-URL:https://arc-hss.ca
X-WR-CALDESC:Events for ARC
REFRESH-INTERVAL;VALUE=DURATION:PT1H
X-Robots-Tag:noindex
X-PUBLISHED-TTL:PT1H
BEGIN:VTIMEZONE
TZID:America/New_York
BEGIN:DAYLIGHT
TZOFFSETFROM:-0500
TZOFFSETTO:-0400
TZNAME:EDT
DTSTART:20250309T070000
END:DAYLIGHT
BEGIN:STANDARD
TZOFFSETFROM:-0400
TZOFFSETTO:-0500
TZNAME:EST
DTSTART:20251102T060000
END:STANDARD
BEGIN:DAYLIGHT
TZOFFSETFROM:-0500
TZOFFSETTO:-0400
TZNAME:EDT
DTSTART:20260308T070000
END:DAYLIGHT
BEGIN:STANDARD
TZOFFSETFROM:-0400
TZOFFSETTO:-0500
TZNAME:EST
DTSTART:20261101T060000
END:STANDARD
BEGIN:DAYLIGHT
TZOFFSETFROM:-0500
TZOFFSETTO:-0400
TZNAME:EDT
DTSTART:20270314T070000
END:DAYLIGHT
BEGIN:STANDARD
TZOFFSETFROM:-0400
TZOFFSETTO:-0500
TZNAME:EST
DTSTART:20271107T060000
END:STANDARD
END:VTIMEZONE
BEGIN:VEVENT
DTSTART;TZID=America/New_York:20260407T130000
DTEND;TZID=America/New_York:20260407T150000
DTSTAMP:20260421T094728
CREATED:20250828T194410Z
LAST-MODIFIED:20260327T203235Z
UID:10020545-1775566800-1775574000@arc-hss.ca
SUMMARY:Genealogy Club ~ GPK
DESCRIPTION:Ancestor Hunters Genealogy Club welcomes both experienced genealogists and beginners. Participants can learn to navigate archival resources and share research challenges with others. All experience levels are welcome. Join the group on April 7 from 1:00 to 3:00 p.m. at 91 Churchill Blvd.\, Greenfield Park. \nTo for more information or to register\, contact Tania at gpk@arc-hss.ca or call (514) 213-3744.
URL:https://arc-hss.ca/event/genealogy-club-gpk/
LOCATION:ARC Activity Center\, 91 Churchill Blvd\, Greenfield Park\, Quebec\, Canada
ATTACH;FMTTYPE=image/png:https://arc-hss.ca/wp-content/uploads/2025/08/Graphic-Genealogy-Club.png
ORGANIZER;CN="Assistance & Referral Centre (ARC)":MAILTO:info@arc-hss.ca
END:VEVENT
END:VCALENDAR